PDS_VERSION_ID = PDS3
/* FILE DATA ELEMENTS */
RECORD_TYPE = UNDEFINED
/* POINTERS TO DATA OBJECTS */
^IMAGE = ("HO297_0000_BL4.TIF")
/* IDENTIFICATION DATA ELEMENTS */
DATA_SET_ID = "MEX-M-HRSC-4-REFDR-MAPPROJECT-EXT9-V4.0"
DATA_SET_NAME = "MARS EXPRESS HRSC MAP PROJECTED REFDR EXTENSION9 V4.0"
DETECTOR_ID = MEX_HRSC_BLUE
EVENT_TYPE = "MARS-REGIONAL-MAPPING-Im-Gl-Pf"
INSTRUMENT_HOST_ID = MEX
INSTRUMENT_HOST_NAME = "MARS EXPRESS"
INSTRUMENT_ID = HRSC
INSTRUMENT_NAME = "HIGH RESOLUTION STEREO CAMERA"
MISSION_NAME = "MARS EXPRESS"
MISSION_PHASE_NAME = ME_Phase_47
PROCESSING_LEVEL_ID = 4
PRODUCT_CREATION_TIME = 2023-11-15T01:26:02.000Z
PRODUCT_ID = "HO297_0000_BL4.TIF"
RELEASE_ID = 0003
REVISION_ID = 0000
/* QUALITY DATA ELEMENTS */
DATA_QUALITY_ID = 1
DATA_QUALITY_DESC = "Data calculated based on original SPICE kernels"
/* TIME DATA ELEMENTS */
SPACECRAFT_CLOCK_START_COUNT = "1/0628159907.25706"
SPACECRAFT_CLOCK_STOP_COUNT = "1/0628160318.07086"
START_TIME = 2023-03-29T08:53:12.898Z
STOP_TIME = 2023-03-29T08:58:39.503Z
/* ORBITAL DATA ELEMENTS */
ASCENDING_NODE_LONGITUDE = 122.23
MAXIMUM_RESOLUTION = 0.0643
FOOTPRINT_POINT_LATITUDE = (74.8085,74.7467,74.6634,74.5597, 74.5568,74.5707,73.9327,73.5154,73.0971 ,72.6778,72.2576,71.841,71.43,71.0183, 70.606,70.1931,69.7795,69.3682,68.9645, 68.5603,68.1558,67.7509,67.3455,66.9398 ,66.3307,65.9243,65.5176,65.1107,64.5, 64.0926,63.4813,63.0735,62.4618,62.0539 ,61.646,61.238,60.6264,60.0142,59.4025, 58.9948,58.5871,57.9761,57.5688,56.7548 ,55.9417,55.1295,54.3184,54.1158, 54.0463,54.0728,54.0939,54.1149,54.1153 ,54.1165,54.9304,55.7455,56.1535, 56.5618,56.9704,57.3792,57.7883,58.1975 ,58.607,59.0167,59.4266,60.0415,60.4516 ,60.8619,61.2723,61.6828,62.0933,62.504 ,62.9146,63.5305,63.9411,64.3517, 64.9676,65.5831,65.9935,66.4036,67.0187 ,67.4286,67.8382,68.2476,68.6569, 69.0659,69.4746,70.0992,70.5182,70.937, 71.3554,71.7734,72.1909,72.8322,73.2597 ,73.6866,74.113,74.5458,74.7639, 74.8085)
FOOTPRINT_POINT_LONGITUDE = (71.8062,70.1728,68.3528,66.4531, 66.4035,66.223,66.7697,67.1004,67.4148, 67.713,67.9956,68.2607,68.5099,68.7466, 68.9725,69.1878,69.3931,69.588,69.7708, 69.9457,70.1128,70.273,70.4268,70.5742, 70.784,70.9168,71.0445,71.1673,71.3417, 71.4525,71.6108,71.7115,71.8547,71.9458 ,72.0335,72.118,72.2374,72.3524,72.4599 ,72.5283,72.5943,72.6879,72.7481, 72.8612,72.9658,73.0629,73.1526,73.1741 ,73.1813,73.9339,74.6658,75.6052, 75.6282,75.6357,75.583,75.5267,75.4972, 75.4667,75.4354,75.4031,75.3696,75.335, 75.2994,75.2627,75.2248,75.1652,75.1236 ,75.0809,75.0366,74.9909,74.9436, 74.8946,74.844,74.7643,74.7087,74.6512, 74.5608,74.4649,74.3981,74.3285,74.2194 ,74.1426,74.0628,73.9795,73.8929, 73.8027,73.708,73.5557,73.4474,73.3342, 73.2153,73.0908,72.9596,72.7455,72.5932 ,72.4322,72.2622,72.0792,71.9828, 71.8062)
ORBIT_NUMBER = 24297
ORBITAL_ECCENTRICITY = 0.569
ORBITAL_INCLINATION = 87.08
ORBITAL_SEMIMAJOR_AXIS = 8778.13
PERIAPSIS_ALTITUDE = 399.61
PERIAPSIS_ARGUMENT_ANGLE = 118.13
PERIAPSIS_TIME = 2023-03-29T08:56:32.000Z
SPACECRAFT_ORIENTATION = (0.0,-1.0,0.0)
^MEX_ORIENTATION_DESC = "MEX_ORIENTATION_DESC.TXT"
SPACECRAFT_POINTING_MODE = NADIR
^MEX_POINTING_DESC = "MEX_POINTING_DESC.TXT"
RIGHT_ASCENSION = -1e+32
DECLINATION = -1e+32
OFFSET_ANGLE = -1e+32
SPACECRAFT_SOLAR_DISTANCE = 2.46357e+08
TARGET_NAME = MARS
/* CAMERA DATA ELEMENTS */
DETECTOR_TEMPERATURE = 18.1666
FOCAL_PLANE_TEMPERATURE = 8.5833
INST_CMPRS_NAME = "DISCRETE COSINE TRANSFORMATION (DCT)"
INST_CMPRS_RATIO = 5.72763
INST_CMPRS_QUALITY = 0
INST_CMPRS_QUANTZ_TBL_ID = 0
INSTRUMENT_TEMPERATURE = 11.4379
LENS_TEMPERATURE = 8.9911
MACROPIXEL_SIZE = 4
MISSING_FRAMES = 0
PIXEL_SUBSAMPLING_FLAG = N
SIGNAL_CHAIN_ID = 2
/* RADIOMETRIC DATA ELEMENTS */
BANDWIDTH = 76.0
CENTER_FILTER_WAVELENGTH = 444.0
RADIANCE_OFFSET = 0.548565
RADIANCE_SCALING_FACTOR = 0.00133918
REFLECTANCE_SCALING_FACTOR = 8.35074e-05
MEX:REFLECTANCE_OFFSET = 0.0342069
/* IMAGE OBJECT DEFINITIONS */
OBJECT = IMAGE
  INTERCHANGE_FORMAT = BINARY
  LINES = 24644
  LINE_SAMPLES = 3982
  SAMPLE_TYPE = UNSIGNED_INTEGER
  SAMPLE_BITS = 8
  BANDS = 1
  BAND_STORAGE_TYPE = BAND_SEQUENTIAL
  MAXIMUM = 255
  MEAN = 143.147
  MINIMUM = 1
  STANDARD_DEVIATION = 88.4607
END_OBJECT = IMAGE
/* MAP OBJECT DEFINITIONS */
OBJECT = IMAGE_MAP_PROJECTION
  ^DATA_SET_MAP_PROJECTION_CATALOG= "DSMAP.CAT"
  A_AXIS_RADIUS = 3396.0
  B_AXIS_RADIUS = 3396.0
  C_AXIS_RADIUS = 3396.0
  CENTER_LATITUDE = 0.0
  CENTER_LONGITUDE = 73.0
  COORDINATE_SYSTEM_NAME = PLANETOGRAPHIC
  COORDINATE_SYSTEM_TYPE = "BODY-FIXED ROTATING"
  EASTERNMOST_LONGITUDE = 75.6357
  FIRST_STANDARD_PARALLEL = "N/A"
  LINE_FIRST_PIXEL = 1
  LINE_LAST_PIXEL = 24644
  LINE_PROJECTION_OFFSET = 88714.375
  MAP_PROJECTION_ROTATION = 0.0
  MAP_PROJECTION_TYPE = SINUSOIDAL
  MAP_RESOLUTION = 1185.42760773333
  MAP_SCALE = 0.05
  MAXIMUM_LATITUDE = 74.8085
  MINIMUM_LATITUDE = 54.0463
  POSITIVE_LONGITUDE_DIRECTION = EAST
  REFERENCE_LATITUDE = "N/A"
  REFERENCE_LONGITUDE = "N/A"
  SAMPLE_FIRST_PIXEL = 1
  SAMPLE_LAST_PIXEL = 3982
  SAMPLE_PROJECTION_OFFSET = 2153.375
  SECOND_STANDARD_PARALLEL = "N/A"
  WESTERNMOST_LONGITUDE = 66.223
END_OBJECT = IMAGE_MAP_PROJECTION
END
