PDS_VERSION_ID = PDS3
/* FILE DATA ELEMENTS */
RECORD_TYPE = UNDEFINED
/* POINTERS TO DATA OBJECTS */
^IMAGE = ("HO292_0000_BL4.TIF")
/* IDENTIFICATION DATA ELEMENTS */
DATA_SET_ID = "MEX-M-HRSC-4-REFDR-MAPPROJECT-EXT9-V4.0"
DATA_SET_NAME = "MARS EXPRESS HRSC MAP PROJECTED REFDR EXTENSION9 V4.0"
DETECTOR_ID = MEX_HRSC_BLUE
EVENT_TYPE = "MARS-REGIONAL-CARTOGRAPHY-Vo-Mw-Ls"
INSTRUMENT_HOST_ID = MEX
INSTRUMENT_HOST_NAME = "MARS EXPRESS"
INSTRUMENT_ID = HRSC
INSTRUMENT_NAME = "HIGH RESOLUTION STEREO CAMERA"
MISSION_NAME = "MARS EXPRESS"
MISSION_PHASE_NAME = ME_Phase_47
PROCESSING_LEVEL_ID = 4
PRODUCT_CREATION_TIME = 2023-11-15T01:26:02.000Z
PRODUCT_ID = "HO292_0000_BL4.TIF"
RELEASE_ID = 0003
REVISION_ID = 0000
/* QUALITY DATA ELEMENTS */
DATA_QUALITY_ID = 1
DATA_QUALITY_DESC = "Data calculated based on original SPICE kernels"
/* TIME DATA ELEMENTS */
SPACECRAFT_CLOCK_START_COUNT = "1/0628034747.25691"
SPACECRAFT_CLOCK_STOP_COUNT = "1/0628035570.53934"
START_TIME = 2023-03-27T22:07:17.328Z
STOP_TIME = 2023-03-27T22:17:31.070Z
/* ORBITAL DATA ELEMENTS */
ASCENDING_NODE_LONGITUDE = 122.33
MAXIMUM_RESOLUTION = 0.1618
FOOTPRINT_POINT_LATITUDE = (38.5088,38.5012,38.4905,38.4901, 38.4963,37.5124,36.8508,36.1771,35.4965 ,34.8089,34.1127,33.4078,32.6962, 31.9875,31.283,30.5809,29.8829,29.1889, 28.4988,27.8129,27.1312,26.4534,25.7798 ,25.1095,24.4429,23.7807,23.1194, 22.4572,21.8057,21.1587,20.5149,19.8752 ,19.2399,18.6093,17.9841,17.3632, 16.7477,16.1377,15.5318,14.931,13.7448, 12.5694,11.4079,10.263,9.13463,8.02245, 6.92651,6.65503,6.65108,6.62496,6.60196 ,6.57454,6.55105,6.50747,6.50605,6.5071 ,7.60844,8.72561,9.85876,11.0082,12.174 ,13.3559,14.5461,15.148,15.7524,16.3614 ,16.9754,17.5973,18.2265,18.8563, 19.4949,20.1382,20.7841,21.4332,22.0856 ,22.7453,23.4124,24.0765,24.7439, 25.4147,26.0893,26.7686,27.4505,28.1374 ,28.8283,29.5231,30.2214,30.9232, 31.6295,32.3385,33.051,34.1149,34.8131, 35.503,36.1858,36.8614,37.5253,38.1862, 38.5129,38.5088)
FOOTPRINT_POINT_LONGITUDE = (226.928,225.53,224.768,224.748,224.719 ,224.727,224.726,224.728,224.728, 224.726,224.722,224.718,224.71,224.703, 224.693,224.684,224.672,224.659,224.644 ,224.628,224.609,224.59,224.569,224.548 ,224.526,224.503,224.484,224.472, 224.448,224.423,224.398,224.372,224.346 ,224.317,224.286,224.253,224.218, 224.181,224.142,224.102,224.015,223.934 ,223.856,223.775,223.692,223.608, 223.521,223.499,223.499,224.209,224.816 ,225.529,226.135,227.242,227.278, 227.302,227.292,227.283,227.273,227.263 ,227.253,227.243,227.218,227.206, 227.191,227.177,227.165,227.159,227.159 ,227.152,227.154,227.157,227.157, 227.155,227.151,227.154,227.163,227.158 ,227.152,227.145,227.137,227.13,227.121 ,227.113,227.105,227.098,227.089,227.08 ,227.072,227.062,227.051,227.033,227.02 ,227.007,226.995,226.982,226.966, 226.955,226.946,226.928)
ORBIT_NUMBER = 24292
ORBITAL_ECCENTRICITY = 0.569
ORBITAL_INCLINATION = 87.08
ORBITAL_SEMIMAJOR_AXIS = 8775.02
PERIAPSIS_ALTITUDE = 399.23
PERIAPSIS_ARGUMENT_ANGLE = 118.98
PERIAPSIS_TIME = 2023-03-27T22:01:10.000Z
SPACECRAFT_ORIENTATION = (0.0,-1.0,0.0)
^MEX_ORIENTATION_DESC = "MEX_ORIENTATION_DESC.TXT"
SPACECRAFT_POINTING_MODE = NADIR
^MEX_POINTING_DESC = "MEX_POINTING_DESC.TXT"
RIGHT_ASCENSION = -1e+32
DECLINATION = -1e+32
OFFSET_ANGLE = -1e+32
SPACECRAFT_SOLAR_DISTANCE = 2.46224e+08
TARGET_NAME = MARS
/* CAMERA DATA ELEMENTS */
DETECTOR_TEMPERATURE = 18.3705
FOCAL_PLANE_TEMPERATURE = 8.7872
INST_CMPRS_NAME = "DISCRETE COSINE TRANSFORMATION (DCT)"
INST_CMPRS_RATIO = 18.5779
INST_CMPRS_QUALITY = 0
INST_CMPRS_QUANTZ_TBL_ID = 0
INSTRUMENT_TEMPERATURE = 11.0301
LENS_TEMPERATURE = 9.195
MACROPIXEL_SIZE = 8
MISSING_FRAMES = 0
PIXEL_SUBSAMPLING_FLAG = N
SIGNAL_CHAIN_ID = 2
/* RADIOMETRIC DATA ELEMENTS */
BANDWIDTH = 76.0
CENTER_FILTER_WAVELENGTH = 444.0
RADIANCE_OFFSET = 0.622639
RADIANCE_SCALING_FACTOR = 0.00514981
REFLECTANCE_SCALING_FACTOR = 0.000320784
MEX:REFLECTANCE_OFFSET = 0.0387844
/* IMAGE OBJECT DEFINITIONS */
OBJECT = IMAGE
  INTERCHANGE_FORMAT = BINARY
  LINES = 9483
  LINE_SAMPLES = 1103
  SAMPLE_TYPE = UNSIGNED_INTEGER
  SAMPLE_BITS = 8
  BANDS = 1
  BAND_STORAGE_TYPE = BAND_SEQUENTIAL
  MAXIMUM = 255
  MEAN = 85.319
  MINIMUM = 1
  STANDARD_DEVIATION = 48.4841
END_OBJECT = IMAGE
/* MAP OBJECT DEFINITIONS */
OBJECT = IMAGE_MAP_PROJECTION
  ^DATA_SET_MAP_PROJECTION_CATALOG= "DSMAP.CAT"
  A_AXIS_RADIUS = 3396.0
  B_AXIS_RADIUS = 3396.0
  C_AXIS_RADIUS = 3396.0
  CENTER_LATITUDE = 0.0
  CENTER_LONGITUDE = 226.0
  COORDINATE_SYSTEM_NAME = PLANETOGRAPHIC
  COORDINATE_SYSTEM_TYPE = "BODY-FIXED ROTATING"
  EASTERNMOST_LONGITUDE = 227.302
  FIRST_STANDARD_PARALLEL = "N/A"
  LINE_FIRST_PIXEL = 1
  LINE_LAST_PIXEL = 9483
  LINE_PROJECTION_OFFSET = 11415.8125
  MAP_PROJECTION_ROTATION = 0.0
  MAP_PROJECTION_TYPE = SINUSOIDAL
  MAP_RESOLUTION = 296.356901933333
  MAP_SCALE = 0.2
  MAXIMUM_LATITUDE = 38.5129
  MINIMUM_LATITUDE = 6.50605
  POSITIVE_LONGITUDE_DIRECTION = EAST
  REFERENCE_LATITUDE = "N/A"
  REFERENCE_LONGITUDE = "N/A"
  SAMPLE_FIRST_PIXEL = 1
  SAMPLE_LAST_PIXEL = 1103
  SAMPLE_PROJECTION_OFFSET = 734.4375
  SECOND_STANDARD_PARALLEL = "N/A"
  WESTERNMOST_LONGITUDE = 223.499
END_OBJECT = IMAGE_MAP_PROJECTION
END
