PDS_VERSION_ID = PDS3
/* FILE DATA ELEMENTS */
RECORD_TYPE = UNDEFINED
/* POINTERS TO DATA OBJECTS */
^IMAGE = ("HO288_0000_S24.TIF")
/* IDENTIFICATION DATA ELEMENTS */
DATA_SET_ID = "MEX-M-HRSC-4-REFDR-MAPPROJECT-EXT9-V4.0"
DATA_SET_NAME = "MARS EXPRESS HRSC MAP PROJECTED REFDR EXTENSION9 V4.0"
DETECTOR_ID = MEX_HRSC_S2
EVENT_TYPE = "MARS-LOCAL-CARTOGRAPHY-Te-Gl-Pf"
INSTRUMENT_HOST_ID = MEX
INSTRUMENT_HOST_NAME = "MARS EXPRESS"
INSTRUMENT_ID = HRSC
INSTRUMENT_NAME = "HIGH RESOLUTION STEREO CAMERA"
MISSION_NAME = "MARS EXPRESS"
MISSION_PHASE_NAME = ME_Phase_47
PROCESSING_LEVEL_ID = 4
PRODUCT_CREATION_TIME = 2023-11-15T01:26:02.000Z
PRODUCT_ID = "HO288_0000_S24.TIF"
RELEASE_ID = 0003
REVISION_ID = 0000
/* QUALITY DATA ELEMENTS */
DATA_QUALITY_ID = 1
DATA_QUALITY_DESC = "Data calculated based on original SPICE kernels"
/* TIME DATA ELEMENTS */
SPACECRAFT_CLOCK_START_COUNT = "1/0627933711.25683"
SPACECRAFT_CLOCK_STOP_COUNT = "1/0627934162.00306"
START_TIME = 2023-03-26T18:03:44.502Z
STOP_TIME = 2023-03-26T18:09:55.876Z
/* ORBITAL DATA ELEMENTS */
ASCENDING_NODE_LONGITUDE = 122.4
MAXIMUM_RESOLUTION = 0.0343 <m/pixel>
FOOTPRINT_POINT_LATITUDE = (67.7683,67.7169,67.6118,67.61,67.7376, 67.2769,66.8162,66.3559,65.8956,65.4355 ,64.7456,64.2858,63.8266,63.3677, 62.9092,62.2219,61.7643,61.307,60.8505, 60.3943,59.9387,59.4838,59.0295,58.5757 ,57.8956,57.2173,56.54,56.0897,55.1919, 54.297,53.8412,53.384,52.9276,52.4724, 52.0181,51.3298,50.8674,50.1734,49.7114 ,49.0074,48.5384,48.0713,47.3603, 46.8849,46.4111,45.9284,44.9618,44.7154 ,44.6821,44.7161,44.7287,44.7292, 44.7299,45.219,45.9476,46.4343,46.9138, 47.4008,47.8761,48.343,48.8191,49.294, 49.9979,50.4611,50.9244,51.3896,51.8506 ,52.3053,52.762,53.2192,53.6771,54.3646 ,55.0457,55.7131,56.1643,56.6159, 57.0687,57.5219,57.9757,58.4304,58.8856 ,59.3417,59.7983,60.2555,60.7133, 61.1718,61.6311,62.3208,62.7811,63.473, 63.9345,64.3967,64.8596,65.3227,66.0178 ,66.4816,66.9458,67.6425,67.8753, 67.7683)
FOOTPRINT_POINT_LONGITUDE = (274.701,273.343,271.116,271.082, 271.012,271.156,271.293,271.424,271.549 ,271.667,271.835,271.94,272.04,272.136, 272.227,272.356,272.438,272.515,272.589 ,272.66,272.728,272.792,272.854,272.912 ,272.996,273.074,273.146,273.192, 273.277,273.354,273.39,273.425,273.458, 273.49,273.52,273.562,273.589,273.626, 273.65,273.682,273.703,273.721,273.747, 273.763,273.778,273.792,273.817,273.822 ,273.823,274.938,276.109,276.132,276.14 ,276.129,276.115,276.105,276.097, 276.093,276.078,276.064,276.057,276.047 ,276.03,276.017,276.003,275.989,275.973 ,275.958,275.943,275.927,275.91,275.883 ,275.863,275.828,275.808,275.787, 275.765,275.743,275.719,275.694,275.669 ,275.642,275.614,275.585,275.555, 275.524,275.491,275.439,275.403,275.346 ,275.305,275.263,275.219,275.173, 275.099,275.047,274.993,274.906,274.876 ,274.701)
ORBIT_NUMBER = 24288
ORBITAL_ECCENTRICITY = 0.569
ORBITAL_INCLINATION = 87.06
ORBITAL_SEMIMAJOR_AXIS = 8778.59
PERIAPSIS_ALTITUDE = 399.56
PERIAPSIS_ARGUMENT_ANGLE = 119.68
PERIAPSIS_TIME = 2023-03-26T18:05:06.000Z
SPACECRAFT_ORIENTATION = (0.0,-1.0,0.0)
^MEX_ORIENTATION_DESC = "MEX_ORIENTATION_DESC.TXT"
SPACECRAFT_POINTING_MODE = ACROSSTRACK
^MEX_POINTING_DESC = "MEX_POINTING_DESC.TXT"
RIGHT_ASCENSION = -1e+32
DECLINATION = -1e+32
OFFSET_ANGLE = 0.539
SPACECRAFT_SOLAR_DISTANCE = 2.46116e+08
TARGET_NAME = MARS
/* CAMERA DATA ELEMENTS */
DETECTOR_TEMPERATURE = 18.5744 <degC>
FOCAL_PLANE_TEMPERATURE = 8.9911 <degC>
INST_CMPRS_NAME = "DISCRETE COSINE TRANSFORMATION (DCT)"
INST_CMPRS_RATIO = 13.2524
INST_CMPRS_QUALITY = 0
INST_CMPRS_QUANTZ_TBL_ID = 0
INSTRUMENT_TEMPERATURE = 12.2535 <degC>
LENS_TEMPERATURE = 8.5833 <degC>
MACROPIXEL_SIZE = 2
MISSING_FRAMES = 0
PIXEL_SUBSAMPLING_FLAG = N
SIGNAL_CHAIN_ID = 1
/* RADIOMETRIC DATA ELEMENTS */
BANDWIDTH = 178.0 <nm>
CENTER_FILTER_WAVELENGTH = 679.0 <nm>
RADIANCE_OFFSET = 4.26185 <W*m**-2*sr**-1>
RADIANCE_SCALING_FACTOR = 0.0254584 <W*m**-2*sr**-1>
REFLECTANCE_SCALING_FACTOR = 0.000816659
MEX:REFLECTANCE_OFFSET = 0.136712
/* IMAGE OBJECT DEFINITIONS */
OBJECT = IMAGE
  INTERCHANGE_FORMAT = BINARY
  LINES = 54935
  LINE_SAMPLES = 6201
  SAMPLE_TYPE = UNSIGNED_INTEGER
  SAMPLE_BITS = 8
  BANDS = 1
  BAND_STORAGE_TYPE = BAND_SEQUENTIAL
  MAXIMUM = 255
  MEAN = 79.1296
  MINIMUM = 1
  STANDARD_DEVIATION = 50.8545
END_OBJECT = IMAGE
/* MAP OBJECT DEFINITIONS */
OBJECT = IMAGE_MAP_PROJECTION
  ^DATA_SET_MAP_PROJECTION_CATALOG= "DSMAP.CAT"
  A_AXIS_RADIUS = 3396.0 <km>
  B_AXIS_RADIUS = 3396.0 <km>
  C_AXIS_RADIUS = 3396.0 <km>
  CENTER_LATITUDE = 0.0
  CENTER_LONGITUDE = 274.0
  COORDINATE_SYSTEM_NAME = PLANETOGRAPHIC
  COORDINATE_SYSTEM_TYPE = "BODY-FIXED ROTATING"
  EASTERNMOST_LONGITUDE = 276.14
  FIRST_STANDARD_PARALLEL = "N/A"
  LINE_FIRST_PIXEL = 1
  LINE_LAST_PIXEL = 54935
  LINE_PROJECTION_OFFSET = 160927.25
  MAP_PROJECTION_ROTATION = 0.0
  MAP_PROJECTION_TYPE = SINUSOIDAL
  MAP_RESOLUTION = 2370.85521546667 <pixel/degree>
  MAP_SCALE = 0.025 <km/pixel>
  MAXIMUM_LATITUDE = 67.8753
  MINIMUM_LATITUDE = 44.6821
  POSITIVE_LONGITUDE_DIRECTION = EAST
  REFERENCE_LATITUDE = "N/A"
  REFERENCE_LONGITUDE = "N/A"
  SAMPLE_FIRST_PIXEL = 1
  SAMPLE_LAST_PIXEL = 6201
  SAMPLE_PROJECTION_OFFSET = 2720.75
  SECOND_STANDARD_PARALLEL = "N/A"
  WESTERNMOST_LONGITUDE = 271.012
END_OBJECT = IMAGE_MAP_PROJECTION
END
