PDS_VERSION_ID = PDS3
/* FILE DATA ELEMENTS */
RECORD_TYPE = UNDEFINED
/* POINTERS TO DATA OBJECTS */
^IMAGE = ("HO288_0000_P24.TIF")
/* IDENTIFICATION DATA ELEMENTS */
DATA_SET_ID = "MEX-M-HRSC-4-REFDR-MAPPROJECT-EXT9-V4.0"
DATA_SET_NAME = "MARS EXPRESS HRSC MAP PROJECTED REFDR EXTENSION9 V4.0"
DETECTOR_ID = MEX_HRSC_P2
EVENT_TYPE = "MARS-LOCAL-CARTOGRAPHY-Te-Gl-Pf"
INSTRUMENT_HOST_ID = MEX
INSTRUMENT_HOST_NAME = "MARS EXPRESS"
INSTRUMENT_ID = HRSC
INSTRUMENT_NAME = "HIGH RESOLUTION STEREO CAMERA"
MISSION_NAME = "MARS EXPRESS"
MISSION_PHASE_NAME = ME_Phase_47
PROCESSING_LEVEL_ID = 4
PRODUCT_CREATION_TIME = 2023-11-15T01:26:02.000Z
PRODUCT_ID = "HO288_0000_P24.TIF"
RELEASE_ID = 0003
REVISION_ID = 0000
/* QUALITY DATA ELEMENTS */
DATA_QUALITY_ID = 1
DATA_QUALITY_DESC = "Data calculated based on original SPICE kernels"
/* TIME DATA ELEMENTS */
SPACECRAFT_CLOCK_START_COUNT = "1/0627933711.25683"
SPACECRAFT_CLOCK_STOP_COUNT = "1/0627934162.00306"
START_TIME = 2023-03-26T18:03:31.619Z
STOP_TIME = 2023-03-26T18:09:39.970Z
/* ORBITAL DATA ELEMENTS */
ASCENDING_NODE_LONGITUDE = 122.4
MAXIMUM_RESOLUTION = 0.0331
FOOTPRINT_POINT_LATITUDE = (67.8002,67.754,67.6557,67.654,67.7374, 67.2799,66.8223,66.3646,65.678,64.9913, 64.5334,64.0756,63.618,63.1606,62.7032, 62.2459,61.7889,61.1038,60.6475,60.1915 ,59.7357,59.2804,58.8256,58.371,57.9164 ,57.4626,57.009,56.1036,55.2009,54.3003 ,53.4024,52.9427,52.4834,52.0249, 51.3374,50.8816,50.4166,49.9495,49.2503 ,48.5459,48.0719,47.5985,47.1264, 46.6477,46.1665,45.6863,44.9551,44.71, 44.6961,44.7152,44.729,44.7366,44.7364, 44.7371,45.4852,46.1993,46.6824,47.4088 ,47.8807,48.3538,48.8327,49.3047, 50.0073,50.4758,50.9416,51.3996,51.8578 ,52.5477,53.0084,53.4698,54.3724, 55.0533,55.7275,56.1806,56.6345,57.0893 ,57.5442,57.9997,58.4557,58.9122, 59.3691,59.8264,60.2842,60.7423,61.2009 ,61.6598,62.349,62.8086,63.2688,63.729, 64.1895,64.6503,65.1113,65.5724,66.0336 ,66.4949,66.9563,67.6486,67.8795, 67.8002)
FOOTPRINT_POINT_LONGITUDE = (274.684,273.322,271.088,271.054, 270.996,271.14,271.278,271.409,271.594, 271.767,271.875,271.978,272.077,272.171 ,272.261,272.347,272.429,272.545, 272.619,272.688,272.755,272.819,272.88, 272.938,272.994,273.048,273.098,273.193 ,273.28,273.358,273.43,273.464,273.496, 273.527,273.57,273.597,273.623,273.647, 273.682,273.713,273.733,273.751,273.768 ,273.784,273.799,273.813,273.832, 273.838,273.838,274.535,275.348,276.077 ,276.099,276.107,276.105,276.08,276.069 ,276.063,276.049,276.035,276.028, 276.018,276.002,275.99,275.976,275.962, 275.947,275.925,275.91,275.893,275.862, 275.84,275.805,275.785,275.764,275.743, 275.72,275.696,275.672,275.647,275.62, 275.592,275.564,275.534,275.503,275.47, 275.419,275.383,275.345,275.306,275.265 ,275.222,275.177,275.13,275.081,275.03, 274.975,274.89,274.86,274.684)
ORBIT_NUMBER = 24288
ORBITAL_ECCENTRICITY = 0.569
ORBITAL_INCLINATION = 87.06
ORBITAL_SEMIMAJOR_AXIS = 8778.59
PERIAPSIS_ALTITUDE = 399.56
PERIAPSIS_ARGUMENT_ANGLE = 119.68
PERIAPSIS_TIME = 2023-03-26T18:05:06.000Z
SPACECRAFT_ORIENTATION = (0.0,-1.0,0.0)
^MEX_ORIENTATION_DESC = "MEX_ORIENTATION_DESC.TXT"
SPACECRAFT_POINTING_MODE = ACROSSTRACK
^MEX_POINTING_DESC = "MEX_POINTING_DESC.TXT"
RIGHT_ASCENSION = -1e+32
DECLINATION = -1e+32
OFFSET_ANGLE = 0.539
SPACECRAFT_SOLAR_DISTANCE = 2.46116e+08
TARGET_NAME = MARS
/* CAMERA DATA ELEMENTS */
DETECTOR_TEMPERATURE = 18.5744
FOCAL_PLANE_TEMPERATURE = 8.9911
INST_CMPRS_NAME = "DISCRETE COSINE TRANSFORMATION (DCT)"
INST_CMPRS_RATIO = 7.90252
INST_CMPRS_QUALITY = 0
INST_CMPRS_QUANTZ_TBL_ID = 0
INSTRUMENT_TEMPERATURE = 12.2535
LENS_TEMPERATURE = 8.5833
MACROPIXEL_SIZE = 2
MISSING_FRAMES = 1
PIXEL_SUBSAMPLING_FLAG = N
SIGNAL_CHAIN_ID = 3
/* RADIOMETRIC DATA ELEMENTS */
BANDWIDTH = 177.0
CENTER_FILTER_WAVELENGTH = 676.5
RADIANCE_OFFSET = 3.98225
RADIANCE_SCALING_FACTOR = 0.0243291
REFLECTANCE_SCALING_FACTOR = 0.000781382
MEX:REFLECTANCE_OFFSET = 0.127898
/* IMAGE OBJECT DEFINITIONS */
OBJECT = IMAGE
  INTERCHANGE_FORMAT = BINARY
  LINES = 54935
  LINE_SAMPLES = 6201
  SAMPLE_TYPE = UNSIGNED_INTEGER
  SAMPLE_BITS = 8
  BANDS = 1
  BAND_STORAGE_TYPE = BAND_SEQUENTIAL
  MAXIMUM = 255
  MEAN = 76.274
  MINIMUM = 1
  STANDARD_DEVIATION = 50.4681
END_OBJECT = IMAGE
/* MAP OBJECT DEFINITIONS */
OBJECT = IMAGE_MAP_PROJECTION
  ^DATA_SET_MAP_PROJECTION_CATALOG= "DSMAP.CAT"
  A_AXIS_RADIUS = 3396.0
  B_AXIS_RADIUS = 3396.0
  C_AXIS_RADIUS = 3396.0
  CENTER_LATITUDE = 0.0
  CENTER_LONGITUDE = 274.0
  COORDINATE_SYSTEM_NAME = PLANETOGRAPHIC
  COORDINATE_SYSTEM_TYPE = "BODY-FIXED ROTATING"
  EASTERNMOST_LONGITUDE = 276.107
  FIRST_STANDARD_PARALLEL = "N/A"
  LINE_FIRST_PIXEL = 1
  LINE_LAST_PIXEL = 54935
  LINE_PROJECTION_OFFSET = 160927.25
  MAP_PROJECTION_ROTATION = 0.0
  MAP_PROJECTION_TYPE = SINUSOIDAL
  MAP_RESOLUTION = 2370.85521546667
  MAP_SCALE = 0.025
  MAXIMUM_LATITUDE = 67.87949999999999
  MINIMUM_LATITUDE = 44.6961
  POSITIVE_LONGITUDE_DIRECTION = EAST
  REFERENCE_LATITUDE = "N/A"
  REFERENCE_LONGITUDE = "N/A"
  SAMPLE_FIRST_PIXEL = 1
  SAMPLE_LAST_PIXEL = 6201
  SAMPLE_PROJECTION_OFFSET = 2720.75
  SECOND_STANDARD_PARALLEL = "N/A"
  WESTERNMOST_LONGITUDE = 270.996
END_OBJECT = IMAGE_MAP_PROJECTION
END
