PDS_VERSION_ID = PDS3
/* FILE DATA ELEMENTS */
RECORD_TYPE = UNDEFINED
/* POINTERS TO DATA OBJECTS */
^IMAGE = ("HO282_0000_ND4.TIF")
/* IDENTIFICATION DATA ELEMENTS */
DATA_SET_ID = "MEX-M-HRSC-4-REFDR-MAPPROJECT-EXT9-V4.0"
DATA_SET_NAME = "MARS EXPRESS HRSC MAP PROJECTED REFDR EXTENSION9 V4.0"
DETECTOR_ID = MEX_HRSC_NADIR
EVENT_TYPE = "MARS-LOCAL-CARTOGRAPHY-Vo-Te-Fl"
INSTRUMENT_HOST_ID = MEX
INSTRUMENT_HOST_NAME = "MARS EXPRESS"
INSTRUMENT_ID = HRSC
INSTRUMENT_NAME = "HIGH RESOLUTION STEREO CAMERA"
MISSION_NAME = "MARS EXPRESS"
MISSION_PHASE_NAME = ME_Phase_47
PROCESSING_LEVEL_ID = 4
PRODUCT_CREATION_TIME = 2023-11-15T01:26:02.000Z
PRODUCT_ID = "HO282_0000_ND4.TIF"
RELEASE_ID = 0003
REVISION_ID = 0000
/* QUALITY DATA ELEMENTS */
DATA_QUALITY_ID = 1
DATA_QUALITY_DESC = "Data calculated based on original SPICE kernels"
/* TIME DATA ELEMENTS */
SPACECRAFT_CLOCK_START_COUNT = "1/0627783493.24938"
SPACECRAFT_CLOCK_STOP_COUNT = "1/0627784165.16085"
START_TIME = 2023-03-25T00:19:48.444Z
STOP_TIME = 2023-03-25T00:26:57.446Z
/* ORBITAL DATA ELEMENTS */
ASCENDING_NODE_LONGITUDE = 122.5
MAXIMUM_RESOLUTION = 0.0251
FOOTPRINT_POINT_LATITUDE = (26.2878,26.3031,26.3119,26.3165, 26.3166,26.3171,25.8686,25.415,24.958, 24.4977,24.0334,23.5636,23.09,22.3803, 21.9095,21.4406,20.9736,20.5084,20.0452 ,19.5839,19.1244,18.6669,18.2114, 17.7577,17.306,16.8563,16.4085,15.9626, 15.5187,15.0768,14.6368,14.1988,13.7628 ,13.3287,12.8966,12.4665,12.0384, 11.6122,11.188,10.3455,9.51106,8.68424, 7.86539,7.0544,6.25123,5.45586,4.66823, 4.47258,4.46315,4.43602,4.41937,4.3968, 4.37364,4.3499,4.31953,4.31798,4.31754, 5.10914,5.9084,6.71533,7.52997,8.35235, 9.18245,10.0203,10.866,11.2917,11.7194, 12.149,12.5806,13.0141,13.4496,13.887, 14.3264,14.7676,15.2109,15.656,16.1031, 16.5521,17.003,17.4559,17.9107,18.3673, 18.8259,19.2864,19.7488,20.213,20.6791, 21.1471,21.617,22.0887,22.5623,23.0376, 23.7488,24.2178,24.6827,25.1438,25.5996 ,26.052,26.2772,26.2878)
FOOTPRINT_POINT_LONGITUDE = (169.209,168.311,167.544,166.808, 166.784,166.767,166.752,166.736,166.719 ,166.702,166.685,166.666,166.647, 166.618,166.597,166.577,166.556,166.534 ,166.513,166.49,166.468,166.445,166.421 ,166.398,166.374,166.349,166.325, 166.299,166.274,166.248,166.222,166.196 ,166.169,166.142,166.115,166.087, 166.059,166.031,166.002,165.944,165.884 ,165.824,165.763,165.701,165.637, 165.573,165.507,165.49,165.49,166.234, 166.682,167.279,167.88,168.483,169.241, 169.279,169.298,169.293,169.288,169.283 ,169.279,169.279,169.27,169.267,169.264 ,169.263,169.262,169.261,169.259, 169.258,169.257,169.256,169.255,169.254 ,169.253,169.252,169.246,169.248, 169.248,169.248,169.247,169.246,169.246 ,169.245,169.244,169.243,169.243, 169.243,169.242,169.242,169.241,169.241 ,169.24,169.24,169.239,169.238,169.238, 169.237,169.237,169.209)
ORBIT_NUMBER = 24282
ORBITAL_ECCENTRICITY = 0.569
ORBITAL_INCLINATION = 87.06
ORBITAL_SEMIMAJOR_AXIS = 8776.6
PERIAPSIS_ALTITUDE = 399.88
PERIAPSIS_ARGUMENT_ANGLE = 120.72
PERIAPSIS_TIME = 2023-03-25T00:10:51.000Z
SPACECRAFT_ORIENTATION = (0.0,-1.0,0.0)
^MEX_ORIENTATION_DESC = "MEX_ORIENTATION_DESC.TXT"
SPACECRAFT_POINTING_MODE = ACROSSTRACK
^MEX_POINTING_DESC = "MEX_POINTING_DESC.TXT"
RIGHT_ASCENSION = -1e+32
DECLINATION = -1e+32
OFFSET_ANGLE = 0.689
SPACECRAFT_SOLAR_DISTANCE = 2.4595e+08
TARGET_NAME = MARS
/* CAMERA DATA ELEMENTS */
DETECTOR_TEMPERATURE = 18.9822
FOCAL_PLANE_TEMPERATURE = 10.8262
INST_CMPRS_NAME = "DISCRETE COSINE TRANSFORMATION (DCT)"
INST_CMPRS_RATIO = 7.00105
INST_CMPRS_QUALITY = 0
INST_CMPRS_QUANTZ_TBL_ID = 0
INSTRUMENT_TEMPERATURE = 11.6418
LENS_TEMPERATURE = 10.4184
MACROPIXEL_SIZE = 1
MISSING_FRAMES = 0
PIXEL_SUBSAMPLING_FLAG = N
SIGNAL_CHAIN_ID = 0
/* RADIOMETRIC DATA ELEMENTS */
BANDWIDTH = 177.0
CENTER_FILTER_WAVELENGTH = 677.5
RADIANCE_OFFSET = 4.05413
RADIANCE_SCALING_FACTOR = 0.0238478
REFLECTANCE_SCALING_FACTOR = 0.000766354
MEX:REFLECTANCE_OFFSET = 0.13028
/* IMAGE OBJECT DEFINITIONS */
OBJECT = IMAGE
  INTERCHANGE_FORMAT = BINARY
  LINES = 52159
  LINE_SAMPLES = 9003
  SAMPLE_TYPE = UNSIGNED_INTEGER
  SAMPLE_BITS = 8
  BANDS = 1
  BAND_STORAGE_TYPE = BAND_SEQUENTIAL
  MAXIMUM = 255
  MEAN = 156.954
  MINIMUM = 1
  STANDARD_DEVIATION = 16.3738
END_OBJECT = IMAGE
/* MAP OBJECT DEFINITIONS */
OBJECT = IMAGE_MAP_PROJECTION
  ^DATA_SET_MAP_PROJECTION_CATALOG= "DSMAP.CAT"
  A_AXIS_RADIUS = 3396.0
  B_AXIS_RADIUS = 3396.0
  C_AXIS_RADIUS = 3396.0
  CENTER_LATITUDE = 0.0
  CENTER_LONGITUDE = 168.0
  COORDINATE_SYSTEM_NAME = PLANETOGRAPHIC
  COORDINATE_SYSTEM_TYPE = "BODY-FIXED ROTATING"
  EASTERNMOST_LONGITUDE = 169.298
  FIRST_STANDARD_PARALLEL = "N/A"
  LINE_FIRST_PIXEL = 1
  LINE_LAST_PIXEL = 52159
  LINE_PROJECTION_OFFSET = 62394.0
  MAP_PROJECTION_ROTATION = 0.0
  MAP_PROJECTION_TYPE = SINUSOIDAL
  MAP_RESOLUTION = 2370.85521546667
  MAP_SCALE = 0.025
  MAXIMUM_LATITUDE = 26.3171
  MINIMUM_LATITUDE = 4.31754
  POSITIVE_LONGITUDE_DIRECTION = EAST
  REFERENCE_LATITUDE = "N/A"
  REFERENCE_LONGITUDE = "N/A"
  SAMPLE_FIRST_PIXEL = 1
  SAMPLE_LAST_PIXEL = 9003
  SAMPLE_PROJECTION_OFFSET = 5933.0
  SECOND_STANDARD_PARALLEL = "N/A"
  WESTERNMOST_LONGITUDE = 165.49
END_OBJECT = IMAGE_MAP_PROJECTION
END
