PDS_VERSION_ID = PDS3
/* FILE DATA ELEMENTS */
RECORD_TYPE = UNDEFINED
/* POINTERS TO DATA OBJECTS */
^IMAGE = ("HO281_0000_P24.TIF")
/* IDENTIFICATION DATA ELEMENTS */
DATA_SET_ID = "MEX-M-HRSC-4-REFDR-MAPPROJECT-EXT9-V4.0"
DATA_SET_NAME = "MARS EXPRESS HRSC MAP PROJECTED REFDR EXTENSION9 V4.0"
DETECTOR_ID = MEX_HRSC_P2
EVENT_TYPE = "MARS-LOCAL-CARTOGRAPHY-Vo-Te-Pf"
INSTRUMENT_HOST_ID = MEX
INSTRUMENT_HOST_NAME = "MARS EXPRESS"
INSTRUMENT_ID = HRSC
INSTRUMENT_NAME = "HIGH RESOLUTION STEREO CAMERA"
MISSION_NAME = "MARS EXPRESS"
MISSION_PHASE_NAME = ME_Phase_47
PROCESSING_LEVEL_ID = 4
PRODUCT_CREATION_TIME = 2023-11-15T01:26:02.000Z
PRODUCT_ID = "HO281_0000_P24.TIF"
RELEASE_ID = 0003
REVISION_ID = 0000
/* QUALITY DATA ELEMENTS */
DATA_QUALITY_ID = 1
DATA_QUALITY_DESC = "Data calculated based on original SPICE kernels"
/* TIME DATA ELEMENTS */
SPACECRAFT_CLOCK_START_COUNT = "1/0627757719.25847"
SPACECRAFT_CLOCK_STOP_COUNT = "1/0627758146.55132"
START_TIME = 2023-03-24T17:10:24.753Z
STOP_TIME = 2023-03-24T17:16:05.346Z
/* ORBITAL DATA ELEMENTS */
ASCENDING_NODE_LONGITUDE = 122.53
MAXIMUM_RESOLUTION = 0.0331
FOOTPRINT_POINT_LATITUDE = (66.051,66.0084,65.9663,65.9187,65.9171 ,65.9986,65.5733,64.9352,64.5096, 63.8717,63.2336,62.8083,62.3832,61.9581 ,61.5334,61.1085,60.684,60.2597,59.8354 ,59.4112,58.9873,58.5636,58.1405, 57.7176,57.2949,56.8729,56.2406,55.8193 ,54.9789,54.1409,53.3046,52.4704, 51.8342,51.4079,50.768,50.1302,49.7065, 49.0577,48.6254,48.1937,47.763,47.3266, 46.8865,46.4474,46.0093,45.3408,44.8937 ,44.6707,44.6336,44.6544,44.6734,44.691 ,44.6914,44.692,45.14,45.5888,46.0351, 46.4744,46.9145,47.3556,47.794,48.4421, 48.8747,49.3094,49.7437,50.1685,50.8079 ,51.2358,51.6632,52.0916,52.5165, 53.3531,54.1918,55.0327,55.4543,55.8762 ,56.2984,56.7214,57.1447,57.5689, 57.9928,58.4178,58.8427,59.4809,59.9064 ,60.3323,60.7587,61.1852,61.6118, 62.0388,62.4661,63.1075,63.5353,63.9633 ,64.3913,64.8194,65.2476,65.8901, 66.1043,66.051)
FOOTPRINT_POINT_LONGITUDE = (270.298,269.022,267.972,266.94,266.909 ,266.882,266.987,267.137,267.232, 267.367,267.493,267.572,267.648,267.721 ,267.791,267.858,267.922,267.984, 268.043,268.099,268.153,268.205,268.255 ,268.302,268.348,268.391,268.453, 268.492,268.565,268.632,268.692,268.748 ,268.786,268.811,268.845,268.877, 268.897,268.925,268.942,268.959,268.974 ,268.989,269.002,269.015,269.027, 269.043,269.053,269.058,269.058,269.741 ,270.457,271.274,271.297,271.305, 271.299,271.293,271.286,271.279,271.272 ,271.264,271.256,271.244,271.234, 271.226,271.217,271.208,271.196,271.188 ,271.178,271.168,271.158,271.136, 271.112,271.086,271.073,271.059,271.044 ,271.029,271.014,270.998,270.981, 270.964,270.946,270.918,270.897,270.875 ,270.854,270.831,270.806,270.781, 270.755,270.714,270.685,270.655,270.624 ,270.591,270.556,270.502,270.483, 270.298)
ORBIT_NUMBER = 24281
ORBITAL_ECCENTRICITY = 0.569
ORBITAL_INCLINATION = 87.06
ORBITAL_SEMIMAJOR_AXIS = 8780.3
PERIAPSIS_ALTITUDE = 398.92
PERIAPSIS_ARGUMENT_ANGLE = 120.88
PERIAPSIS_TIME = 2023-03-24T17:11:50.000Z
SPACECRAFT_ORIENTATION = (0.0,-1.0,0.0)
^MEX_ORIENTATION_DESC = "MEX_ORIENTATION_DESC.TXT"
SPACECRAFT_POINTING_MODE = ACROSSTRACK
^MEX_POINTING_DESC = "MEX_POINTING_DESC.TXT"
RIGHT_ASCENSION = -1e+32
DECLINATION = -1e+32
OFFSET_ANGLE = 0.7
SPACECRAFT_SOLAR_DISTANCE = 2.45922e+08
TARGET_NAME = MARS
/* CAMERA DATA ELEMENTS */
DETECTOR_TEMPERATURE = 18.3705
FOCAL_PLANE_TEMPERATURE = 8.5833
INST_CMPRS_NAME = "DISCRETE COSINE TRANSFORMATION (DCT)"
INST_CMPRS_RATIO = 7.84843
INST_CMPRS_QUALITY = 0
INST_CMPRS_QUANTZ_TBL_ID = 0
INSTRUMENT_TEMPERATURE = 11.0301
LENS_TEMPERATURE = 9.195
MACROPIXEL_SIZE = 2
MISSING_FRAMES = 0
PIXEL_SUBSAMPLING_FLAG = N
SIGNAL_CHAIN_ID = 3
/* RADIOMETRIC DATA ELEMENTS */
BANDWIDTH = 177.0
CENTER_FILTER_WAVELENGTH = 676.5
RADIANCE_OFFSET = 3.56408
RADIANCE_SCALING_FACTOR = 0.0229017
REFLECTANCE_SCALING_FACTOR = 0.000734379
MEX:REFLECTANCE_OFFSET = 0.114288
/* IMAGE OBJECT DEFINITIONS */
OBJECT = IMAGE
  INTERCHANGE_FORMAT = BINARY
  LINES = 47128
  LINE_SAMPLES = 4965
  SAMPLE_TYPE = UNSIGNED_INTEGER
  SAMPLE_BITS = 8
  BANDS = 1
  BAND_STORAGE_TYPE = BAND_SEQUENTIAL
  MAXIMUM = 255
  MEAN = 111.467
  MINIMUM = 1
  STANDARD_DEVIATION = 51.1397
END_OBJECT = IMAGE
/* MAP OBJECT DEFINITIONS */
OBJECT = IMAGE_MAP_PROJECTION
  ^DATA_SET_MAP_PROJECTION_CATALOG= "DSMAP.CAT"
  A_AXIS_RADIUS = 3396.0
  B_AXIS_RADIUS = 3396.0
  C_AXIS_RADIUS = 3396.0
  CENTER_LATITUDE = 0.0
  CENTER_LONGITUDE = 270.0
  COORDINATE_SYSTEM_NAME = PLANETOGRAPHIC
  COORDINATE_SYSTEM_TYPE = "BODY-FIXED ROTATING"
  EASTERNMOST_LONGITUDE = 271.305
  FIRST_STANDARD_PARALLEL = "N/A"
  LINE_FIRST_PIXEL = 1
  LINE_LAST_PIXEL = 47128
  LINE_PROJECTION_OFFSET = 152985.25
  MAP_PROJECTION_ROTATION = 0.0
  MAP_PROJECTION_TYPE = SINUSOIDAL
  MAP_RESOLUTION = 2370.85521546667
  MAP_SCALE = 0.025
  MAXIMUM_LATITUDE = 66.10429999999999
  MINIMUM_LATITUDE = 44.6336
  POSITIVE_LONGITUDE_DIRECTION = EAST
  REFERENCE_LATITUDE = "N/A"
  REFERENCE_LONGITUDE = "N/A"
  SAMPLE_FIRST_PIXEL = 1
  SAMPLE_LAST_PIXEL = 4965
  SAMPLE_PROJECTION_OFFSET = 2830.25
  SECOND_STANDARD_PARALLEL = "N/A"
  WESTERNMOST_LONGITUDE = 266.882
END_OBJECT = IMAGE_MAP_PROJECTION
END
