PDS_VERSION_ID = PDS3
/* FILE DATA ELEMENTS */
RECORD_TYPE = UNDEFINED
/* POINTERS TO DATA OBJECTS */
^IMAGE = ("HO281_0000_IR4.TIF")
/* IDENTIFICATION DATA ELEMENTS */
DATA_SET_ID = "MEX-M-HRSC-4-REFDR-MAPPROJECT-EXT9-V4.0"
DATA_SET_NAME = "MARS EXPRESS HRSC MAP PROJECTED REFDR EXTENSION9 V4.0"
DETECTOR_ID = MEX_HRSC_IR
EVENT_TYPE = "MARS-LOCAL-CARTOGRAPHY-Vo-Te-Pf"
INSTRUMENT_HOST_ID = MEX
INSTRUMENT_HOST_NAME = "MARS EXPRESS"
INSTRUMENT_ID = HRSC
INSTRUMENT_NAME = "HIGH RESOLUTION STEREO CAMERA"
MISSION_NAME = "MARS EXPRESS"
MISSION_PHASE_NAME = ME_Phase_47
PROCESSING_LEVEL_ID = 4
PRODUCT_CREATION_TIME = 2023-11-15T01:26:02.000Z
PRODUCT_ID = "HO281_0000_IR4.TIF"
RELEASE_ID = 0003
REVISION_ID = 0000
/* QUALITY DATA ELEMENTS */
DATA_QUALITY_ID = 1
DATA_QUALITY_DESC = "Data calculated based on original SPICE kernels"
/* TIME DATA ELEMENTS */
SPACECRAFT_CLOCK_START_COUNT = "1/0627757719.25847"
SPACECRAFT_CLOCK_STOP_COUNT = "1/0627758146.55132"
START_TIME = 2023-03-24T17:10:24.497Z
STOP_TIME = 2023-03-24T17:15:04.141Z
/* ORBITAL DATA ELEMENTS */
ASCENDING_NODE_LONGITUDE = 122.53
MAXIMUM_RESOLUTION = 0.0666
FOOTPRINT_POINT_LATITUDE = (62.6201,62.614,62.6019,62.5835,62.5828 ,62.4896,61.6252,60.9322,60.5849, 60.0634,59.7156,59.3673,59.0188,58.4957 ,58.146,57.7963,57.2712,56.9206,56.5695 ,56.043,55.5168,54.9877,54.4587,54.1058 ,53.5766,53.2234,52.6935,52.34,51.8097, 51.4539,51.1034,50.7497,50.3962,50.0421 ,49.6873,49.1555,48.8006,48.255,47.8907 ,47.5261,47.1614,46.7971,46.4323, 46.0678,45.6953,45.322,44.9487,44.7621, 44.6832,44.6816,44.6769,44.6584,44.6579 ,44.6588,45.0325,45.4067,45.7811, 46.1516,46.6997,47.0651,47.4307,47.7962 ,48.162,48.5273,49.0661,49.5995,49.9548 ,50.3102,50.6653,51.019,51.373,51.728, 52.0822,52.6136,52.968,53.4994,53.8538, 54.3846,54.7385,55.092,55.4451,55.798, 56.1511,56.504,56.856,57.3839,57.911, 58.2622,58.6128,59.1386,59.6641,60.189, 60.5384,60.8873,61.236,61.5844,61.9325, 62.2801,62.4537,62.6201)
FOOTPRINT_POINT_LONGITUDE = (270.615,269.417,268.522,267.641, 267.614,267.627,267.779,267.892,267.945 ,268.022,268.071,268.119,268.165, 268.231,268.274,268.315,268.374,268.411 ,268.448,268.5,268.55,268.597,268.642, 268.67,268.711,268.737,268.775,268.798, 268.832,268.854,268.874,268.894,268.913 ,268.932,268.949,268.974,268.99,269.013 ,269.028,269.042,269.055,269.067, 269.079,269.09,269.101,269.111,269.121, 269.125,269.127,269.709,270.202,271.225 ,271.246,271.252,271.249,271.246, 271.242,271.238,271.231,271.226,271.221 ,271.215,271.209,271.204,271.195, 271.186,271.18,271.174,271.168,271.163, 271.158,271.15,271.144,271.133,271.126, 271.114,271.105,271.091,271.082,271.072 ,271.063,271.053,271.042,271.031,271.02 ,271.003,270.985,270.973,270.96,270.94, 270.918,270.895,270.879,270.863,270.846 ,270.828,270.81,270.792,270.782, 270.615)
ORBIT_NUMBER = 24281
ORBITAL_ECCENTRICITY = 0.569
ORBITAL_INCLINATION = 87.06
ORBITAL_SEMIMAJOR_AXIS = 8780.3
PERIAPSIS_ALTITUDE = 398.92
PERIAPSIS_ARGUMENT_ANGLE = 120.88
PERIAPSIS_TIME = 2023-03-24T17:11:50.000Z
SPACECRAFT_ORIENTATION = (0.0,-1.0,0.0)
^MEX_ORIENTATION_DESC = "MEX_ORIENTATION_DESC.TXT"
SPACECRAFT_POINTING_MODE = ACROSSTRACK
^MEX_POINTING_DESC = "MEX_POINTING_DESC.TXT"
RIGHT_ASCENSION = -1e+32
DECLINATION = -1e+32
OFFSET_ANGLE = 0.7
SPACECRAFT_SOLAR_DISTANCE = 2.45922e+08
TARGET_NAME = MARS
/* CAMERA DATA ELEMENTS */
DETECTOR_TEMPERATURE = 17.7588
FOCAL_PLANE_TEMPERATURE = 8.5833
INST_CMPRS_NAME = "DISCRETE COSINE TRANSFORMATION (DCT)"
INST_CMPRS_RATIO = 13.1102
INST_CMPRS_QUALITY = 0
INST_CMPRS_QUANTZ_TBL_ID = 0
INSTRUMENT_TEMPERATURE = 11.0301
LENS_TEMPERATURE = 9.195
MACROPIXEL_SIZE = 4
MISSING_FRAMES = 0
PIXEL_SUBSAMPLING_FLAG = N
SIGNAL_CHAIN_ID = 2
/* RADIOMETRIC DATA ELEMENTS */
BANDWIDTH = 81.0
CENTER_FILTER_WAVELENGTH = 955.5
RADIANCE_OFFSET = 0.972769
RADIANCE_SCALING_FACTOR = 0.00608153
REFLECTANCE_SCALING_FACTOR = 0.000793484
MEX:REFLECTANCE_OFFSET = 0.126921
/* IMAGE OBJECT DEFINITIONS */
OBJECT = IMAGE
  INTERCHANGE_FORMAT = BINARY
  LINES = 23564
  LINE_SAMPLES = 2483
  SAMPLE_TYPE = UNSIGNED_INTEGER
  SAMPLE_BITS = 8
  BANDS = 1
  BAND_STORAGE_TYPE = BAND_SEQUENTIAL
  MAXIMUM = 255
  MEAN = 97.8152
  MINIMUM = 1
  STANDARD_DEVIATION = 50.5592
END_OBJECT = IMAGE
/* MAP OBJECT DEFINITIONS */
OBJECT = IMAGE_MAP_PROJECTION
  ^DATA_SET_MAP_PROJECTION_CATALOG= "DSMAP.CAT"
  A_AXIS_RADIUS = 3396.0
  B_AXIS_RADIUS = 3396.0
  C_AXIS_RADIUS = 3396.0
  CENTER_LATITUDE = 0.0
  CENTER_LONGITUDE = 270.0
  COORDINATE_SYSTEM_NAME = PLANETOGRAPHIC
  COORDINATE_SYSTEM_TYPE = "BODY-FIXED ROTATING"
  EASTERNMOST_LONGITUDE = 271.252
  FIRST_STANDARD_PARALLEL = "N/A"
  LINE_FIRST_PIXEL = 1
  LINE_LAST_PIXEL = 23564
  LINE_PROJECTION_OFFSET = 76492.375
  MAP_PROJECTION_ROTATION = 0.0
  MAP_PROJECTION_TYPE = SINUSOIDAL
  MAP_RESOLUTION = 1185.42760773333
  MAP_SCALE = 0.05
  MAXIMUM_LATITUDE = 62.6201
  MINIMUM_LATITUDE = 44.6579
  POSITIVE_LONGITUDE_DIRECTION = EAST
  REFERENCE_LATITUDE = "N/A"
  REFERENCE_LONGITUDE = "N/A"
  SAMPLE_FIRST_PIXEL = 1
  SAMPLE_LAST_PIXEL = 2483
  SAMPLE_PROJECTION_OFFSET = 1414.875
  SECOND_STANDARD_PARALLEL = "N/A"
  WESTERNMOST_LONGITUDE = 267.614
END_OBJECT = IMAGE_MAP_PROJECTION
END
