PDS_VERSION_ID = PDS3
/* FILE DATA ELEMENTS */
RECORD_TYPE = UNDEFINED
/* POINTERS TO DATA OBJECTS */
^IMAGE = ("HO281_0000_GR4.TIF")
/* IDENTIFICATION DATA ELEMENTS */
DATA_SET_ID = "MEX-M-HRSC-4-REFDR-MAPPROJECT-EXT9-V4.0"
DATA_SET_NAME = "MARS EXPRESS HRSC MAP PROJECTED REFDR EXTENSION9 V4.0"
DETECTOR_ID = MEX_HRSC_GREEN
EVENT_TYPE = "MARS-LOCAL-CARTOGRAPHY-Vo-Te-Pf"
INSTRUMENT_HOST_ID = MEX
INSTRUMENT_HOST_NAME = "MARS EXPRESS"
INSTRUMENT_ID = HRSC
INSTRUMENT_NAME = "HIGH RESOLUTION STEREO CAMERA"
MISSION_NAME = "MARS EXPRESS"
MISSION_PHASE_NAME = ME_Phase_47
PROCESSING_LEVEL_ID = 4
PRODUCT_CREATION_TIME = 2023-11-15T01:26:02.000Z
PRODUCT_ID = "HO281_0000_GR4.TIF"
RELEASE_ID = 0003
REVISION_ID = 0000
/* QUALITY DATA ELEMENTS */
DATA_QUALITY_ID = 1
DATA_QUALITY_DESC = "Data calculated based on original SPICE kernels"
/* TIME DATA ELEMENTS */
SPACECRAFT_CLOCK_START_COUNT = "1/0627757719.25847"
SPACECRAFT_CLOCK_STOP_COUNT = "1/0627758146.55132"
START_TIME = 2023-03-24T17:10:24.497Z
STOP_TIME = 2023-03-24T17:15:30.578Z
/* ORBITAL DATA ELEMENTS */
ASCENDING_NODE_LONGITUDE = 122.53
MAXIMUM_RESOLUTION = 0.064
FOOTPRINT_POINT_LATITUDE = (64.1483,64.1163,64.0712,64.0702, 64.0513,63.2897,62.527,61.7633,61.1819, 60.7993,60.4166,60.0337,59.4592,59.0761 ,58.6927,58.3094,57.9177,57.3424, 56.9587,56.5749,55.9993,55.4238,54.8479 ,54.4641,54.0804,53.6967,53.3132, 52.9297,52.5463,52.155,51.3887,50.8151, 50.0435,49.6509,49.2585,48.8665,48.4746 ,48.083,47.6917,47.292,46.891,46.4904, 46.0901,45.6902,45.2851,44.8758,44.6713 ,44.6521,44.6595,44.6633,44.6624, 44.6623,44.6633,45.0732,45.685,46.0857, 46.487,46.8886,47.2906,47.6917,48.0841, 48.6731,49.066,49.4592,49.8527,50.4404, 50.8239,51.2074,51.5914,51.9754,52.5599 ,52.9444,53.329,53.9063,54.2911,54.6762 ,55.0613,55.6389,56.0241,56.4093, 56.7944,57.1796,57.5647,57.9499,58.5355 ,58.9205,59.3055,59.6904,60.0752, 60.4599,60.8444,61.2289,61.6212,62.0053 ,62.3893,62.773,63.1566,63.9231,64.1145 ,64.1483)
FOOTPRINT_POINT_LONGITUDE = (270.47,268.833,267.359,267.33,267.33, 267.485,267.628,267.761,267.856,267.915 ,267.973,268.028,268.107,268.157, 268.205,268.252,268.297,268.361,268.402 ,268.441,268.497,268.55,268.6,268.632, 268.662,268.691,268.719,268.746,268.772 ,268.797,268.843,268.875,268.915, 268.934,268.952,268.969,268.985,269.001 ,269.015,269.029,269.043,269.055, 269.067,269.078,269.088,269.098,269.103 ,269.103,269.734,270.395,271.232, 271.253,271.26,271.256,271.249,271.244, 271.238,271.232,271.226,271.22,271.213, 271.202,271.195,271.189,271.181,271.169 ,271.163,271.157,271.149,271.141, 271.129,271.119,271.11,271.094,271.084, 271.073,271.062,271.044,271.032,271.019 ,271.007,270.993,270.98,270.965,270.943 ,270.927,270.911,270.893,270.875, 270.857,270.838,270.818,270.796,270.775 ,270.753,270.729,270.706,270.655, 270.642,270.47)
ORBIT_NUMBER = 24281
ORBITAL_ECCENTRICITY = 0.569
ORBITAL_INCLINATION = 87.06
ORBITAL_SEMIMAJOR_AXIS = 8780.3
PERIAPSIS_ALTITUDE = 398.92
PERIAPSIS_ARGUMENT_ANGLE = 120.88
PERIAPSIS_TIME = 2023-03-24T17:11:50.000Z
SPACECRAFT_ORIENTATION = (0.0,-1.0,0.0)
^MEX_ORIENTATION_DESC = "MEX_ORIENTATION_DESC.TXT"
SPACECRAFT_POINTING_MODE = ACROSSTRACK
^MEX_POINTING_DESC = "MEX_POINTING_DESC.TXT"
RIGHT_ASCENSION = -1e+32
DECLINATION = -1e+32
OFFSET_ANGLE = 0.7
SPACECRAFT_SOLAR_DISTANCE = 2.45922e+08
TARGET_NAME = MARS
/* CAMERA DATA ELEMENTS */
DETECTOR_TEMPERATURE = 18.3705
FOCAL_PLANE_TEMPERATURE = 8.5833
INST_CMPRS_NAME = "DISCRETE COSINE TRANSFORMATION (DCT)"
INST_CMPRS_RATIO = 16.1557
INST_CMPRS_QUALITY = 0
INST_CMPRS_QUANTZ_TBL_ID = 0
INSTRUMENT_TEMPERATURE = 11.0301
LENS_TEMPERATURE = 9.195
MACROPIXEL_SIZE = 4
PIXEL_SUBSAMPLING_FLAG = N
SIGNAL_CHAIN_ID = 2
/* RADIOMETRIC DATA ELEMENTS */
BANDWIDTH = 88.0
CENTER_FILTER_WAVELENGTH = 538.0
RADIANCE_OFFSET = 1.20962
RADIANCE_SCALING_FACTOR = 0.00613508
REFLECTANCE_SCALING_FACTOR = 0.000319451
MEX:REFLECTANCE_OFFSET = 0.0629845
/* IMAGE OBJECT DEFINITIONS */
OBJECT = IMAGE
  INTERCHANGE_FORMAT = BINARY
  LINES = 23564
  LINE_SAMPLES = 2483
  SAMPLE_TYPE = UNSIGNED_INTEGER
  SAMPLE_BITS = 8
  BANDS = 1
  BAND_STORAGE_TYPE = BAND_SEQUENTIAL
  MAXIMUM = 255
  MEAN = 93.9448
  MINIMUM = 1
  STANDARD_DEVIATION = 58.9191
END_OBJECT = IMAGE
/* MAP OBJECT DEFINITIONS */
OBJECT = IMAGE_MAP_PROJECTION
  ^DATA_SET_MAP_PROJECTION_CATALOG= "DSMAP.CAT"
  A_AXIS_RADIUS = 3396.0
  B_AXIS_RADIUS = 3396.0
  C_AXIS_RADIUS = 3396.0
  CENTER_LATITUDE = 0.0
  CENTER_LONGITUDE = 270.0
  COORDINATE_SYSTEM_NAME = PLANETOGRAPHIC
  COORDINATE_SYSTEM_TYPE = "BODY-FIXED ROTATING"
  EASTERNMOST_LONGITUDE = 271.26
  FIRST_STANDARD_PARALLEL = "N/A"
  LINE_FIRST_PIXEL = 1
  LINE_LAST_PIXEL = 23564
  LINE_PROJECTION_OFFSET = 76492.375
  MAP_PROJECTION_ROTATION = 0.0
  MAP_PROJECTION_TYPE = SINUSOIDAL
  MAP_RESOLUTION = 1185.42760773333
  MAP_SCALE = 0.05
  MAXIMUM_LATITUDE = 64.14830000000001
  MINIMUM_LATITUDE = 44.6521
  POSITIVE_LONGITUDE_DIRECTION = EAST
  REFERENCE_LATITUDE = "N/A"
  REFERENCE_LONGITUDE = "N/A"
  SAMPLE_FIRST_PIXEL = 1
  SAMPLE_LAST_PIXEL = 2483
  SAMPLE_PROJECTION_OFFSET = 1414.875
  SECOND_STANDARD_PARALLEL = "N/A"
  WESTERNMOST_LONGITUDE = 267.33
END_OBJECT = IMAGE_MAP_PROJECTION
END
