PDS_VERSION_ID = PDS3
/* FILE DATA ELEMENTS */
RECORD_TYPE = UNDEFINED
/* POINTERS TO DATA OBJECTS */
^IMAGE = ("HO278_0000_S14.TIF")
/* IDENTIFICATION DATA ELEMENTS */
DATA_SET_ID = "MEX-M-HRSC-4-REFDR-MAPPROJECT-EXT9-V4.0"
DATA_SET_NAME = "MARS EXPRESS HRSC MAP PROJECTED REFDR EXTENSION9 V4.0"
DETECTOR_ID = MEX_HRSC_S1
EVENT_TYPE = "MARS-REGIONAL-CARTOGRAPHY-Vo-Mw-Ls"
INSTRUMENT_HOST_ID = MEX
INSTRUMENT_HOST_NAME = "MARS EXPRESS"
INSTRUMENT_ID = HRSC
INSTRUMENT_NAME = "HIGH RESOLUTION STEREO CAMERA"
MISSION_NAME = "MARS EXPRESS"
MISSION_PHASE_NAME = ME_Phase_47
PROCESSING_LEVEL_ID = 4
PRODUCT_CREATION_TIME = 2023-11-15T01:26:02.000Z
PRODUCT_ID = "HO278_0000_S14.TIF"
RELEASE_ID = 0003
REVISION_ID = 0000
/* QUALITY DATA ELEMENTS */
DATA_QUALITY_ID = 1
DATA_QUALITY_DESC = "Data calculated based on original SPICE kernels"
/* TIME DATA ELEMENTS */
SPACECRAFT_CLOCK_START_COUNT = "1/0627682751.25690"
SPACECRAFT_CLOCK_STOP_COUNT = "1/0627683394.01998"
START_TIME = 2023-03-23T20:19:47.217Z
STOP_TIME = 2023-03-23T20:26:43.130Z
/* ORBITAL DATA ELEMENTS */
ASCENDING_NODE_LONGITUDE = 122.57
MAXIMUM_RESOLUTION = 0.0405
FOOTPRINT_POINT_LATITUDE = (36.4089,36.3858,36.3576,36.317,36.3158 ,36.2442,35.5594,34.6341,33.4585, 32.5002,31.5295,31.0363,30.5365,30.0344 ,29.5245,28.7589,28.2397,27.7065, 27.1738,26.3744,25.8394,25.3007,24.7678 ,24.2392,23.7036,23.1747,22.6426, 22.1159,21.5885,21.0643,20.5422,20.0125 ,19.4904,18.969,18.4493,17.9305,17.4143 ,16.8972,16.3825,15.6123,14.8459, 14.3349,13.8253,13.3191,12.8157,12.0611 ,11.5599,11.0611,10.8125,10.764,10.7741 ,10.7775,10.778,10.7736,10.7738,10.7743 ,11.5293,12.0326,12.5387,13.3007, 13.8093,14.3192,14.8284,15.5981,16.1143 ,16.6283,17.1458,17.6629,18.1812, 18.7109,19.2357,20.0202,20.5452,21.0707 ,21.592,22.1228,22.6508,23.1837,23.9818 ,24.5146,25.0495,25.5833,26.1194, 26.6581,27.1967,27.7303,28.2665,28.7888 ,29.3071,29.8171,30.5737,31.0779, 32.0607,33.0311,33.9784,34.6821,35.382, 36.0681,36.2971,36.4089)
FOOTPRINT_POINT_LONGITUDE = (215.941,215.317,214.685,213.923, 213.902,213.85,213.863,213.877,213.891, 213.898,213.905,213.906,213.906,213.905 ,213.904,213.903,213.899,213.894, 213.888,213.881,213.874,213.863,213.854 ,213.846,213.833,213.822,213.808, 213.796,213.781,213.768,213.754,213.735 ,213.718,213.7,213.682,213.664,213.645, 213.624,213.604,213.571,213.538,213.514 ,213.49,213.466,213.442,213.404,213.378 ,213.352,213.338,213.336,214.158, 214.664,215.336,216.197,216.225,216.235 ,216.233,216.232,216.231,216.229, 216.227,216.225,216.224,216.221,216.219 ,216.217,216.214,216.212,216.209, 216.205,216.201,216.196,216.193,216.189 ,216.185,216.181,216.176,216.171, 216.163,216.157,216.152,216.146,216.139 ,216.132,216.125,216.118,216.11,216.102 ,216.094,216.085,216.073,216.063, 216.045,216.025,216.004,215.988,215.971 ,215.953,215.947,215.941)
ORBIT_NUMBER = 24278
ORBITAL_ECCENTRICITY = 0.569
ORBITAL_INCLINATION = 87.08
ORBITAL_SEMIMAJOR_AXIS = 8777.38
PERIAPSIS_ALTITUDE = 398.32
PERIAPSIS_ARGUMENT_ANGLE = 121.38
PERIAPSIS_TIME = 2023-03-23T20:14:38.000Z
SPACECRAFT_ORIENTATION = (0.0,-1.0,0.0)
^MEX_ORIENTATION_DESC = "MEX_ORIENTATION_DESC.TXT"
SPACECRAFT_POINTING_MODE = ACROSSTRACK
^MEX_POINTING_DESC = "MEX_POINTING_DESC.TXT"
RIGHT_ASCENSION = -1e+32
DECLINATION = -1e+32
OFFSET_ANGLE = -0.687
SPACECRAFT_SOLAR_DISTANCE = 2.45838e+08
TARGET_NAME = MARS
/* CAMERA DATA ELEMENTS */
DETECTOR_TEMPERATURE = 17.7588
FOCAL_PLANE_TEMPERATURE = 9.3989
INST_CMPRS_NAME = "DISCRETE COSINE TRANSFORMATION (DCT)"
INST_CMPRS_RATIO = 9.79166
INST_CMPRS_QUALITY = 0
INST_CMPRS_QUANTZ_TBL_ID = 0
INSTRUMENT_TEMPERATURE = 11.8457
LENS_TEMPERATURE = 9.3989
MACROPIXEL_SIZE = 2
MISSING_FRAMES = 1
PIXEL_SUBSAMPLING_FLAG = N
SIGNAL_CHAIN_ID = 1
/* RADIOMETRIC DATA ELEMENTS */
BANDWIDTH = 180.0
CENTER_FILTER_WAVELENGTH = 677.0
RADIANCE_OFFSET = 6.49603
RADIANCE_SCALING_FACTOR = 0.0190292
REFLECTANCE_SCALING_FACTOR = 0.000600014
MEX:REFLECTANCE_OFFSET = 0.204827
/* IMAGE OBJECT DEFINITIONS */
OBJECT = IMAGE
  INTERCHANGE_FORMAT = BINARY
  LINES = 30317
  LINE_SAMPLES = 3759
  SAMPLE_TYPE = UNSIGNED_INTEGER
  SAMPLE_BITS = 8
  BANDS = 1
  BAND_STORAGE_TYPE = BAND_SEQUENTIAL
  MAXIMUM = 255
  MEAN = 126.218
  MINIMUM = 1
  STANDARD_DEVIATION = 27.5413
END_OBJECT = IMAGE
/* MAP OBJECT DEFINITIONS */
OBJECT = IMAGE_MAP_PROJECTION
  ^DATA_SET_MAP_PROJECTION_CATALOG= "DSMAP.CAT"
  A_AXIS_RADIUS = 3396.0
  B_AXIS_RADIUS = 3396.0
  C_AXIS_RADIUS = 3396.0
  CENTER_LATITUDE = 0.0
  CENTER_LONGITUDE = 215.0
  COORDINATE_SYSTEM_NAME = PLANETOGRAPHIC
  COORDINATE_SYSTEM_TYPE = "BODY-FIXED ROTATING"
  EASTERNMOST_LONGITUDE = 216.235
  FIRST_STANDARD_PARALLEL = "N/A"
  LINE_FIRST_PIXEL = 1
  LINE_LAST_PIXEL = 30317
  LINE_PROJECTION_OFFSET = 43059.25
  MAP_PROJECTION_ROTATION = 0.0
  MAP_PROJECTION_TYPE = SINUSOIDAL
  MAP_RESOLUTION = 1185.42760773333
  MAP_SCALE = 0.05
  MAXIMUM_LATITUDE = 36.4089
  MINIMUM_LATITUDE = 10.764
  POSITIVE_LONGITUDE_DIRECTION = EAST
  REFERENCE_LATITUDE = "N/A"
  REFERENCE_LONGITUDE = "N/A"
  SAMPLE_FIRST_PIXEL = 1
  SAMPLE_LAST_PIXEL = 3759
  SAMPLE_PROJECTION_OFFSET = 2136.25
  SECOND_STANDARD_PARALLEL = "N/A"
  WESTERNMOST_LONGITUDE = 213.336
END_OBJECT = IMAGE_MAP_PROJECTION
END
