PDS_VERSION_ID = PDS3
/* FILE DATA ELEMENTS */
RECORD_TYPE = UNDEFINED
/* POINTERS TO DATA OBJECTS */
^IMAGE = ("HO277_0000_S14.TIF")
/* IDENTIFICATION DATA ELEMENTS */
DATA_SET_ID = "MEX-M-HRSC-4-REFDR-MAPPROJECT-EXT9-V4.0"
DATA_SET_NAME = "MARS EXPRESS HRSC MAP PROJECTED REFDR EXTENSION9 V4.0"
DETECTOR_ID = MEX_HRSC_S1
EVENT_TYPE = "MARS-REGIONAL-MAPPING-Im-Gl-Pf"
INSTRUMENT_HOST_ID = MEX
INSTRUMENT_HOST_NAME = "MARS EXPRESS"
INSTRUMENT_ID = HRSC
INSTRUMENT_NAME = "HIGH RESOLUTION STEREO CAMERA"
MISSION_NAME = "MARS EXPRESS"
MISSION_PHASE_NAME = ME_Phase_47
PROCESSING_LEVEL_ID = 4
PRODUCT_CREATION_TIME = 2023-11-15T01:26:02.000Z
PRODUCT_ID = "HO277_0000_S14.TIF"
RELEASE_ID = 0003
REVISION_ID = 0000
/* QUALITY DATA ELEMENTS */
DATA_QUALITY_ID = 1
DATA_QUALITY_DESC = "Data calculated based on original SPICE kernels"
/* TIME DATA ELEMENTS */
SPACECRAFT_CLOCK_START_COUNT = "1/0627657147.25679"
SPACECRAFT_CLOCK_STOP_COUNT = "1/0627657466.22546"
START_TIME = 2023-03-23T13:13:03.241Z
STOP_TIME = 2023-03-23T13:17:04.502Z
/* ORBITAL DATA ELEMENTS */
ASCENDING_NODE_LONGITUDE = 122.59
MAXIMUM_RESOLUTION = 0.0342
FOOTPRINT_POINT_LATITUDE = (66.0666,66.0257,65.9724,65.9224, 65.9205,65.7848,65.4855,65.1857,64.8853 ,64.5844,64.2832,63.9812,63.6789, 63.2277,62.6359,62.0427,61.2986,61.0005 ,60.5522,60.1035,59.6537,59.3532, 59.0524,58.6005,58.299,57.9972,57.6951, 57.3926,57.0898,56.7868,56.3315,56.0278 ,55.5716,55.2673,54.8101,54.5053, 54.2002,53.8945,53.5889,53.1298,52.8238 ,52.3642,51.9041,51.4436,51.1367, 50.8297,50.676,50.6608,50.6882,50.7023, 50.7216,50.722,50.7226,51.1851,51.4935, 51.8016,52.2638,52.5711,52.8786,53.1863 ,53.4934,53.8003,54.1073,54.414,54.7204 ,55.0267,55.4854,55.7912,56.0966, 56.4019,56.707,57.0119,57.3163,57.6206, 57.9245,58.2281,58.5316,58.8345,59.1374 ,59.4401,59.8937,60.1951,60.4964, 60.7976,61.0983,61.3989,61.699,61.9986, 62.298,62.8959,63.4924,63.798,64.1028, 64.5597,64.8637,65.1671,65.4702,65.7728 ,65.924,66.0666)
FOOTPRINT_POINT_LONGITUDE = (317.173,315.955,314.708,313.734,313.7, 313.635,313.732,313.828,313.92,314.01, 314.097,314.182,314.265,314.384,314.532 ,314.673,314.839,314.902,314.994, 315.082,315.167,315.222,315.275,315.353 ,315.403,315.452,315.499,315.545,315.59 ,315.634,315.698,315.739,315.798, 315.837,315.892,315.928,315.963,315.997 ,316.03,316.078,316.109,316.154,316.197 ,316.238,316.265,316.291,316.303, 316.305,317.09,317.592,318.532,318.554, 318.562,318.542,318.527,318.513,318.491 ,318.476,318.461,318.445,318.428, 318.412,318.395,318.378,318.36,318.342, 318.314,318.295,318.275,318.255,318.234 ,318.213,318.192,318.17,318.148,318.125 ,318.101,318.077,318.052,318.027, 317.988,317.961,317.934,317.906,317.877 ,317.848,317.817,317.787,317.755, 317.689,317.62,317.583,317.546,317.487, 317.447,317.406,317.364,317.32,317.298, 317.173)
ORBIT_NUMBER = 24277
ORBITAL_ECCENTRICITY = 0.569
ORBITAL_INCLINATION = 87.07
ORBITAL_SEMIMAJOR_AXIS = 8777.28
PERIAPSIS_ALTITUDE = 398.89
PERIAPSIS_ARGUMENT_ANGLE = 121.58
PERIAPSIS_TIME = 2023-03-23T13:15:42.000Z
SPACECRAFT_ORIENTATION = (0.0,-1.0,0.0)
^MEX_ORIENTATION_DESC = "MEX_ORIENTATION_DESC.TXT"
SPACECRAFT_POINTING_MODE = NADIR
^MEX_POINTING_DESC = "MEX_POINTING_DESC.TXT"
RIGHT_ASCENSION = -1e+32
DECLINATION = -1e+32
OFFSET_ANGLE = -1e+32
SPACECRAFT_SOLAR_DISTANCE = 2.45809e+08
TARGET_NAME = MARS
/* CAMERA DATA ELEMENTS */
DETECTOR_TEMPERATURE = 17.9627
FOCAL_PLANE_TEMPERATURE = 8.1755
INST_CMPRS_NAME = "DISCRETE COSINE TRANSFORMATION (DCT)"
INST_CMPRS_RATIO = 11.1718
INST_CMPRS_QUALITY = 0
INST_CMPRS_QUANTZ_TBL_ID = 0
INSTRUMENT_TEMPERATURE = 11.0301
LENS_TEMPERATURE = 8.7872
MACROPIXEL_SIZE = 2
MISSING_FRAMES = 0
PIXEL_SUBSAMPLING_FLAG = N
SIGNAL_CHAIN_ID = 1
/* RADIOMETRIC DATA ELEMENTS */
BANDWIDTH = 180.0
CENTER_FILTER_WAVELENGTH = 677.0
RADIANCE_OFFSET = 3.4348
RADIANCE_SCALING_FACTOR = 0.0134698
REFLECTANCE_SCALING_FACTOR = 0.000424618
MEX:REFLECTANCE_OFFSET = 0.108278
/* IMAGE OBJECT DEFINITIONS */
OBJECT = IMAGE
  INTERCHANGE_FORMAT = BINARY
  LINES = 36176
  LINE_SAMPLES = 5594
  SAMPLE_TYPE = UNSIGNED_INTEGER
  SAMPLE_BITS = 8
  BANDS = 1
  BAND_STORAGE_TYPE = BAND_SEQUENTIAL
  MAXIMUM = 255
  MEAN = 67.3701
  MINIMUM = 1
  STANDARD_DEVIATION = 41.3765
END_OBJECT = IMAGE
/* MAP OBJECT DEFINITIONS */
OBJECT = IMAGE_MAP_PROJECTION
  ^DATA_SET_MAP_PROJECTION_CATALOG= "DSMAP.CAT"
  A_AXIS_RADIUS = 3396.0
  B_AXIS_RADIUS = 3396.0
  C_AXIS_RADIUS = 3396.0
  CENTER_LATITUDE = 0.0
  CENTER_LONGITUDE = 317.0
  COORDINATE_SYSTEM_NAME = PLANETOGRAPHIC
  COORDINATE_SYSTEM_TYPE = "BODY-FIXED ROTATING"
  EASTERNMOST_LONGITUDE = 318.562
  FIRST_STANDARD_PARALLEL = "N/A"
  LINE_FIRST_PIXEL = 1
  LINE_LAST_PIXEL = 36176
  LINE_PROJECTION_OFFSET = 156363.25
  MAP_PROJECTION_ROTATION = 0.0
  MAP_PROJECTION_TYPE = SINUSOIDAL
  MAP_RESOLUTION = 2370.85521546667
  MAP_SCALE = 0.025
  MAXIMUM_LATITUDE = 66.06659999999999
  MINIMUM_LATITUDE = 50.6608
  POSITIVE_LONGITUDE_DIRECTION = EAST
  REFERENCE_LATITUDE = "N/A"
  REFERENCE_LONGITUDE = "N/A"
  SAMPLE_FIRST_PIXEL = 1
  SAMPLE_LAST_PIXEL = 5594
  SAMPLE_PROJECTION_OFFSET = 3245.75
  SECOND_STANDARD_PARALLEL = "N/A"
  WESTERNMOST_LONGITUDE = 313.635
END_OBJECT = IMAGE_MAP_PROJECTION
END
