PDS_VERSION_ID = PDS3
/* FILE DATA ELEMENTS */
RECORD_TYPE = UNDEFINED
/* POINTERS TO DATA OBJECTS */
^IMAGE = ("HO277_0000_BL4.TIF")
/* IDENTIFICATION DATA ELEMENTS */
DATA_SET_ID = "MEX-M-HRSC-4-REFDR-MAPPROJECT-EXT9-V4.0"
DATA_SET_NAME = "MARS EXPRESS HRSC MAP PROJECTED REFDR EXTENSION9 V4.0"
DETECTOR_ID = MEX_HRSC_BLUE
EVENT_TYPE = "MARS-REGIONAL-MAPPING-Im-Gl-Pf"
INSTRUMENT_HOST_ID = MEX
INSTRUMENT_HOST_NAME = "MARS EXPRESS"
INSTRUMENT_ID = HRSC
INSTRUMENT_NAME = "HIGH RESOLUTION STEREO CAMERA"
MISSION_NAME = "MARS EXPRESS"
MISSION_PHASE_NAME = ME_Phase_47
PROCESSING_LEVEL_ID = 4
PRODUCT_CREATION_TIME = 2023-11-15T01:26:02.000Z
PRODUCT_ID = "HO277_0000_BL4.TIF"
RELEASE_ID = 0003
REVISION_ID = 0000
/* QUALITY DATA ELEMENTS */
DATA_QUALITY_ID = 1
DATA_QUALITY_DESC = "Data calculated based on original SPICE kernels"
/* TIME DATA ELEMENTS */
SPACECRAFT_CLOCK_START_COUNT = "1/0627657147.25679"
SPACECRAFT_CLOCK_STOP_COUNT = "1/0627657466.22546"
START_TIME = 2023-03-23T13:13:48.933Z
STOP_TIME = 2023-03-23T13:17:47.873Z
/* ORBITAL DATA ELEMENTS */
ASCENDING_NODE_LONGITUDE = 122.59
MAXIMUM_RESOLUTION = 0.0645
FOOTPRINT_POINT_LATITUDE = (65.9278,65.8955,65.8516,65.7966,65.795 ,65.8131,65.513,65.2127,64.9122,64.6115 ,64.3107,64.0097,63.7085,63.4072, 63.1058,62.8043,62.3517,62.0499,61.748, 61.446,61.1439,60.8418,60.3884,60.0861, 59.7837,59.4814,59.0278,58.5742,58.2718 ,57.9694,57.5157,57.2134,56.911,56.6087 ,56.3065,56.0042,55.7021,55.4,55.098, 54.7961,54.4942,53.8909,53.288,52.6855, 52.0836,51.4824,50.8817,50.7316,50.6979 ,50.7213,50.7413,50.7533,50.7536, 50.7547,51.3572,51.9604,52.5644,53.1688 ,53.4714,53.774,54.0768,54.3796,54.6827 ,54.9858,55.2891,55.5924,55.8959, 56.1994,56.503,56.8067,57.1104,57.4143, 57.7181,58.0221,58.326,58.6301,58.9341, 59.2382,59.5423,59.9984,60.3025,60.6067 ,60.9107,61.3669,61.6709,61.9749, 62.2789,62.5828,62.8866,63.1904,63.4942 ,63.7978,64.1014,64.4049,64.7083, 65.0116,65.4665,65.7694,65.9209, 65.9278)
FOOTPRINT_POINT_LONGITUDE = (317.13,316.129,315.007,313.826,313.795 ,313.686,313.782,313.875,313.965, 314.053,314.138,314.221,314.301,314.38, 314.456,314.53,314.637,314.705,314.772, 314.837,314.901,314.962,315.052,315.109 ,315.165,315.22,315.298,315.374,315.422 ,315.47,315.539,315.583,315.626,315.668 ,315.708,315.748,315.786,315.824,315.86 ,315.896,315.93,315.996,316.059,316.118 ,316.173,316.226,316.275,316.287,316.29 ,317.053,317.881,318.541,318.562, 318.569,318.54,318.51,318.479,318.446, 318.429,318.412,318.394,318.376,318.357 ,318.338,318.319,318.299,318.279, 318.258,318.236,318.215,318.192,318.169 ,318.146,318.122,318.097,318.072, 318.046,318.02,317.992,317.951,317.922, 317.892,317.862,317.815,317.782,317.749 ,317.715,317.68,317.645,317.608,317.57, 317.531,317.492,317.451,317.409,317.365 ,317.298,317.252,317.228,317.13)
ORBIT_NUMBER = 24277
ORBITAL_ECCENTRICITY = 0.569
ORBITAL_INCLINATION = 87.07
ORBITAL_SEMIMAJOR_AXIS = 8777.28
PERIAPSIS_ALTITUDE = 398.89
PERIAPSIS_ARGUMENT_ANGLE = 121.58
PERIAPSIS_TIME = 2023-03-23T13:15:42.000Z
SPACECRAFT_ORIENTATION = (0.0,-1.0,0.0)
^MEX_ORIENTATION_DESC = "MEX_ORIENTATION_DESC.TXT"
SPACECRAFT_POINTING_MODE = NADIR
^MEX_POINTING_DESC = "MEX_POINTING_DESC.TXT"
RIGHT_ASCENSION = -1e+32
DECLINATION = -1e+32
OFFSET_ANGLE = -1e+32
SPACECRAFT_SOLAR_DISTANCE = 2.45809e+08
TARGET_NAME = MARS
/* CAMERA DATA ELEMENTS */
DETECTOR_TEMPERATURE = 18.3705
FOCAL_PLANE_TEMPERATURE = 8.1755
INST_CMPRS_NAME = "DISCRETE COSINE TRANSFORMATION (DCT)"
INST_CMPRS_RATIO = 4.16001
INST_CMPRS_QUALITY = 0
INST_CMPRS_QUANTZ_TBL_ID = 0
INSTRUMENT_TEMPERATURE = 11.0301
LENS_TEMPERATURE = 8.7872
MACROPIXEL_SIZE = 4
MISSING_FRAMES = 0
PIXEL_SUBSAMPLING_FLAG = N
SIGNAL_CHAIN_ID = 2
/* RADIOMETRIC DATA ELEMENTS */
BANDWIDTH = 76.0
CENTER_FILTER_WAVELENGTH = 444.0
RADIANCE_OFFSET = 0.589112
RADIANCE_SCALING_FACTOR = 0.00118592
REFLECTANCE_SCALING_FACTOR = 7.36223e-05
MEX:REFLECTANCE_OFFSET = 0.0365721
/* IMAGE OBJECT DEFINITIONS */
OBJECT = IMAGE
  INTERCHANGE_FORMAT = BINARY
  LINES = 18088
  LINE_SAMPLES = 2797
  SAMPLE_TYPE = UNSIGNED_INTEGER
  SAMPLE_BITS = 8
  BANDS = 1
  BAND_STORAGE_TYPE = BAND_SEQUENTIAL
  MAXIMUM = 255
  MEAN = 89.2664
  MINIMUM = 2
  STANDARD_DEVIATION = 43.8709
END_OBJECT = IMAGE
/* MAP OBJECT DEFINITIONS */
OBJECT = IMAGE_MAP_PROJECTION
  ^DATA_SET_MAP_PROJECTION_CATALOG= "DSMAP.CAT"
  A_AXIS_RADIUS = 3396.0
  B_AXIS_RADIUS = 3396.0
  C_AXIS_RADIUS = 3396.0
  CENTER_LATITUDE = 0.0
  CENTER_LONGITUDE = 317.0
  COORDINATE_SYSTEM_NAME = PLANETOGRAPHIC
  COORDINATE_SYSTEM_TYPE = "BODY-FIXED ROTATING"
  EASTERNMOST_LONGITUDE = 318.569
  FIRST_STANDARD_PARALLEL = "N/A"
  LINE_FIRST_PIXEL = 1
  LINE_LAST_PIXEL = 18088
  LINE_PROJECTION_OFFSET = 78181.375
  MAP_PROJECTION_ROTATION = 0.0
  MAP_PROJECTION_TYPE = SINUSOIDAL
  MAP_RESOLUTION = 1185.42760773333
  MAP_SCALE = 0.05
  MAXIMUM_LATITUDE = 65.9278
  MINIMUM_LATITUDE = 50.6979
  POSITIVE_LONGITUDE_DIRECTION = EAST
  REFERENCE_LATITUDE = "N/A"
  REFERENCE_LONGITUDE = "N/A"
  SAMPLE_FIRST_PIXEL = 1
  SAMPLE_LAST_PIXEL = 2797
  SAMPLE_PROJECTION_OFFSET = 1622.625
  SECOND_STANDARD_PARALLEL = "N/A"
  WESTERNMOST_LONGITUDE = 313.686
END_OBJECT = IMAGE_MAP_PROJECTION
END
