PDS_VERSION_ID = PDS3
/* FILE DATA ELEMENTS */
RECORD_TYPE = UNDEFINED
/* POINTERS TO DATA OBJECTS */
^IMAGE = ("HO274_0000_P24.TIF")
/* IDENTIFICATION DATA ELEMENTS */
DATA_SET_ID = "MEX-M-HRSC-4-REFDR-MAPPROJECT-EXT9-V4.0"
DATA_SET_NAME = "MARS EXPRESS HRSC MAP PROJECTED REFDR EXTENSION9 V4.0"
DETECTOR_ID = MEX_HRSC_P2
EVENT_TYPE = "MARS-REGIONAL-MAPPING-Te-Gl-Pf"
INSTRUMENT_HOST_ID = MEX
INSTRUMENT_HOST_NAME = "MARS EXPRESS"
INSTRUMENT_ID = HRSC
INSTRUMENT_NAME = "HIGH RESOLUTION STEREO CAMERA"
MISSION_NAME = "MARS EXPRESS"
MISSION_PHASE_NAME = ME_Phase_47
PROCESSING_LEVEL_ID = 4
PRODUCT_CREATION_TIME = 2023-11-15T01:26:02.000Z
PRODUCT_ID = "HO274_0000_P24.TIF"
RELEASE_ID = 0003
REVISION_ID = 0000
/* QUALITY DATA ELEMENTS */
DATA_QUALITY_ID = 1
DATA_QUALITY_DESC = "Data calculated based on original SPICE kernels"
/* TIME DATA ELEMENTS */
SPACECRAFT_CLOCK_START_COUNT = "1/0627581723.25681"
SPACECRAFT_CLOCK_STOP_COUNT = "1/0627582044.08169"
START_TIME = 2023-03-22T16:17:03.213Z
STOP_TIME = 2023-03-22T16:21:04.497Z
/* ORBITAL DATA ELEMENTS */
ASCENDING_NODE_LONGITUDE = 122.65
MAXIMUM_RESOLUTION = 0.033
FOOTPRINT_POINT_LATITUDE = (65.5294,65.4984,65.4448,65.4024, 65.4009,65.4768,64.8643,64.558,64.2517, 63.7921,63.3325,63.026,62.7195,62.413, 62.1066,61.8002,61.4939,61.0346,60.5745 ,60.1149,59.8087,59.5025,59.1965, 58.7373,58.2788,57.973,57.6677,57.3623, 57.0572,56.7523,56.4475,55.9907,55.6862 ,55.3821,55.0783,54.7744,54.471,54.016, 53.5615,53.2596,52.9573,52.6551,52.3535 ,51.9013,51.6003,50.9996,50.3994, 50.2497,50.2174,50.2396,50.2596,50.2703 ,50.2707,50.2713,50.8726,51.174,51.4758 ,51.7771,52.0799,52.3815,52.6848, 52.9876,53.291,53.5946,53.8985,54.203, 54.5073,54.8117,55.1168,55.4218,55.7274 ,56.186,56.6448,56.9513,57.2581,57.7181 ,58.0251,58.3321,58.6395,58.9471, 59.4085,59.8706,60.1787,60.487,60.7955, 61.2579,61.7205,62.0289,62.3376,62.6462 ,62.9549,63.2637,63.7269,64.0358, 64.3448,64.6537,64.9626,65.4261,65.5805 ,65.5294)
FOOTPRINT_POINT_LONGITUDE = (263.549,262.588,261.216,260.293, 260.261,260.14,260.327,260.416,260.503, 260.628,260.748,260.826,260.9,260.973, 261.044,261.113,261.179,261.276,261.369 ,261.458,261.515,261.571,261.625, 261.704,261.779,261.827,261.874,261.92, 261.964,262.007,262.049,262.11,262.149, 262.187,262.224,262.26,262.295,262.345, 262.394,262.424,262.455,262.484,262.512 ,262.554,262.58,262.63,262.678,262.689, 262.691,263.46,264.339,264.933,264.955, 264.963,264.934,264.92,264.905,264.889, 264.874,264.857,264.841,264.824,264.807 ,264.789,264.771,264.753,264.734, 264.715,264.695,264.675,264.654,264.622 ,264.589,264.567,264.544,264.508, 264.483,264.458,264.432,264.406,264.364 ,264.322,264.293,264.263,264.232, 264.184,264.134,264.1,264.065,264.028, 263.991,263.953,263.894,263.853,263.811 ,263.767,263.723,263.653,263.629, 263.549)
ORBIT_NUMBER = 24274
ORBITAL_ECCENTRICITY = 0.57
ORBITAL_INCLINATION = 87.06
ORBITAL_SEMIMAJOR_AXIS = 8782.4
PERIAPSIS_ALTITUDE = 398.24
PERIAPSIS_ARGUMENT_ANGLE = 122.07
PERIAPSIS_TIME = 2023-03-22T16:18:40.000Z
SPACECRAFT_ORIENTATION = (0.0,-1.0,0.0)
^MEX_ORIENTATION_DESC = "MEX_ORIENTATION_DESC.TXT"
SPACECRAFT_POINTING_MODE = NADIR
^MEX_POINTING_DESC = "MEX_POINTING_DESC.TXT"
RIGHT_ASCENSION = -1e+32
DECLINATION = -1e+32
OFFSET_ANGLE = -1e+32
SPACECRAFT_SOLAR_DISTANCE = 2.45723e+08
TARGET_NAME = MARS
/* CAMERA DATA ELEMENTS */
DETECTOR_TEMPERATURE = 18.9822
FOCAL_PLANE_TEMPERATURE = 9.6028
INST_CMPRS_NAME = "DISCRETE COSINE TRANSFORMATION (DCT)"
INST_CMPRS_RATIO = 8.82178
INST_CMPRS_QUALITY = 0
INST_CMPRS_QUANTZ_TBL_ID = 0
INSTRUMENT_TEMPERATURE = 11.6418
LENS_TEMPERATURE = 10.0106
MACROPIXEL_SIZE = 2
MISSING_FRAMES = 0
PIXEL_SUBSAMPLING_FLAG = N
SIGNAL_CHAIN_ID = 3
/* RADIOMETRIC DATA ELEMENTS */
BANDWIDTH = 177.0
CENTER_FILTER_WAVELENGTH = 676.5
RADIANCE_OFFSET = 2.99769
RADIANCE_SCALING_FACTOR = 0.0203391
REFLECTANCE_SCALING_FACTOR = 0.000651149
MEX:REFLECTANCE_OFFSET = 0.0959698
/* IMAGE OBJECT DEFINITIONS */
OBJECT = IMAGE
  INTERCHANGE_FORMAT = BINARY
  LINES = 36490
  LINE_SAMPLES = 5769
  SAMPLE_TYPE = UNSIGNED_INTEGER
  SAMPLE_BITS = 8
  BANDS = 1
  BAND_STORAGE_TYPE = BAND_SEQUENTIAL
  MAXIMUM = 255
  MEAN = 113.736
  MINIMUM = 1
  STANDARD_DEVIATION = 27.6823
END_OBJECT = IMAGE
/* MAP OBJECT DEFINITIONS */
OBJECT = IMAGE_MAP_PROJECTION
  ^DATA_SET_MAP_PROJECTION_CATALOG= "DSMAP.CAT"
  A_AXIS_RADIUS = 3396.0
  B_AXIS_RADIUS = 3396.0
  C_AXIS_RADIUS = 3396.0
  CENTER_LATITUDE = 0.0
  CENTER_LONGITUDE = 263.0
  COORDINATE_SYSTEM_NAME = PLANETOGRAPHIC
  COORDINATE_SYSTEM_TYPE = "BODY-FIXED ROTATING"
  EASTERNMOST_LONGITUDE = 264.963
  FIRST_STANDARD_PARALLEL = "N/A"
  LINE_FIRST_PIXEL = 1
  LINE_LAST_PIXEL = 36490
  LINE_PROJECTION_OFFSET = 155548.75
  MAP_PROJECTION_ROTATION = 0.0
  MAP_PROJECTION_TYPE = SINUSOIDAL
  MAP_RESOLUTION = 2370.85521546667
  MAP_SCALE = 0.025
  MAXIMUM_LATITUDE = 65.5805
  MINIMUM_LATITUDE = 50.2174
  POSITIVE_LONGITUDE_DIRECTION = EAST
  REFERENCE_LATITUDE = "N/A"
  REFERENCE_LONGITUDE = "N/A"
  SAMPLE_FIRST_PIXEL = 1
  SAMPLE_LAST_PIXEL = 5769
  SAMPLE_PROJECTION_OFFSET = 2828.25
  SECOND_STANDARD_PARALLEL = "N/A"
  WESTERNMOST_LONGITUDE = 260.14
END_OBJECT = IMAGE_MAP_PROJECTION
END
