PDS_VERSION_ID = PDS3
/* FILE DATA ELEMENTS */
RECORD_TYPE = UNDEFINED
/* POINTERS TO DATA OBJECTS */
^IMAGE = ("HO274_0000_BL4.TIF")
/* IDENTIFICATION DATA ELEMENTS */
DATA_SET_ID = "MEX-M-HRSC-4-REFDR-MAPPROJECT-EXT9-V4.0"
DATA_SET_NAME = "MARS EXPRESS HRSC MAP PROJECTED REFDR EXTENSION9 V4.0"
DETECTOR_ID = MEX_HRSC_BLUE
EVENT_TYPE = "MARS-REGIONAL-MAPPING-Te-Gl-Pf"
INSTRUMENT_HOST_ID = MEX
INSTRUMENT_HOST_NAME = "MARS EXPRESS"
INSTRUMENT_ID = HRSC
INSTRUMENT_NAME = "HIGH RESOLUTION STEREO CAMERA"
MISSION_NAME = "MARS EXPRESS"
MISSION_PHASE_NAME = ME_Phase_47
PROCESSING_LEVEL_ID = 4
PRODUCT_CREATION_TIME = 2023-11-15T01:26:02.000Z
PRODUCT_ID = "HO274_0000_BL4.TIF"
RELEASE_ID = 0003
REVISION_ID = 0000
/* QUALITY DATA ELEMENTS */
DATA_QUALITY_ID = 1
DATA_QUALITY_DESC = "Data calculated based on original SPICE kernels"
/* TIME DATA ELEMENTS */
SPACECRAFT_CLOCK_START_COUNT = "1/0627581723.25681"
SPACECRAFT_CLOCK_STOP_COUNT = "1/0627582044.08169"
START_TIME = 2023-03-22T16:16:44.769Z
STOP_TIME = 2023-03-22T16:20:45.730Z
/* ORBITAL DATA ELEMENTS */
ASCENDING_NODE_LONGITUDE = 122.65
MAXIMUM_RESOLUTION = 0.0639
FOOTPRINT_POINT_LATITUDE = (65.5858,65.5539,65.5106,65.4563, 65.4548,65.4713,65.1691,64.8667,64.5641 ,64.2613,63.9584,63.6552,63.352,63.0485 ,62.7449,62.4412,62.1374,61.8335, 61.3774,61.0733,60.769,60.4646,60.1602, 59.7034,59.2465,58.9419,58.485,58.1803, 57.8756,57.4186,57.114,56.8094,56.5048, 56.2003,55.8958,55.5913,55.287,54.9827, 54.6784,54.3743,54.0702,53.7661,53.4623 ,52.855,52.2481,51.6418,51.0363,50.4311 ,50.28,50.2184,50.2395,50.2634,50.2721, 50.2724,50.2735,50.8803,51.4879,52.0961 ,52.5526,52.8572,53.162,53.4668,53.7719 ,54.0771,54.3823,54.6877,54.9931, 55.2987,55.6044,55.9103,56.2161,56.5219 ,56.828,57.1342,57.5934,58.0527,58.3589 ,58.6652,58.9715,59.431,59.7374,60.1969 ,60.5033,60.8096,61.1158,61.5751, 61.8812,62.3403,62.6462,62.9522,63.258, 63.5638,63.8694,64.175,64.4805,64.7858, 65.091,65.3962,65.5487,65.5858)
FOOTPRINT_POINT_LONGITUDE = (263.545,262.557,261.449,260.283, 260.253,260.153,260.247,260.339,260.428 ,260.514,260.598,260.679,260.758, 260.835,260.91,260.983,261.053,261.122, 261.221,261.285,261.348,261.409,261.468 ,261.554,261.636,261.689,261.766, 261.815,261.863,261.933,261.978,262.022 ,262.064,262.105,262.145,262.185, 262.223,262.259,262.295,262.33,262.364, 262.398,262.43,262.491,262.549,262.604, 262.655,262.704,262.715,262.72,263.402, 264.419,264.917,264.938,264.945,264.917 ,264.887,264.857,264.833,264.816, 264.799,264.782,264.765,264.747,264.729 ,264.71,264.69,264.671,264.651,264.631, 264.609,264.587,264.566,264.543,264.508 ,264.472,264.447,264.422,264.396, 264.356,264.328,264.286,264.256,264.226 ,264.195,264.147,264.114,264.062, 264.027,263.991,263.953,263.915,263.876 ,263.835,263.793,263.751,263.707, 263.662,263.639,263.545)
ORBIT_NUMBER = 24274
ORBITAL_ECCENTRICITY = 0.57
ORBITAL_INCLINATION = 87.06
ORBITAL_SEMIMAJOR_AXIS = 8782.4
PERIAPSIS_ALTITUDE = 398.24
PERIAPSIS_ARGUMENT_ANGLE = 122.07
PERIAPSIS_TIME = 2023-03-22T16:18:40.000Z
SPACECRAFT_ORIENTATION = (0.0,-1.0,0.0)
^MEX_ORIENTATION_DESC = "MEX_ORIENTATION_DESC.TXT"
SPACECRAFT_POINTING_MODE = NADIR
^MEX_POINTING_DESC = "MEX_POINTING_DESC.TXT"
RIGHT_ASCENSION = -1e+32
DECLINATION = -1e+32
OFFSET_ANGLE = -1e+32
SPACECRAFT_SOLAR_DISTANCE = 2.45723e+08
TARGET_NAME = MARS
/* CAMERA DATA ELEMENTS */
DETECTOR_TEMPERATURE = 18.7783
FOCAL_PLANE_TEMPERATURE = 9.6028
INST_CMPRS_NAME = "DISCRETE COSINE TRANSFORMATION (DCT)"
INST_CMPRS_RATIO = 9.09037
INST_CMPRS_QUALITY = 0
INST_CMPRS_QUANTZ_TBL_ID = 0
INSTRUMENT_TEMPERATURE = 11.6418
LENS_TEMPERATURE = 10.0106
MACROPIXEL_SIZE = 4
MISSING_FRAMES = 0
PIXEL_SUBSAMPLING_FLAG = N
SIGNAL_CHAIN_ID = 2
/* RADIOMETRIC DATA ELEMENTS */
BANDWIDTH = 76.0
CENTER_FILTER_WAVELENGTH = 444.0
RADIANCE_OFFSET = 0.402347
RADIANCE_SCALING_FACTOR = 0.00176346
REFLECTANCE_SCALING_FACTOR = 0.000109399
MEX:REFLECTANCE_OFFSET = 0.0249602
/* IMAGE OBJECT DEFINITIONS */
OBJECT = IMAGE
  INTERCHANGE_FORMAT = BINARY
  LINES = 18245
  LINE_SAMPLES = 2885
  SAMPLE_TYPE = UNSIGNED_INTEGER
  SAMPLE_BITS = 8
  BANDS = 1
  BAND_STORAGE_TYPE = BAND_SEQUENTIAL
  MAXIMUM = 255
  MEAN = 121.342
  MINIMUM = 1
  STANDARD_DEVIATION = 26.5117
END_OBJECT = IMAGE
/* MAP OBJECT DEFINITIONS */
OBJECT = IMAGE_MAP_PROJECTION
  ^DATA_SET_MAP_PROJECTION_CATALOG= "DSMAP.CAT"
  A_AXIS_RADIUS = 3396.0
  B_AXIS_RADIUS = 3396.0
  C_AXIS_RADIUS = 3396.0
  CENTER_LATITUDE = 0.0
  CENTER_LONGITUDE = 263.0
  COORDINATE_SYSTEM_NAME = PLANETOGRAPHIC
  COORDINATE_SYSTEM_TYPE = "BODY-FIXED ROTATING"
  EASTERNMOST_LONGITUDE = 264.945
  FIRST_STANDARD_PARALLEL = "N/A"
  LINE_FIRST_PIXEL = 1
  LINE_LAST_PIXEL = 18245
  LINE_PROJECTION_OFFSET = 77774.125
  MAP_PROJECTION_ROTATION = 0.0
  MAP_PROJECTION_TYPE = SINUSOIDAL
  MAP_RESOLUTION = 1185.42760773333
  MAP_SCALE = 0.05
  MAXIMUM_LATITUDE = 65.58580000000001
  MINIMUM_LATITUDE = 50.2184
  POSITIVE_LONGITUDE_DIRECTION = EAST
  REFERENCE_LATITUDE = "N/A"
  REFERENCE_LONGITUDE = "N/A"
  SAMPLE_FIRST_PIXEL = 1
  SAMPLE_LAST_PIXEL = 2885
  SAMPLE_PROJECTION_OFFSET = 1413.875
  SECOND_STANDARD_PARALLEL = "N/A"
  WESTERNMOST_LONGITUDE = 260.153
END_OBJECT = IMAGE_MAP_PROJECTION
END
