PDS_VERSION_ID = PDS3
/* FILE DATA ELEMENTS */
RECORD_TYPE = UNDEFINED
/* POINTERS TO DATA OBJECTS */
^IMAGE = ("HO271_0000_ND4.TIF")
/* IDENTIFICATION DATA ELEMENTS */
DATA_SET_ID = "MEX-M-HRSC-4-REFDR-MAPPROJECT-EXT9-V4.0"
DATA_SET_NAME = "MARS EXPRESS HRSC MAP PROJECTED REFDR EXTENSION9 V4.0"
DETECTOR_ID = MEX_HRSC_NADIR
EVENT_TYPE = "MARS-LOCAL-CARTOGRAPHY-Eo-Mw-Ls"
INSTRUMENT_HOST_ID = MEX
INSTRUMENT_HOST_NAME = "MARS EXPRESS"
INSTRUMENT_ID = HRSC
INSTRUMENT_NAME = "HIGH RESOLUTION STEREO CAMERA"
MISSION_NAME = "MARS EXPRESS"
MISSION_PHASE_NAME = ME_Phase_47
PROCESSING_LEVEL_ID = 4
PRODUCT_CREATION_TIME = 2023-11-15T01:26:02.000Z
PRODUCT_ID = "HO271_0000_ND4.TIF"
RELEASE_ID = 0003
REVISION_ID = 0000
/* QUALITY DATA ELEMENTS */
DATA_QUALITY_ID = 1
DATA_QUALITY_DESC = "Data calculated based on original SPICE kernels"
/* TIME DATA ELEMENTS */
SPACECRAFT_CLOCK_START_COUNT = "1/0627506738.23954"
SPACECRAFT_CLOCK_STOP_COUNT = "1/0627507374.40116"
START_TIME = 2023-03-21T19:26:58.568Z
STOP_TIME = 2023-03-21T19:34:43.543Z
/* ORBITAL DATA ELEMENTS */
ASCENDING_NODE_LONGITUDE = 122.7
MAXIMUM_RESOLUTION = 0.0194
FOOTPRINT_POINT_LATITUDE = (36.6787,36.6852,36.6868,36.6849, 36.6848,36.6856,36.1799,35.6676,35.1531 ,34.633,34.1101,33.5813,33.0502,32.5112 ,31.6963,31.1481,30.5917,30.0371, 29.4845,28.9337,28.3849,27.838,27.2931, 26.7502,26.2094,25.6706,25.1339,24.5992 ,24.0668,23.5364,23.0081,22.4821, 21.9582,21.4365,20.9171,20.3998,19.8848 ,19.372,18.8615,18.3533,17.8474,16.8423 ,15.8465,14.86,13.8828,12.9151,11.9567, 11.0078,10.772,10.7693,10.742,10.717, 10.6754,10.6743,10.674,11.6254,12.5862, 13.5562,14.5355,15.5241,16.5218,17.0241 ,17.5287,18.0356,18.5447,19.056,19.5696 ,20.0854,20.6034,21.1237,21.6461, 22.1707,22.6974,23.2263,23.7573,24.2905 ,24.8257,25.363,25.9024,26.4438,26.9873 ,27.5327,28.0801,28.6295,29.1808,29.734 ,30.2891,30.846,31.4002,31.9498,32.4918 ,33.0322,33.5645,34.0947,34.6188, 35.1401,35.6558,36.4226,36.6762, 36.6787)
FOOTPRINT_POINT_LONGITUDE = (213.142,212.374,211.708,211.054, 211.034,211.032,211.026,211.019,211.011 ,211.003,210.994,210.984,210.973, 210.961,210.943,210.929,210.915,210.9, 210.885,210.869,210.852,210.835,210.817 ,210.799,210.78,210.761,210.741,210.72, 210.7,210.678,210.656,210.634,210.612, 210.588,210.565,210.541,210.516,210.492 ,210.466,210.441,210.415,210.361, 210.307,210.251,210.193,210.134,210.074 ,210.012,209.996,209.996,211.005,211.84 ,213.094,213.126,213.141,213.14,213.14, 213.14,213.138,213.138,213.137,213.137, 213.138,213.139,213.14,213.141,213.141, 213.142,213.143,213.142,213.144,213.146 ,213.148,213.148,213.149,213.151, 213.153,213.154,213.156,213.158,213.161 ,213.164,213.164,213.17,213.172,213.175 ,213.177,213.179,213.183,213.186, 213.188,213.191,213.193,213.194,213.197 ,213.199,213.2,213.203,213.203,213.142)
ORBIT_NUMBER = 24271
ORBITAL_ECCENTRICITY = 0.569
ORBITAL_INCLINATION = 87.08
ORBITAL_SEMIMAJOR_AXIS = 8778.84
PERIAPSIS_ALTITUDE = 397.88
PERIAPSIS_ARGUMENT_ANGLE = 122.59
PERIAPSIS_TIME = 2023-03-21T19:21:29.000Z
SPACECRAFT_ORIENTATION = (0.0,-1.0,0.0)
^MEX_ORIENTATION_DESC = "MEX_ORIENTATION_DESC.TXT"
SPACECRAFT_POINTING_MODE = ACROSSTRACK
^MEX_POINTING_DESC = "MEX_POINTING_DESC.TXT"
RIGHT_ASCENSION = -1e+32
DECLINATION = -1e+32
OFFSET_ANGLE = 1.078
SPACECRAFT_SOLAR_DISTANCE = 2.45636e+08
TARGET_NAME = MARS
/* CAMERA DATA ELEMENTS */
DETECTOR_TEMPERATURE = 18.3705
FOCAL_PLANE_TEMPERATURE = 8.7872
INST_CMPRS_NAME = "DISCRETE COSINE TRANSFORMATION (DCT)"
INST_CMPRS_RATIO = 6.46587
INST_CMPRS_QUALITY = 0
INST_CMPRS_QUANTZ_TBL_ID = 0
INSTRUMENT_TEMPERATURE = 10.8262
LENS_TEMPERATURE = 8.7872
MACROPIXEL_SIZE = 1
MISSING_FRAMES = 0
PIXEL_SUBSAMPLING_FLAG = N
SIGNAL_CHAIN_ID = 0
/* RADIOMETRIC DATA ELEMENTS */
BANDWIDTH = 177.0
CENTER_FILTER_WAVELENGTH = 677.5
RADIANCE_OFFSET = 5.61237
RADIANCE_SCALING_FACTOR = 0.0199132
REFLECTANCE_SCALING_FACTOR = 0.000638277
MEX:REFLECTANCE_OFFSET = 0.179893
/* IMAGE OBJECT DEFINITIONS */
OBJECT = IMAGE
  INTERCHANGE_FORMAT = BINARY
  LINES = 61676
  LINE_SAMPLES = 7327
  SAMPLE_TYPE = UNSIGNED_INTEGER
  SAMPLE_BITS = 8
  BANDS = 1
  BAND_STORAGE_TYPE = BAND_SEQUENTIAL
  MAXIMUM = 255
  MEAN = 131.404
  MINIMUM = 1
  STANDARD_DEVIATION = 28.3961
END_OBJECT = IMAGE
/* MAP OBJECT DEFINITIONS */
OBJECT = IMAGE_MAP_PROJECTION
  ^DATA_SET_MAP_PROJECTION_CATALOG= "DSMAP.CAT"
  A_AXIS_RADIUS = 3396.0
  B_AXIS_RADIUS = 3396.0
  C_AXIS_RADIUS = 3396.0
  CENTER_LATITUDE = 0.0
  CENTER_LONGITUDE = 212.0
  COORDINATE_SYSTEM_NAME = PLANETOGRAPHIC
  COORDINATE_SYSTEM_TYPE = "BODY-FIXED ROTATING"
  EASTERNMOST_LONGITUDE = 213.203
  FIRST_STANDARD_PARALLEL = "N/A"
  LINE_FIRST_PIXEL = 1
  LINE_LAST_PIXEL = 61676
  LINE_PROJECTION_OFFSET = 86981.0
  MAP_PROJECTION_ROTATION = 0.0
  MAP_PROJECTION_TYPE = SINUSOIDAL
  MAP_RESOLUTION = 2370.85521546667
  MAP_SCALE = 0.025
  MAXIMUM_LATITUDE = 36.6868
  MINIMUM_LATITUDE = 10.674
  POSITIVE_LONGITUDE_DIRECTION = EAST
  REFERENCE_LATITUDE = "N/A"
  REFERENCE_LONGITUDE = "N/A"
  SAMPLE_FIRST_PIXEL = 1
  SAMPLE_LAST_PIXEL = 7327
  SAMPLE_PROJECTION_OFFSET = 4667.0
  SECOND_STANDARD_PARALLEL = "N/A"
  WESTERNMOST_LONGITUDE = 209.996
END_OBJECT = IMAGE_MAP_PROJECTION
END
