PDS_VERSION_ID = PDS3
/* FILE DATA ELEMENTS */
RECORD_TYPE = UNDEFINED
/* POINTERS TO DATA OBJECTS */
^IMAGE = ("HO271_0000_GR4.TIF")
/* IDENTIFICATION DATA ELEMENTS */
DATA_SET_ID = "MEX-M-HRSC-4-REFDR-MAPPROJECT-EXT9-V4.0"
DATA_SET_NAME = "MARS EXPRESS HRSC MAP PROJECTED REFDR EXTENSION9 V4.0"
DETECTOR_ID = MEX_HRSC_GREEN
EVENT_TYPE = "MARS-LOCAL-CARTOGRAPHY-Eo-Mw-Ls"
INSTRUMENT_HOST_ID = MEX
INSTRUMENT_HOST_NAME = "MARS EXPRESS"
INSTRUMENT_ID = HRSC
INSTRUMENT_NAME = "HIGH RESOLUTION STEREO CAMERA"
MISSION_NAME = "MARS EXPRESS"
MISSION_PHASE_NAME = ME_Phase_47
PROCESSING_LEVEL_ID = 4
PRODUCT_CREATION_TIME = 2023-11-15T01:26:02.000Z
PRODUCT_ID = "HO271_0000_GR4.TIF"
RELEASE_ID = 0003
REVISION_ID = 0000
/* QUALITY DATA ELEMENTS */
DATA_QUALITY_ID = 1
DATA_QUALITY_DESC = "Data calculated based on original SPICE kernels"
/* TIME DATA ELEMENTS */
SPACECRAFT_CLOCK_START_COUNT = "1/0627506738.23954"
SPACECRAFT_CLOCK_STOP_COUNT = "1/0627507374.40116"
START_TIME = 2023-03-21T19:26:50.727Z
STOP_TIME = 2023-03-21T19:34:26.850Z
/* ORBITAL DATA ELEMENTS */
ASCENDING_NODE_LONGITUDE = 122.7
MAXIMUM_RESOLUTION = 0.0771
FOOTPRINT_POINT_LATITUDE = (36.6795,36.6928,36.7011,36.7012, 36.6894,35.6859,35.1779,34.6678,34.1521 ,33.6333,33.1091,32.582,32.0478,31.2395 ,30.4195,29.8673,29.3167,28.7678, 28.2206,27.6754,27.132,26.5903,26.0504, 25.5123,24.9761,24.4416,23.9094,23.3789 ,22.8503,22.3237,21.7992,21.2764, 20.7558,20.2371,19.7207,19.2064,18.6938 ,18.1832,17.6749,17.1688,16.6648, 16.1629,15.1657,14.177,12.9442,11.9751, 11.0147,10.776,10.7648,10.7359,10.7164, 10.6888,10.6572,10.6559,10.6567,11.6194 ,12.5907,13.5707,14.0737,15.0669, 16.0686,16.5727,17.0788,17.5868,18.097, 18.6092,19.1235,19.6401,20.1585,20.6788 ,21.2017,21.7257,22.2523,22.7804, 23.3106,23.843,24.377,24.9131,25.451, 25.9906,26.5322,27.0751,27.62,28.1669, 28.7148,29.2652,29.8171,30.3707,31.1926 ,32.0028,32.5385,33.0669,33.5926, 34.1126,34.6295,35.1408,35.6502,36.4042 ,36.656,36.6795)
FOOTPRINT_POINT_LONGITUDE = (213.133,212.298,211.068,211.049, 211.053,211.041,211.033,211.025,211.017 ,211.007,210.997,210.986,210.975, 210.956,210.935,210.921,210.906,210.89, 210.873,210.857,210.839,210.821,210.803 ,210.784,210.764,210.744,210.724, 210.703,210.682,210.66,210.637,210.615, 210.592,210.568,210.544,210.52,210.495, 210.469,210.444,210.418,210.391,210.365 ,210.31,210.254,210.181,210.122,210.062 ,210.046,210.046,210.973,211.541, 212.287,213.07,213.099,213.109,213.109, 213.11,213.111,213.111,213.111,213.113, 213.113,213.114,213.115,213.117,213.118 ,213.119,213.12,213.121,213.123,213.123 ,213.126,213.127,213.13,213.132,213.133 ,213.135,213.137,213.139,213.141, 213.143,213.147,213.15,213.152,213.158, 213.16,213.162,213.165,213.17,213.175, 213.178,213.18,213.182,213.185,213.187, 213.189,213.191,213.194,213.195, 213.133)
ORBIT_NUMBER = 24271
ORBITAL_ECCENTRICITY = 0.569
ORBITAL_INCLINATION = 87.08
ORBITAL_SEMIMAJOR_AXIS = 8778.84
PERIAPSIS_ALTITUDE = 397.88
PERIAPSIS_ARGUMENT_ANGLE = 122.59
PERIAPSIS_TIME = 2023-03-21T19:21:29.000Z
SPACECRAFT_ORIENTATION = (0.0,-1.0,0.0)
^MEX_ORIENTATION_DESC = "MEX_ORIENTATION_DESC.TXT"
SPACECRAFT_POINTING_MODE = ACROSSTRACK
^MEX_POINTING_DESC = "MEX_POINTING_DESC.TXT"
RIGHT_ASCENSION = -1e+32
DECLINATION = -1e+32
OFFSET_ANGLE = 1.078
SPACECRAFT_SOLAR_DISTANCE = 2.45636e+08
TARGET_NAME = MARS
/* CAMERA DATA ELEMENTS */
DETECTOR_TEMPERATURE = 18.3705
FOCAL_PLANE_TEMPERATURE = 8.7872
INST_CMPRS_NAME = "DISCRETE COSINE TRANSFORMATION (DCT)"
INST_CMPRS_RATIO = 11.8996
INST_CMPRS_QUALITY = 0
INST_CMPRS_QUANTZ_TBL_ID = 0
INSTRUMENT_TEMPERATURE = 10.8262
LENS_TEMPERATURE = 8.7872
MACROPIXEL_SIZE = 4
MISSING_FRAMES = 1
PIXEL_SUBSAMPLING_FLAG = N
SIGNAL_CHAIN_ID = 2
/* RADIOMETRIC DATA ELEMENTS */
BANDWIDTH = 88.0
CENTER_FILTER_WAVELENGTH = 538.0
RADIANCE_OFFSET = 1.75377
RADIANCE_SCALING_FACTOR = 0.00478438
REFLECTANCE_SCALING_FACTOR = 0.000248542
MEX:REFLECTANCE_OFFSET = 0.0911062
/* IMAGE OBJECT DEFINITIONS */
OBJECT = IMAGE
  INTERCHANGE_FORMAT = BINARY
  LINES = 15419
  LINE_SAMPLES = 1832
  SAMPLE_TYPE = UNSIGNED_INTEGER
  SAMPLE_BITS = 8
  BANDS = 1
  BAND_STORAGE_TYPE = BAND_SEQUENTIAL
  MAXIMUM = 255
  MEAN = 140.848
  MINIMUM = 1
  STANDARD_DEVIATION = 30.2437
END_OBJECT = IMAGE
/* MAP OBJECT DEFINITIONS */
OBJECT = IMAGE_MAP_PROJECTION
  ^DATA_SET_MAP_PROJECTION_CATALOG= "DSMAP.CAT"
  A_AXIS_RADIUS = 3396.0
  B_AXIS_RADIUS = 3396.0
  C_AXIS_RADIUS = 3396.0
  CENTER_LATITUDE = 0.0
  CENTER_LONGITUDE = 212.0
  COORDINATE_SYSTEM_NAME = PLANETOGRAPHIC
  COORDINATE_SYSTEM_TYPE = "BODY-FIXED ROTATING"
  EASTERNMOST_LONGITUDE = 213.195
  FIRST_STANDARD_PARALLEL = "N/A"
  LINE_FIRST_PIXEL = 1
  LINE_LAST_PIXEL = 15419
  LINE_PROJECTION_OFFSET = 21744.875
  MAP_PROJECTION_ROTATION = 0.0
  MAP_PROJECTION_TYPE = SINUSOIDAL
  MAP_RESOLUTION = 592.713803866667
  MAP_SCALE = 0.1
  MAXIMUM_LATITUDE = 36.7012
  MINIMUM_LATITUDE = 10.6559
  POSITIVE_LONGITUDE_DIRECTION = EAST
  REFERENCE_LATITUDE = "N/A"
  REFERENCE_LONGITUDE = "N/A"
  SAMPLE_FIRST_PIXEL = 1
  SAMPLE_LAST_PIXEL = 1832
  SAMPLE_PROJECTION_OFFSET = 1166.375
  SECOND_STANDARD_PARALLEL = "N/A"
  WESTERNMOST_LONGITUDE = 210.046
END_OBJECT = IMAGE_MAP_PROJECTION
END
