PDS_VERSION_ID = PDS3
/* FILE DATA ELEMENTS */
RECORD_TYPE = UNDEFINED
/* POINTERS TO DATA OBJECTS */
^IMAGE = ("HO270_0000_ND4.TIF")
/* IDENTIFICATION DATA ELEMENTS */
DATA_SET_ID = "MEX-M-HRSC-4-REFDR-MAPPROJECT-EXT9-V4.0"
DATA_SET_NAME = "MARS EXPRESS HRSC MAP PROJECTED REFDR EXTENSION9 V4.0"
DETECTOR_ID = MEX_HRSC_NADIR
EVENT_TYPE = "MARS-LOCAL-CARTOGRAPHY-Te-Pf-La"
INSTRUMENT_HOST_ID = MEX
INSTRUMENT_HOST_NAME = "MARS EXPRESS"
INSTRUMENT_ID = HRSC
INSTRUMENT_NAME = "HIGH RESOLUTION STEREO CAMERA"
MISSION_NAME = "MARS EXPRESS"
MISSION_PHASE_NAME = ME_Phase_47
PROCESSING_LEVEL_ID = 4
PRODUCT_CREATION_TIME = 2023-11-15T01:26:02.000Z
PRODUCT_ID = "HO270_0000_ND4.TIF"
RELEASE_ID = 0003
REVISION_ID = 0000
/* QUALITY DATA ELEMENTS */
DATA_QUALITY_ID = 1
DATA_QUALITY_DESC = "Data calculated based on original SPICE kernels"
/* TIME DATA ELEMENTS */
SPACECRAFT_CLOCK_START_COUNT = "1/0627481075.25675"
SPACECRAFT_CLOCK_STOP_COUNT = "1/0627481486.56500"
START_TIME = 2023-03-21T12:19:13.715Z
STOP_TIME = 2023-03-21T12:24:41.703Z
/* ORBITAL DATA ELEMENTS */
ASCENDING_NODE_LONGITUDE = 122.72
MAXIMUM_RESOLUTION = 0.0161
FOOTPRINT_POINT_LATITUDE = (69.8123,69.7481,69.6472,69.6451, 69.6416,68.995,68.5712,68.1467,67.7215, 67.0843,66.6684,66.2519,65.8349,65.4174 ,64.9993,64.5837,63.7674,62.9356, 62.1164,61.7064,61.296,60.8854,60.4746, 60.0636,59.6523,59.2409,58.8293,58.4175 ,58.0057,57.3877,56.9757,56.5635, 56.1514,55.7392,55.327,54.9148,54.5027, 54.0906,53.6785,53.2666,52.8548,52.4431 ,51.6201,50.7978,49.9763,49.1558, 48.9509,48.9474,48.9767,48.9925,48.9927 ,48.9931,49.8158,50.6397,51.052,51.4645 ,51.8773,52.2902,52.7033,53.1165, 53.5299,53.9435,54.3571,54.7709,55.1847 ,55.5986,56.0126,56.4266,56.8406, 57.2546,57.6686,58.0826,58.4965,58.9104 ,59.3241,59.7378,60.1514,60.5648, 60.9781,61.3913,61.8043,62.2171,62.6297 ,63.0421,63.4682,63.8801,64.7029,65.122 ,65.5438,65.9652,66.3862,66.8068, 67.2271,67.8711,68.3012,68.7308,69.1599 ,69.5956,69.8151,69.8123)
FOOTPRINT_POINT_LONGITUDE = (311.919,310.002,307.784,307.743, 307.638,307.928,308.107,308.279,308.443 ,308.674,308.818,308.955,309.087, 309.213,309.335,309.45,309.664,309.865, 310.048,310.135,310.217,310.297,310.374 ,310.448,310.52,310.589,310.655,310.719 ,310.78,310.868,310.924,310.977,311.029 ,311.079,311.127,311.173,311.217,311.26 ,311.301,311.341,311.379,311.415, 311.484,311.547,311.606,311.659,311.672 ,311.672,312.843,313.85,313.872,313.882 ,313.854,313.824,313.809,313.793, 313.777,313.759,313.742,313.723,313.704 ,313.685,313.665,313.644,313.622,313.6, 313.577,313.554,313.529,313.504,313.477 ,313.45,313.422,313.393,313.363,313.332 ,313.299,313.266,313.231,313.196,313.16 ,313.121,313.082,313.041,312.996, 312.952,312.859,312.808,312.755,312.7, 312.643,312.583,312.521,312.42,312.349, 312.276,312.198,312.116,312.073, 311.919)
ORBIT_NUMBER = 24270
ORBITAL_ECCENTRICITY = 0.569
ORBITAL_INCLINATION = 87.07
ORBITAL_SEMIMAJOR_AXIS = 8779.29
PERIAPSIS_ALTITUDE = 398.35
PERIAPSIS_ARGUMENT_ANGLE = 122.79
PERIAPSIS_TIME = 2023-03-21T12:22:33.000Z
SPACECRAFT_ORIENTATION = (0.0,-1.0,0.0)
^MEX_ORIENTATION_DESC = "MEX_ORIENTATION_DESC.TXT"
SPACECRAFT_POINTING_MODE = ACROSSTRACK
^MEX_POINTING_DESC = "MEX_POINTING_DESC.TXT"
RIGHT_ASCENSION = -1e+32
DECLINATION = -1e+32
OFFSET_ANGLE = 0.2
SPACECRAFT_SOLAR_DISTANCE = 2.45607e+08
TARGET_NAME = MARS
/* CAMERA DATA ELEMENTS */
DETECTOR_TEMPERATURE = 19.39
FOCAL_PLANE_TEMPERATURE = 9.3989
INST_CMPRS_NAME = "DISCRETE COSINE TRANSFORMATION (DCT)"
INST_CMPRS_RATIO = 7.34052
INST_CMPRS_QUALITY = 0
INST_CMPRS_QUANTZ_TBL_ID = 0
INSTRUMENT_TEMPERATURE = 11.6418
LENS_TEMPERATURE = 9.3989
MACROPIXEL_SIZE = 1
MISSING_FRAMES = 7
PIXEL_SUBSAMPLING_FLAG = N
SIGNAL_CHAIN_ID = 0
/* RADIOMETRIC DATA ELEMENTS */
BANDWIDTH = 177.0
CENTER_FILTER_WAVELENGTH = 677.5
RADIANCE_OFFSET = 2.28976
RADIANCE_SCALING_FACTOR = 0.0188669
REFLECTANCE_SCALING_FACTOR = 0.000604595
MEX:REFLECTANCE_OFFSET = 0.0733758
/* IMAGE OBJECT DEFINITIONS */
OBJECT = IMAGE
  INTERCHANGE_FORMAT = BINARY
  LINES = 98966
  LINE_SAMPLES = 13053
  SAMPLE_TYPE = UNSIGNED_INTEGER
  SAMPLE_BITS = 8
  BANDS = 1
  BAND_STORAGE_TYPE = BAND_SEQUENTIAL
  MAXIMUM = 255
  MEAN = 86.9198
  MINIMUM = 1
  STANDARD_DEVIATION = 85.1732
END_OBJECT = IMAGE
/* MAP OBJECT DEFINITIONS */
OBJECT = IMAGE_MAP_PROJECTION
  ^DATA_SET_MAP_PROJECTION_CATALOG= "DSMAP.CAT"
  A_AXIS_RADIUS = 3396.0
  B_AXIS_RADIUS = 3396.0
  C_AXIS_RADIUS = 3396.0
  CENTER_LATITUDE = 0.0
  CENTER_LONGITUDE = 312.0
  COORDINATE_SYSTEM_NAME = PLANETOGRAPHIC
  COORDINATE_SYSTEM_TYPE = "BODY-FIXED ROTATING"
  EASTERNMOST_LONGITUDE = 313.882
  FIRST_STANDARD_PARALLEL = "N/A"
  LINE_FIRST_PIXEL = 1
  LINE_LAST_PIXEL = 98966
  LINE_PROJECTION_OFFSET = 331060.0
  MAP_PROJECTION_ROTATION = 0.0
  MAP_PROJECTION_TYPE = SINUSOIDAL
  MAP_RESOLUTION = 4741.71043093333
  MAP_SCALE = 0.0125
  MAXIMUM_LATITUDE = 69.8151
  MINIMUM_LATITUDE = 48.9474
  POSITIVE_LONGITUDE_DIRECTION = EAST
  REFERENCE_LATITUDE = "N/A"
  REFERENCE_LONGITUDE = "N/A"
  SAMPLE_FIRST_PIXEL = 1
  SAMPLE_LAST_PIXEL = 13053
  SAMPLE_PROJECTION_OFFSET = 7195.0
  SECOND_STANDARD_PARALLEL = "N/A"
  WESTERNMOST_LONGITUDE = 307.638
END_OBJECT = IMAGE_MAP_PROJECTION
END
