PDS_VERSION_ID = PDS3
/* FILE DATA ELEMENTS */
RECORD_TYPE = UNDEFINED
/* POINTERS TO DATA OBJECTS */
^IMAGE = ("HO269_0000_IR4.TIF")
/* IDENTIFICATION DATA ELEMENTS */
DATA_SET_ID = "MEX-M-HRSC-4-REFDR-MAPPROJECT-EXT9-V4.0"
DATA_SET_NAME = "MARS EXPRESS HRSC MAP PROJECTED REFDR EXTENSION9 V4.0"
DETECTOR_ID = MEX_HRSC_IR
EVENT_TYPE = "MARS-LOCAL-CARTOGRAPHY-Te-Gl-Pf"
INSTRUMENT_HOST_ID = MEX
INSTRUMENT_HOST_NAME = "MARS EXPRESS"
INSTRUMENT_ID = HRSC
INSTRUMENT_NAME = "HIGH RESOLUTION STEREO CAMERA"
MISSION_NAME = "MARS EXPRESS"
MISSION_PHASE_NAME = ME_Phase_47
PROCESSING_LEVEL_ID = 4
PRODUCT_CREATION_TIME = 2023-11-15T01:26:02.000Z
PRODUCT_ID = "HO269_0000_IR4.TIF"
RELEASE_ID = 0003
REVISION_ID = 0000
/* QUALITY DATA ELEMENTS */
DATA_QUALITY_ID = 1
DATA_QUALITY_DESC = "Data calculated based on original SPICE kernels"
/* TIME DATA ELEMENTS */
SPACECRAFT_CLOCK_START_COUNT = "1/0627455904.25082"
SPACECRAFT_CLOCK_STOP_COUNT = "1/0627456316.08178"
START_TIME = 2023-03-21T05:19:08.253Z
STOP_TIME = 2023-03-21T05:24:39.564Z
/* ORBITAL DATA ELEMENTS */
ASCENDING_NODE_LONGITUDE = 122.73
MAXIMUM_RESOLUTION = 0.0672
FOOTPRINT_POINT_LATITUDE = (71.2673,71.1574,71.0327,70.8445, 70.8397,70.6983,70.2753,69.853,69.4359, 69.0172,68.3906,67.978,67.3559,66.9407, 66.5334,66.1248,65.7149,65.3038,64.6957 ,64.2924,63.8878,63.4824,63.0758, 62.6726,62.2744,61.8757,61.4762,61.0757 ,60.6745,60.2724,59.8698,59.4712, 58.6837,57.8935,57.1011,56.3068,55.7096 ,55.3111,54.9121,54.5119,53.9117, 53.5114,53.1103,52.7094,52.3074,51.9052 ,51.3018,50.6978,50.496,50.4298,50.503, 50.6311,50.6327,50.6342,51.2421,51.8494 ,52.2535,52.658,53.062,53.4656,53.8688, 54.4733,54.8758,55.4792,55.8807,56.2819 ,56.6829,57.0833,57.4831,57.8828,58.282 ,59.0787,59.8732,60.2795,60.6861, 61.0921,61.4974,61.9021,62.3061,62.7094 ,63.1119,63.5235,64.1411,64.5514, 64.9611,65.3698,65.9949,66.4118,66.8276 ,67.2427,67.6649,68.0882,68.5101,68.931 ,69.3604,69.7892,70.2167,70.8665, 71.0838,71.2673)
FOOTPRINT_POINT_LONGITUDE = (48.963,47.5574,46.1314,44.2301,44.1844 ,43.9257,44.2619,44.5816,44.882,45.1701 ,45.5779,45.8317,46.1933,46.4233, 46.6393,46.8474,47.0475,47.2407,47.5129 ,47.6852,47.8514,48.0124,48.1672, 48.3154,48.4562,48.5931,48.7255,48.8535 ,48.9774,49.0971,49.2134,49.3254, 49.5346,49.7309,49.9157,50.0899,50.2135 ,50.2931,50.3704,50.4442,50.552,50.6216 ,50.6885,50.7543,50.8169,50.8778, 50.9663,51.0509,51.0776,51.0865,51.8434 ,53.3758,53.3964,53.4032,53.3462, 53.2869,53.2459,53.2041,53.1611,53.1169 ,53.0716,53.0014,52.953,52.8781,52.8264 ,52.7733,52.7188,52.6628,52.6051, 52.5461,52.4854,52.3587,52.2246,52.1528 ,52.0789,52.0027,51.9241,51.8432, 51.7598,51.6738,51.5849,51.4911,51.3445 ,51.2424,51.137,51.028,50.8533,50.7313, 50.6047,50.4736,50.3349,50.19,50.0392, 49.8825,49.7158,49.5416,49.3598,49.0672 ,48.9646,48.963)
ORBIT_NUMBER = 24269
ORBITAL_ECCENTRICITY = 0.57
ORBITAL_INCLINATION = 87.07
ORBITAL_SEMIMAJOR_AXIS = 8784.81
PERIAPSIS_ALTITUDE = 397.95
PERIAPSIS_ARGUMENT_ANGLE = 122.95
PERIAPSIS_TIME = 2023-03-21T05:23:31.000Z
SPACECRAFT_ORIENTATION = (0.0,-1.0,0.0)
^MEX_ORIENTATION_DESC = "MEX_ORIENTATION_DESC.TXT"
SPACECRAFT_POINTING_MODE = ACROSSTRACK
^MEX_POINTING_DESC = "MEX_POINTING_DESC.TXT"
RIGHT_ASCENSION = -1e+32
DECLINATION = -1e+32
OFFSET_ANGLE = -1.347
SPACECRAFT_SOLAR_DISTANCE = 2.45577e+08
TARGET_NAME = MARS
/* CAMERA DATA ELEMENTS */
DETECTOR_TEMPERATURE = 17.351
FOCAL_PLANE_TEMPERATURE = 8.5833
INST_CMPRS_NAME = "DISCRETE COSINE TRANSFORMATION (DCT)"
INST_CMPRS_RATIO = 10.2136
INST_CMPRS_QUALITY = 0
INST_CMPRS_QUANTZ_TBL_ID = 0
INSTRUMENT_TEMPERATURE = 11.4379
LENS_TEMPERATURE = 8.9911
MACROPIXEL_SIZE = 4
MISSING_FRAMES = 0
PIXEL_SUBSAMPLING_FLAG = N
SIGNAL_CHAIN_ID = 2
/* RADIOMETRIC DATA ELEMENTS */
BANDWIDTH = 81.0
CENTER_FILTER_WAVELENGTH = 955.5
RADIANCE_OFFSET = 0.854138
RADIANCE_SCALING_FACTOR = 0.00560611
REFLECTANCE_SCALING_FACTOR = 0.000729398
MEX:REFLECTANCE_OFFSET = 0.11113
/* IMAGE OBJECT DEFINITIONS */
OBJECT = IMAGE
  INTERCHANGE_FORMAT = BINARY
  LINES = 24458
  LINE_SAMPLES = 4579
  SAMPLE_TYPE = UNSIGNED_INTEGER
  SAMPLE_BITS = 8
  BANDS = 1
  BAND_STORAGE_TYPE = BAND_SEQUENTIAL
  MAXIMUM = 255
  MEAN = 98.98
  MINIMUM = 1
  STANDARD_DEVIATION = 69.3033
END_OBJECT = IMAGE
/* MAP OBJECT DEFINITIONS */
OBJECT = IMAGE_MAP_PROJECTION
  ^DATA_SET_MAP_PROJECTION_CATALOG= "DSMAP.CAT"
  A_AXIS_RADIUS = 3396.0
  B_AXIS_RADIUS = 3396.0
  C_AXIS_RADIUS = 3396.0
  CENTER_LATITUDE = 0.0
  CENTER_LONGITUDE = 51.0
  COORDINATE_SYSTEM_NAME = PLANETOGRAPHIC
  COORDINATE_SYSTEM_TYPE = "BODY-FIXED ROTATING"
  EASTERNMOST_LONGITUDE = 53.4032
  FIRST_STANDARD_PARALLEL = "N/A"
  LINE_FIRST_PIXEL = 1
  LINE_LAST_PIXEL = 24458
  LINE_PROJECTION_OFFSET = 84308.625
  MAP_PROJECTION_ROTATION = 0.0
  MAP_PROJECTION_TYPE = SINUSOIDAL
  MAP_RESOLUTION = 1185.42760773333
  MAP_SCALE = 0.05
  MAXIMUM_LATITUDE = 71.26730000000001
  MINIMUM_LATITUDE = 50.4298
  POSITIVE_LONGITUDE_DIRECTION = EAST
  REFERENCE_LATITUDE = "N/A"
  REFERENCE_LONGITUDE = "N/A"
  SAMPLE_FIRST_PIXEL = 1
  SAMPLE_LAST_PIXEL = 4579
  SAMPLE_PROJECTION_OFFSET = 2756.125
  SECOND_STANDARD_PARALLEL = "N/A"
  WESTERNMOST_LONGITUDE = 43.9257
END_OBJECT = IMAGE_MAP_PROJECTION
END
