PDS_VERSION_ID = PDS3
/* FILE DATA ELEMENTS */
RECORD_TYPE = UNDEFINED
/* POINTERS TO DATA OBJECTS */
^IMAGE = ("HO262_0000_S24.TIF")
/* IDENTIFICATION DATA ELEMENTS */
DATA_SET_ID = "MEX-M-HRSC-4-REFDR-MAPPROJECT-EXT9-V4.0"
DATA_SET_NAME = "MARS EXPRESS HRSC MAP PROJECTED REFDR EXTENSION9 V4.0"
DETECTOR_ID = MEX_HRSC_S2
EVENT_TYPE = "MARS-REGIONAL-MAPPING-Te-Gl-Pf"
INSTRUMENT_HOST_ID = MEX
INSTRUMENT_HOST_NAME = "MARS EXPRESS"
INSTRUMENT_ID = HRSC
INSTRUMENT_NAME = "HIGH RESOLUTION STEREO CAMERA"
MISSION_NAME = "MARS EXPRESS"
MISSION_PHASE_NAME = ME_Phase_47
PROCESSING_LEVEL_ID = 4
PRODUCT_CREATION_TIME = 2023-11-15T01:26:02.000Z
PRODUCT_ID = "HO262_0000_S24.TIF"
RELEASE_ID = 0003
REVISION_ID = 0000
/* QUALITY DATA ELEMENTS */
DATA_QUALITY_ID = 1
DATA_QUALITY_DESC = "Data calculated based on original SPICE kernels"
/* TIME DATA ELEMENTS */
SPACECRAFT_CLOCK_START_COUNT = "1/0627280026.23938"
SPACECRAFT_CLOCK_STOP_COUNT = "1/0627280492.08308"
START_TIME = 2023-03-19T04:28:58.806Z
STOP_TIME = 2023-03-19T04:35:25.905Z
/* ORBITAL DATA ELEMENTS */
ASCENDING_NODE_LONGITUDE = 122.85
MAXIMUM_RESOLUTION = 0.0342
FOOTPRINT_POINT_LATITUDE = (63.2389,63.1916,63.1318,63.1305, 63.2472,62.5278,62.048,61.5685,61.0893, 60.3708,59.8924,59.4138,58.9364,58.4586 ,57.9813,57.505,57.0291,56.5538,56.0788 ,55.3662,54.8931,54.1843,53.7125, 53.2417,52.7716,52.3018,51.833,51.3648, 50.8982,50.1993,49.7333,49.0375,48.3369 ,47.8638,47.3913,46.9198,46.4499, 45.9722,45.4909,44.7739,44.0491,43.5621 ,43.0772,42.5848,41.8483,41.3519, 40.8384,40.3397,39.5776,39.3234,39.2755 ,39.2962,39.2963,39.2969,39.8071,40.567 ,41.0699,41.581,42.072,42.5695,43.3027, 44.0321,44.5216,44.9987,45.4785,45.9585 ,46.6726,47.1487,47.6212,48.0983, 48.5739,49.0411,49.7389,50.6716,51.1405 ,51.8446,52.315,52.7855,53.4942,53.9674 ,54.4419,54.9162,55.3919,55.8675,56.584 ,57.0617,57.5398,58.0186,58.4981, 58.9776,59.4583,59.9395,60.4209,60.9025 ,61.6264,62.109,62.5929,63.0754,63.3171 ,63.2389)
FOOTPRINT_POINT_LONGITUDE = (49.532,48.0326,46.538,46.5087,46.3914, 46.5679,46.6794,46.7857,46.8874,47.0319 ,47.1227,47.2101,47.293,47.373,47.4494, 47.5222,47.5919,47.6585,47.7225,47.814, 47.871,47.9521,48.0033,48.052,48.0986, 48.1434,48.1861,48.227,48.2656,48.3205, 48.3557,48.4045,48.4498,48.4787,48.5062 ,48.5324,48.557,48.5808,48.6039,48.6349 ,48.6641,48.6819,48.6982,48.7153, 48.7345,48.7492,48.7659,48.7758,48.7917 ,48.7959,48.7966,50.9151,50.9359, 50.9434,50.9314,50.9143,50.9017,50.8934 ,50.879,50.8662,50.8448,50.8222,50.808, 50.7922,50.7765,50.7597,50.7342,50.7188 ,50.7009,50.6838,50.6651,50.6461, 50.6164,50.574,50.5522,50.5177,50.4936, 50.4684,50.4295,50.4022,50.3742,50.3448 ,50.3146,50.2829,50.234,50.1995,50.1635 ,50.1263,50.0876,50.0472,50.0056, 49.9622,49.917,49.8698,49.7957,49.7434, 49.6894,49.6322,49.6028,49.532)
ORBIT_NUMBER = 24262
ORBITAL_ECCENTRICITY = 0.57
ORBITAL_INCLINATION = 87.07
ORBITAL_SEMIMAJOR_AXIS = 8786.61
PERIAPSIS_ALTITUDE = 397.46
PERIAPSIS_ARGUMENT_ANGLE = 124.15
PERIAPSIS_TIME = 2023-03-19T04:30:20.000Z
SPACECRAFT_ORIENTATION = (0.0,-1.0,0.0)
^MEX_ORIENTATION_DESC = "MEX_ORIENTATION_DESC.TXT"
SPACECRAFT_POINTING_MODE = NADIR
^MEX_POINTING_DESC = "MEX_POINTING_DESC.TXT"
RIGHT_ASCENSION = -1e+32
DECLINATION = -1e+32
OFFSET_ANGLE = -1e+32
SPACECRAFT_SOLAR_DISTANCE = 2.45369e+08
TARGET_NAME = MARS
/* CAMERA DATA ELEMENTS */
DETECTOR_TEMPERATURE = 19.1861
FOCAL_PLANE_TEMPERATURE = 9.6028
INST_CMPRS_NAME = "DISCRETE COSINE TRANSFORMATION (DCT)"
INST_CMPRS_RATIO = 11.8372
INST_CMPRS_QUALITY = 0
INST_CMPRS_QUANTZ_TBL_ID = 0
INSTRUMENT_TEMPERATURE = 12.0496
LENS_TEMPERATURE = 10.4184
MACROPIXEL_SIZE = 2
MISSING_FRAMES = 0
PIXEL_SUBSAMPLING_FLAG = N
SIGNAL_CHAIN_ID = 1
/* RADIOMETRIC DATA ELEMENTS */
BANDWIDTH = 178.0
CENTER_FILTER_WAVELENGTH = 679.0
RADIANCE_OFFSET = 3.32028
RADIANCE_SCALING_FACTOR = 0.0268188
REFLECTANCE_SCALING_FACTOR = 0.00085508
MEX:REFLECTANCE_OFFSET = 0.105863
/* IMAGE OBJECT DEFINITIONS */
OBJECT = IMAGE
  INTERCHANGE_FORMAT = BINARY
  LINES = 57112
  LINE_SAMPLES = 6253
  SAMPLE_TYPE = UNSIGNED_INTEGER
  SAMPLE_BITS = 8
  BANDS = 1
  BAND_STORAGE_TYPE = BAND_SEQUENTIAL
  MAXIMUM = 255
  MEAN = 92.8004
  MINIMUM = 1
  STANDARD_DEVIATION = 40.8803
END_OBJECT = IMAGE
/* MAP OBJECT DEFINITIONS */
OBJECT = IMAGE_MAP_PROJECTION
  ^DATA_SET_MAP_PROJECTION_CATALOG= "DSMAP.CAT"
  A_AXIS_RADIUS = 3396.0
  B_AXIS_RADIUS = 3396.0
  C_AXIS_RADIUS = 3396.0
  CENTER_LATITUDE = 0.0
  CENTER_LONGITUDE = 49.0
  COORDINATE_SYSTEM_NAME = PLANETOGRAPHIC
  COORDINATE_SYSTEM_TYPE = "BODY-FIXED ROTATING"
  EASTERNMOST_LONGITUDE = 50.9434
  FIRST_STANDARD_PARALLEL = "N/A"
  LINE_FIRST_PIXEL = 1
  LINE_LAST_PIXEL = 57112
  LINE_PROJECTION_OFFSET = 150210.25
  MAP_PROJECTION_ROTATION = 0.0
  MAP_PROJECTION_TYPE = SINUSOIDAL
  MAP_RESOLUTION = 2370.85521546667
  MAP_SCALE = 0.025
  MAXIMUM_LATITUDE = 63.3171
  MINIMUM_LATITUDE = 39.2755
  POSITIVE_LONGITUDE_DIRECTION = EAST
  REFERENCE_LATITUDE = "N/A"
  REFERENCE_LONGITUDE = "N/A"
  SAMPLE_FIRST_PIXEL = 1
  SAMPLE_LAST_PIXEL = 6253
  SAMPLE_PROJECTION_OFFSET = 2804.25
  SECOND_STANDARD_PARALLEL = "N/A"
  WESTERNMOST_LONGITUDE = 46.3914
END_OBJECT = IMAGE_MAP_PROJECTION
END
