PDS_VERSION_ID = PDS3
/* FILE DATA ELEMENTS */
RECORD_TYPE = UNDEFINED
/* POINTERS TO DATA OBJECTS */
^IMAGE = ("HO261_0000_S24.TIF")
/* IDENTIFICATION DATA ELEMENTS */
DATA_SET_ID = "MEX-M-HRSC-4-REFDR-MAPPROJECT-EXT9-V4.0"
DATA_SET_NAME = "MARS EXPRESS HRSC MAP PROJECTED REFDR EXTENSION9 V4.0"
DETECTOR_ID = MEX_HRSC_S2
EVENT_TYPE = "MARS-LOCAL-STEREO-Vo-Fl-Gl"
INSTRUMENT_HOST_ID = MEX
INSTRUMENT_HOST_NAME = "MARS EXPRESS"
INSTRUMENT_ID = HRSC
INSTRUMENT_NAME = "HIGH RESOLUTION STEREO CAMERA"
MISSION_NAME = "MARS EXPRESS"
MISSION_PHASE_NAME = ME_Phase_47
PROCESSING_LEVEL_ID = 4
PRODUCT_CREATION_TIME = 2023-11-15T01:26:02.000Z
PRODUCT_ID = "HO261_0000_S24.TIF"
RELEASE_ID = 0003
REVISION_ID = 0000
/* QUALITY DATA ELEMENTS */
DATA_QUALITY_ID = 1
DATA_QUALITY_DESC = "Data calculated based on original SPICE kernels"
/* TIME DATA ELEMENTS */
SPACECRAFT_CLOCK_START_COUNT = "1/0627255254.23993"
SPACECRAFT_CLOCK_STOP_COUNT = "1/0627255543.15195"
START_TIME = 2023-03-18T21:36:14.568Z
STOP_TIME = 2023-03-18T21:39:37.062Z
/* ORBITAL DATA ELEMENTS */
ASCENDING_NODE_LONGITUDE = 122.87
MAXIMUM_RESOLUTION = 0.0201
FOOTPRINT_POINT_LATITUDE = (39.7594,39.757,39.7547,39.7495,39.746, 39.7413,39.7411,39.817,39.3971,38.9786, 38.449,38.0238,37.7058,37.3812,37.1653, 36.9497,36.7349,36.4074,36.1885,35.9701 ,35.7522,35.4203,35.1985,34.9774, 34.6435,34.4183,34.1939,33.9699,33.7432 ,33.5135,33.2835,32.9314,32.6947, 32.3392,32.1019,31.8663,31.6332,31.4011 ,31.1677,30.9394,30.7134,30.3575, 30.1187,29.8774,29.6354,29.3937,29.0259 ,28.6579,28.5339,28.5116,28.511,28.5099 ,28.508,28.504,28.4998,28.4996,28.4998, 28.87,29.1148,29.3604,29.7246,29.9673, 30.2084,30.5675,30.8068,31.0429,31.2806 ,31.518,31.8699,32.1044,32.3376,32.6847 ,33.0334,33.3761,33.6044,33.9467, 34.1722,34.3986,34.6246,34.8492,35.0712 ,35.2933,35.5158,35.738,35.9569,36.1763 ,36.3959,36.7245,36.9401,37.1561, 37.3725,37.6981,38.0177,38.4443,38.6581 ,38.8712,39.2909,39.712,39.8174, 39.7594)
FOOTPRINT_POINT_LONGITUDE = (153.033,152.576,152.244,151.664, 151.333,150.959,150.938,150.896,150.903 ,150.91,150.917,150.922,150.925,150.928 ,150.93,150.932,150.933,150.935,150.936 ,150.937,150.937,150.938,150.938, 150.938,150.938,150.937,150.937,150.936 ,150.935,150.935,150.935,150.936, 150.936,150.937,150.937,150.936,150.933 ,150.93,150.926,150.92,150.913,150.907, 150.903,150.9,150.895,150.891,150.885, 150.878,150.876,150.875,151.206,151.583 ,152.172,152.715,153.235,153.258,153.27 ,153.264,153.26,153.257,153.251,153.248 ,153.244,153.238,153.234,153.231, 153.227,153.223,153.218,153.214,153.21, 153.205,153.199,153.193,153.189,153.183 ,153.18,153.176,153.172,153.168,153.164 ,153.159,153.155,153.151,153.146, 153.142,153.138,153.131,153.126,153.122 ,153.117,153.111,153.104,153.094, 153.089,153.085,153.075,153.065,153.063 ,153.033)
ORBIT_NUMBER = 24261
ORBITAL_ECCENTRICITY = 0.57
ORBITAL_INCLINATION = 87.06
ORBITAL_SEMIMAJOR_AXIS = 8783.47
PERIAPSIS_ALTITUDE = 398.14
PERIAPSIS_ARGUMENT_ANGLE = 124.32
PERIAPSIS_TIME = 2023-03-18T21:31:20.000Z
SPACECRAFT_ORIENTATION = (0.0,-1.0,0.0)
^MEX_ORIENTATION_DESC = "MEX_ORIENTATION_DESC.TXT"
SPACECRAFT_POINTING_MODE = NADIR
^MEX_POINTING_DESC = "MEX_POINTING_DESC.TXT"
RIGHT_ASCENSION = -1e+32
DECLINATION = -1e+32
OFFSET_ANGLE = -1e+32
SPACECRAFT_SOLAR_DISTANCE = 2.45338e+08
TARGET_NAME = MARS
/* CAMERA DATA ELEMENTS */
DETECTOR_TEMPERATURE = 18.5744
FOCAL_PLANE_TEMPERATURE = 9.3989
INST_CMPRS_NAME = "DISCRETE COSINE TRANSFORMATION (DCT)"
INST_CMPRS_RATIO = 8.55346
INST_CMPRS_QUALITY = 0
INST_CMPRS_QUANTZ_TBL_ID = 0
INSTRUMENT_TEMPERATURE = 11.8457
LENS_TEMPERATURE = 8.9911
MACROPIXEL_SIZE = 1
MISSING_FRAMES = 0
PIXEL_SUBSAMPLING_FLAG = N
SIGNAL_CHAIN_ID = 1
/* RADIOMETRIC DATA ELEMENTS */
BANDWIDTH = 178.0
CENTER_FILTER_WAVELENGTH = 679.0
RADIANCE_OFFSET = 6.14911
RADIANCE_SCALING_FACTOR = 0.0188392
REFLECTANCE_SCALING_FACTOR = 0.000600515
MEX:REFLECTANCE_OFFSET = 0.196008
/* IMAGE OBJECT DEFINITIONS */
OBJECT = IMAGE
  INTERCHANGE_FORMAT = BINARY
  LINES = 53693
  LINE_SAMPLES = 9106
  SAMPLE_TYPE = UNSIGNED_INTEGER
  SAMPLE_BITS = 8
  BANDS = 1
  BAND_STORAGE_TYPE = BAND_SEQUENTIAL
  MAXIMUM = 255
  MEAN = 121.24
  MINIMUM = 1
  STANDARD_DEVIATION = 17.2965
END_OBJECT = IMAGE
/* MAP OBJECT DEFINITIONS */
OBJECT = IMAGE_MAP_PROJECTION
  ^DATA_SET_MAP_PROJECTION_CATALOG= "DSMAP.CAT"
  A_AXIS_RADIUS = 3396.0
  B_AXIS_RADIUS = 3396.0
  C_AXIS_RADIUS = 3396.0
  CENTER_LATITUDE = 0.0
  CENTER_LONGITUDE = 152.0
  COORDINATE_SYSTEM_NAME = PLANETOGRAPHIC
  COORDINATE_SYSTEM_TYPE = "BODY-FIXED ROTATING"
  EASTERNMOST_LONGITUDE = 153.27
  FIRST_STANDARD_PARALLEL = "N/A"
  LINE_FIRST_PIXEL = 1
  LINE_LAST_PIXEL = 53693
  LINE_PROJECTION_OFFSET = 188743.0
  MAP_PROJECTION_ROTATION = 0.0
  MAP_PROJECTION_TYPE = SINUSOIDAL
  MAP_RESOLUTION = 4741.71043093333
  MAP_SCALE = 0.0125
  MAXIMUM_LATITUDE = 39.8174
  MINIMUM_LATITUDE = 28.4996
  POSITIVE_LONGITUDE_DIRECTION = EAST
  REFERENCE_LATITUDE = "N/A"
  REFERENCE_LONGITUDE = "N/A"
  SAMPLE_FIRST_PIXEL = 1
  SAMPLE_LAST_PIXEL = 9106
  SAMPLE_PROJECTION_OFFSET = 4278.0
  SECOND_STANDARD_PARALLEL = "N/A"
  WESTERNMOST_LONGITUDE = 150.875
END_OBJECT = IMAGE_MAP_PROJECTION
END
