PDS_VERSION_ID = PDS3
/* FILE DATA ELEMENTS */
RECORD_TYPE = UNDEFINED
/* POINTERS TO DATA OBJECTS */
^IMAGE = ("HO258_0000_RE4.TIF")
/* IDENTIFICATION DATA ELEMENTS */
DATA_SET_ID = "MEX-M-HRSC-4-REFDR-MAPPROJECT-EXT9-V4.0"
DATA_SET_NAME = "MARS EXPRESS HRSC MAP PROJECTED REFDR EXTENSION9 V4.0"
DETECTOR_ID = MEX_HRSC_RED
EVENT_TYPE = "MARS-LOCAL-CARTOGRAPHY-Te-Pf-La"
INSTRUMENT_HOST_ID = MEX
INSTRUMENT_HOST_NAME = "MARS EXPRESS"
INSTRUMENT_ID = HRSC
INSTRUMENT_NAME = "HIGH RESOLUTION STEREO CAMERA"
MISSION_NAME = "MARS EXPRESS"
MISSION_PHASE_NAME = ME_Phase_47
PROCESSING_LEVEL_ID = 4
PRODUCT_CREATION_TIME = 2023-11-15T01:26:02.000Z
PRODUCT_ID = "HO258_0000_RE4.TIF"
RELEASE_ID = 0003
REVISION_ID = 0000
/* QUALITY DATA ELEMENTS */
DATA_QUALITY_ID = 1
DATA_QUALITY_DESC = "Data calculated based on original SPICE kernels"
/* TIME DATA ELEMENTS */
SPACECRAFT_CLOCK_START_COUNT = "1/0627179171.25687"
SPACECRAFT_CLOCK_STOP_COUNT = "1/0627179710.50540"
START_TIME = 2023-03-18T00:28:24.452Z
STOP_TIME = 2023-03-18T00:35:38.095Z
/* ORBITAL DATA ELEMENTS */
ASCENDING_NODE_LONGITUDE = 122.93
MAXIMUM_RESOLUTION = 0.0669
FOOTPRINT_POINT_LATITUDE = (79.3528,79.2294,78.9749,78.9703, 79.0814,78.1462,77.2184,76.6045,75.9991 ,75.3929,74.7973,73.9056,73.3193, 72.7319,72.1571,71.581,71.0086,70.4443, 69.8796,69.3181,68.7662,68.2136,67.3858 ,66.8465,66.3066,65.7668,65.2264, 64.6938,64.1677,63.642,63.1157,62.3264, 61.5372,61.0108,60.4855,59.9592,59.4344 ,58.9095,58.3852,57.8612,57.0758, 56.5527,56.0301,55.508,54.9868,54.4661, 53.4268,52.1314,51.8732,51.617,51.6622, 51.6932,51.6937,51.695,52.7324,53.2524, 53.7733,54.2946,54.8169,55.3398,55.8633 ,56.3874,56.912,57.7008,58.4907,59.2812 ,59.8087,60.3366,60.865,61.6577,62.1862 ,62.9804,63.7753,64.305,64.8351,65.3714 ,65.916,66.4598,67.0046,67.549,68.1055, 68.6638,69.5011,70.0692,70.6409,71.2122 ,71.7929,72.378,72.9621,73.5601,74.1567 ,75.0675,75.6774,76.2992,76.9212, 77.5559,78.1914,78.8376,79.1604, 79.3528)
FOOTPRINT_POINT_LONGITUDE = (95.5043,91.9228,86.7302,86.6515, 86.3763,87.7976,88.9844,89.6701,90.2823 ,90.8394,91.3388,92.0104,92.4084, 92.7768,93.1108,93.4217,93.7095,93.9743 ,94.2219,94.4525,94.6652,94.8654, 95.1435,95.3116,95.4707,95.6209,95.7632 ,95.8959,96.0201,96.1378,96.2497,96.407 ,96.5526,96.6437,96.7301,96.8125, 96.8904,96.9646,97.0351,97.1021,97.1963 ,97.2553,97.3113,97.3645,97.4149, 97.4628,97.5511,97.649,97.6669,97.6843, 98.9197,99.9661,99.9881,99.9955,99.9657 ,99.9499,99.9334,99.9158,99.8977, 99.8786,99.8586,99.8377,99.8156,99.7816 ,99.7449,99.705,99.6768,99.6473,99.6164 ,99.5666,99.5309,99.4753,99.4157, 99.3727,99.328,99.2796,99.2285,99.1733, 99.1165,99.0559,98.9898,98.9196,98.8061 ,98.7223,98.6322,98.5362,98.4328,98.32, 98.1978,98.0645,97.9174,97.6722,97.4881 ,97.2825,97.0549,96.7993,96.5125, 96.1842,96.0054,95.5043)
ORBIT_NUMBER = 24258
ORBITAL_ECCENTRICITY = 0.57
ORBITAL_INCLINATION = 87.07
ORBITAL_SEMIMAJOR_AXIS = 8789.37
PERIAPSIS_ALTITUDE = 396.31
PERIAPSIS_ARGUMENT_ANGLE = 124.81
PERIAPSIS_TIME = 2023-03-18T00:34:12.000Z
SPACECRAFT_ORIENTATION = (0.0,-1.0,0.0)
^MEX_ORIENTATION_DESC = "MEX_ORIENTATION_DESC.TXT"
SPACECRAFT_POINTING_MODE = ACROSSTRACK
^MEX_POINTING_DESC = "MEX_POINTING_DESC.TXT"
RIGHT_ASCENSION = -1e+32
DECLINATION = -1e+32
OFFSET_ANGLE = 0.539
SPACECRAFT_SOLAR_DISTANCE = 2.45247e+08
TARGET_NAME = MARS
/* CAMERA DATA ELEMENTS */
DETECTOR_TEMPERATURE = 18.9822
FOCAL_PLANE_TEMPERATURE = 9.195
INST_CMPRS_NAME = "DISCRETE COSINE TRANSFORMATION (DCT)"
INST_CMPRS_RATIO = 15.77
INST_CMPRS_QUALITY = 0
INST_CMPRS_QUANTZ_TBL_ID = 0
INSTRUMENT_TEMPERATURE = 11.6418
LENS_TEMPERATURE = 9.195
MACROPIXEL_SIZE = 4
MISSING_FRAMES = 0
PIXEL_SUBSAMPLING_FLAG = N
SIGNAL_CHAIN_ID = 2
/* RADIOMETRIC DATA ELEMENTS */
BANDWIDTH = 48.0
CENTER_FILTER_WAVELENGTH = 748.0
RADIANCE_OFFSET = 0.841538
RADIANCE_SCALING_FACTOR = 0.00791285
REFLECTANCE_SCALING_FACTOR = 0.00108609
MEX:REFLECTANCE_OFFSET = 0.115506
/* IMAGE OBJECT DEFINITIONS */
OBJECT = IMAGE
  INTERCHANGE_FORMAT = BINARY
  LINES = 33018
  LINE_SAMPLES = 4124
  SAMPLE_TYPE = UNSIGNED_INTEGER
  SAMPLE_BITS = 8
  BANDS = 1
  BAND_STORAGE_TYPE = BAND_SEQUENTIAL
  MAXIMUM = 255
  MEAN = 102.58
  MINIMUM = 1
  STANDARD_DEVIATION = 67.5669
END_OBJECT = IMAGE
/* MAP OBJECT DEFINITIONS */
OBJECT = IMAGE_MAP_PROJECTION
  ^DATA_SET_MAP_PROJECTION_CATALOG= "DSMAP.CAT"
  A_AXIS_RADIUS = 3396.0
  B_AXIS_RADIUS = 3396.0
  C_AXIS_RADIUS = 3396.0
  CENTER_LATITUDE = 0.0
  CENTER_LONGITUDE = 98.0
  COORDINATE_SYSTEM_NAME = PLANETOGRAPHIC
  COORDINATE_SYSTEM_TYPE = "BODY-FIXED ROTATING"
  EASTERNMOST_LONGITUDE = 99.99550000000001
  FIRST_STANDARD_PARALLEL = "N/A"
  LINE_FIRST_PIXEL = 1
  LINE_LAST_PIXEL = 33018
  LINE_PROJECTION_OFFSET = 94199.875
  MAP_PROJECTION_ROTATION = 0.0
  MAP_PROJECTION_TYPE = SINUSOIDAL
  MAP_RESOLUTION = 1185.42760773333
  MAP_SCALE = 0.05
  MAXIMUM_LATITUDE = 79.3528
  MINIMUM_LATITUDE = 51.617
  POSITIVE_LONGITUDE_DIRECTION = EAST
  REFERENCE_LATITUDE = "N/A"
  REFERENCE_LONGITUDE = "N/A"
  SAMPLE_FIRST_PIXEL = 1
  SAMPLE_LAST_PIXEL = 4124
  SAMPLE_PROJECTION_OFFSET = 2672.625
  SECOND_STANDARD_PARALLEL = "N/A"
  WESTERNMOST_LONGITUDE = 86.3763
END_OBJECT = IMAGE_MAP_PROJECTION
END
