PDS_VERSION_ID = PDS3
/* FILE DATA ELEMENTS */
RECORD_TYPE = UNDEFINED
/* POINTERS TO DATA OBJECTS */
^IMAGE = ("HO257_0000_ND4.TIF")
/* IDENTIFICATION DATA ELEMENTS */
DATA_SET_ID = "MEX-M-HRSC-4-REFDR-MAPPROJECT-EXT9-V4.0"
DATA_SET_NAME = "MARS EXPRESS HRSC MAP PROJECTED REFDR
EXTENSION9 V4.0"
DETECTOR_ID = MEX_HRSC_NADIR
EVENT_TYPE = "MARS-REGIONAL-VARIABLE-Pf-Eo"
INSTRUMENT_HOST_ID = MEX
INSTRUMENT_HOST_NAME = "MARS EXPRESS"
INSTRUMENT_ID = HRSC
INSTRUMENT_NAME = "HIGH RESOLUTION STEREO CAMERA"
MISSION_NAME = "MARS EXPRESS"
MISSION_PHASE_NAME = ME_Phase_47
PROCESSING_LEVEL_ID = 4
PRODUCT_CREATION_TIME = 2023-11-15T01:26:02.000Z
PRODUCT_ID = "HO257_0000_ND4.TIF"
RELEASE_ID = 0003
REVISION_ID = 0000
/* QUALITY DATA ELEMENTS */
DATA_QUALITY_ID = 1
DATA_QUALITY_DESC = "Data calculated based on original
SPICE kernels"
/* TIME DATA ELEMENTS */
SPACECRAFT_CLOCK_START_COUNT = "1/0627154646.23969"
SPACECRAFT_CLOCK_STOP_COUNT = "1/0627154977.32132"
START_TIME = 2023-03-17T17:38:41.181Z
STOP_TIME = 2023-03-17T17:42:31.181Z
/* ORBITAL DATA ELEMENTS */
ASCENDING_NODE_LONGITUDE = 122.94
MAXIMUM_RESOLUTION = 0.0174 <m/pixel>
FOOTPRINT_POINT_LATITUDE = (41.4928,41.4848,41.4732,41.4553,
41.4547,41.4541,41.0245,40.7384,40.4526
,40.167,39.8817,39.5967,39.3119,39.0274
,38.7431,38.4592,38.1756,37.8922,
37.6091,37.3264,37.044,36.7618,36.48,
36.1985,35.9174,35.6366,35.3561,35.0759
,34.7961,34.5167,34.2376,33.9588,
33.6805,33.4024,33.1248,32.8475,32.5706
,32.2941,32.018,31.4669,30.9175,30.3696
,29.8234,29.2788,28.736,28.1949,27.6555
,27.521,27.5119,27.5152,27.5161,27.5155
,27.5141,27.5119,27.5118,27.5119,
28.0525,28.5948,29.1388,29.6846,30.232,
30.781,31.3317,31.6076,31.8839,32.1607,
32.4378,32.7152,32.9931,33.2713,33.5499
,33.8289,34.1082,34.3879,34.668,34.9484
,35.2291,35.5102,35.7916,36.0734,
36.3555,36.6379,36.9206,37.2037,37.4871
,37.7707,38.0547,38.339,38.6236,38.9085
,39.1936,39.479,39.7647,40.0507,40.337,
40.6235,40.9103,41.3409,41.4845,
41.4928)
FOOTPRINT_POINT_LONGITUDE = (200.884,200.287,199.664,198.936,
198.916,198.855,198.871,198.881,198.891
,198.901,198.91,198.919,198.928,198.936
,198.944,198.951,198.958,198.965,
198.971,198.977,198.983,198.988,198.993
,198.998,199.003,199.007,199.011,
199.014,199.018,199.02,199.023,199.026,
199.028,199.029,199.031,199.032,199.033
,199.034,199.035,199.035,199.034,
199.033,199.03,199.027,199.022,199.017,
199.011,199.009,199.009,199.599,200.141
,200.486,200.83,201.173,201.194,201.205
,201.197,201.189,201.181,201.173,
201.164,201.154,201.145,201.14,201.135,
201.13,201.125,201.12,201.114,201.109,
201.103,201.098,201.092,201.086,201.08,
201.074,201.068,201.061,201.055,201.048
,201.042,201.035,201.028,201.021,
201.014,201.006,200.999,200.991,200.983
,200.975,200.967,200.959,200.951,
200.942,200.933,200.925,200.916,200.902
,200.897,200.884)
ORBIT_NUMBER = 24257
ORBITAL_ECCENTRICITY = 0.57
ORBITAL_INCLINATION = 87.07
ORBITAL_SEMIMAJOR_AXIS = 8781.94
PERIAPSIS_ALTITUDE = 396.86
PERIAPSIS_ARGUMENT_ANGLE = 125.0
PERIAPSIS_TIME = 2023-03-17T17:35:09.000Z
SPACECRAFT_ORIENTATION = (0.0,-1.0,0.0)
^MEX_ORIENTATION_DESC = "MEX_ORIENTATION_DESC.TXT"
SPACECRAFT_POINTING_MODE = ACROSSTRACK
^MEX_POINTING_DESC = "MEX_POINTING_DESC.TXT"
RIGHT_ASCENSION = -1e+32
DECLINATION = -1e+32
OFFSET_ANGLE = -0.45
SPACECRAFT_SOLAR_DISTANCE = 2.45216e+08
TARGET_NAME = MARS
/* CAMERA DATA ELEMENTS */
DETECTOR_TEMPERATURE = 18.3705 <degC>
FOCAL_PLANE_TEMPERATURE = 8.7872 <degC>
INST_CMPRS_NAME = "DISCRETE COSINE TRANSFORMATION (DCT)"
INST_CMPRS_RATIO = 6.98785
INST_CMPRS_QUALITY = 0
INST_CMPRS_QUANTZ_TBL_ID = 0
INSTRUMENT_TEMPERATURE = 11.4379 <degC>
LENS_TEMPERATURE = 9.3989 <degC>
MACROPIXEL_SIZE = 1
MISSING_FRAMES = 0
PIXEL_SUBSAMPLING_FLAG = N
SIGNAL_CHAIN_ID = 0
/* RADIOMETRIC DATA ELEMENTS */
BANDWIDTH = 177.0 <nm>
CENTER_FILTER_WAVELENGTH = 677.5 <nm>
RADIANCE_OFFSET = 4.74318 <W*m**-2*sr**-1>
RADIANCE_SCALING_FACTOR = 0.0186007 <W*m**-2*sr**-1>
REFLECTANCE_SCALING_FACTOR = 0.000594172
MEX:REFLECTANCE_OFFSET = 0.151514
/* IMAGE OBJECT DEFINITIONS */
OBJECT = IMAGE
INTERCHANGE_FORMAT = BINARY
LINES = 66301
LINE_SAMPLES = 9236
SAMPLE_TYPE = UNSIGNED_INTEGER
SAMPLE_BITS = 8
BANDS = 1
BAND_STORAGE_TYPE = BAND_SEQUENTIAL
MAXIMUM = 255
MEAN = 108.791
MINIMUM = 1
STANDARD_DEVIATION = 25.1135
END_OBJECT = IMAGE
/* MAP OBJECT DEFINITIONS */
OBJECT = IMAGE_MAP_PROJECTION
^DATA_SET_MAP_PROJECTION_CATALOG= "DSMAP.CAT"
A_AXIS_RADIUS = 3396.0 <km>
B_AXIS_RADIUS = 3396.0 <km>
C_AXIS_RADIUS = 3396.0 <km>
CENTER_LATITUDE = 0.0
CENTER_LONGITUDE = 200.0
COORDINATE_SYSTEM_NAME = PLANETOGRAPHIC
COORDINATE_SYSTEM_TYPE = "BODY-FIXED ROTATING"
EASTERNMOST_LONGITUDE = 201.205
FIRST_STANDARD_PARALLEL = "N/A"
LINE_FIRST_PIXEL = 1
LINE_LAST_PIXEL = 66301
LINE_PROJECTION_OFFSET = 196753.0
MAP_PROJECTION_ROTATION = 0.0
MAP_PROJECTION_TYPE = SINUSOIDAL
MAP_RESOLUTION = 4741.71043093333 <pixel/degree>
MAP_SCALE = 0.0125 <km/pixel>
MAXIMUM_LATITUDE = 41.4928
MINIMUM_LATITUDE = 27.5118
POSITIVE_LONGITUDE_DIRECTION = EAST
REFERENCE_LATITUDE = "N/A"
REFERENCE_LONGITUDE = "N/A"
SAMPLE_FIRST_PIXEL = 1
SAMPLE_LAST_PIXEL = 9236
SAMPLE_PROJECTION_OFFSET = 4167.0
SECOND_STANDARD_PARALLEL = "N/A"
WESTERNMOST_LONGITUDE = 198.855
END_OBJECT = IMAGE_MAP_PROJECTION
END