PDS_VERSION_ID = PDS3
/* FILE DATA ELEMENTS */
RECORD_TYPE = UNDEFINED
/* POINTERS TO DATA OBJECTS */
^IMAGE = ("HO250_0000_RE4.TIF")
/* IDENTIFICATION DATA ELEMENTS */
DATA_SET_ID = "MEX-M-HRSC-4-REFDR-MAPPROJECT-EXT9-V4.0"
DATA_SET_NAME = "MARS EXPRESS HRSC MAP PROJECTED REFDR EXTENSION9 V4.0"
DETECTOR_ID = MEX_HRSC_RED
EVENT_TYPE = "MARS-REGIONAL-VARIABLE-Pf-Eo"
INSTRUMENT_HOST_ID = MEX
INSTRUMENT_HOST_NAME = "MARS EXPRESS"
INSTRUMENT_ID = HRSC
INSTRUMENT_NAME = "HIGH RESOLUTION STEREO CAMERA"
MISSION_NAME = "MARS EXPRESS"
MISSION_PHASE_NAME = ME_Phase_47
PROCESSING_LEVEL_ID = 4
PRODUCT_CREATION_TIME = 2023-11-15T01:26:02.000Z
PRODUCT_ID = "HO250_0000_RE4.TIF"
RELEASE_ID = 0003
REVISION_ID = 0000
/* QUALITY DATA ELEMENTS */
DATA_QUALITY_ID = 1
DATA_QUALITY_DESC = "Data calculated based on original SPICE kernels"
/* TIME DATA ELEMENTS */
SPACECRAFT_CLOCK_START_COUNT = "1/0626978635.25691"
SPACECRAFT_CLOCK_STOP_COUNT = "1/0626978961.42241"
START_TIME = 2023-03-15T16:45:44.315Z
STOP_TIME = 2023-03-15T16:49:44.490Z
/* ORBITAL DATA ELEMENTS */
ASCENDING_NODE_LONGITUDE = 123.06
MAXIMUM_RESOLUTION = 0.0369
FOOTPRINT_POINT_LATITUDE = (41.5219,41.4939,41.4685,41.4415, 41.4407,41.5088,40.7382,40.2215,39.7064 ,39.1813,38.9189,38.526,38.1308,37.8639 ,37.5975,37.3316,37.0661,36.6613, 36.3909,36.1211,35.8516,35.5769,35.3026 ,35.0287,34.6161,34.3376,34.0596, 33.7823,33.36,33.0782,32.7969,32.511, 32.2252,31.94,31.6517,31.362,31.0731, 30.781,30.4876,30.1949,29.8978,29.4527, 29.0022,28.702,28.2464,27.7891,27.6348, 27.6285,27.6374,27.6459,27.6541,27.6623 ,27.6702,27.6805,27.681,27.6817,27.9904 ,28.2949,28.7518,29.0527,29.5043, 29.9505,30.2485,30.5418,30.8359,31.1288 ,31.4186,31.7089,31.9981,32.2838, 32.5703,32.8571,33.1389,33.4213,33.8447 ,34.1227,34.4011,34.6803,35.0938, 35.3681,35.6431,35.9185,36.1885,36.459, 36.73,37.1356,37.4016,37.6681,37.935, 38.2025,38.4676,38.9923,39.2551,39.5185 ,39.7813,40.2976,40.8154,41.4606, 41.5876,41.5219)
FOOTPRINT_POINT_LONGITUDE = (198.13,197.346,196.705,196.08,196.061, 196.074,196.073,196.072,196.07,196.067, 196.066,196.063,196.06,196.057,196.055, 196.052,196.049,196.044,196.04,196.036, 196.033,196.028,196.024,196.02,196.012, 196.007,196.002,195.997,195.988,195.982 ,195.976,195.97,195.963,195.957,195.95, 195.942,195.935,195.927,195.92,195.911, 195.903,195.89,195.877,195.868,195.853, 195.838,195.833,195.833,196.184,196.538 ,196.896,197.257,197.623,198.133, 198.156,198.165,198.165,198.166,198.167 ,198.168,198.169,198.17,198.171,198.172 ,198.173,198.174,198.175,198.176, 198.177,198.178,198.179,198.18,198.181, 198.182,198.184,198.185,198.186,198.187 ,198.189,198.19,198.191,198.193,198.194 ,198.195,198.196,198.198,198.2,198.201, 198.202,198.203,198.205,198.207,198.208 ,198.21,198.211,198.214,198.216,198.219 ,198.22,198.13)
ORBIT_NUMBER = 24250
ORBITAL_ECCENTRICITY = 0.57
ORBITAL_INCLINATION = 87.07
ORBITAL_SEMIMAJOR_AXIS = 8783.51
PERIAPSIS_ALTITUDE = 396.29
PERIAPSIS_ARGUMENT_ANGLE = 126.2
PERIAPSIS_TIME = 2023-03-15T16:41:57.000Z
SPACECRAFT_ORIENTATION = (0.0,-1.0,0.0)
^MEX_ORIENTATION_DESC = "MEX_ORIENTATION_DESC.TXT"
SPACECRAFT_POINTING_MODE = ACROSSTRACK
^MEX_POINTING_DESC = "MEX_POINTING_DESC.TXT"
RIGHT_ASCENSION = -1e+32
DECLINATION = -1e+32
OFFSET_ANGLE = 1.2
SPACECRAFT_SOLAR_DISTANCE = 2.44998e+08
TARGET_NAME = MARS
/* CAMERA DATA ELEMENTS */
DETECTOR_TEMPERATURE = 18.5744
FOCAL_PLANE_TEMPERATURE = 8.1755
INST_CMPRS_NAME = "DISCRETE COSINE TRANSFORMATION (DCT)"
INST_CMPRS_RATIO = 12.7371
INST_CMPRS_QUALITY = 0
INST_CMPRS_QUANTZ_TBL_ID = 0
INSTRUMENT_TEMPERATURE = 10.6223
LENS_TEMPERATURE = 8.7872
MACROPIXEL_SIZE = 2
MISSING_FRAMES = 0
PIXEL_SUBSAMPLING_FLAG = N
SIGNAL_CHAIN_ID = 3
/* RADIOMETRIC DATA ELEMENTS */
BANDWIDTH = 48.0
CENTER_FILTER_WAVELENGTH = 748.0
RADIANCE_OFFSET = 1.30651
RADIANCE_SCALING_FACTOR = 0.00362065
REFLECTANCE_SCALING_FACTOR = 0.000495951
MEX:REFLECTANCE_OFFSET = 0.178963
/* IMAGE OBJECT DEFINITIONS */
OBJECT = IMAGE
  INTERCHANGE_FORMAT = BINARY
  LINES = 32988
  LINE_SAMPLES = 4576
  SAMPLE_TYPE = UNSIGNED_INTEGER
  SAMPLE_BITS = 8
  BANDS = 1
  BAND_STORAGE_TYPE = BAND_SEQUENTIAL
  MAXIMUM = 255
  MEAN = 166.911
  MINIMUM = 1
  STANDARD_DEVIATION = 24.7751
END_OBJECT = IMAGE
/* MAP OBJECT DEFINITIONS */
OBJECT = IMAGE_MAP_PROJECTION
  ^DATA_SET_MAP_PROJECTION_CATALOG= "DSMAP.CAT"
  A_AXIS_RADIUS = 3396.0
  B_AXIS_RADIUS = 3396.0
  C_AXIS_RADIUS = 3396.0
  CENTER_LATITUDE = 0.0
  CENTER_LONGITUDE = 197.0
  COORDINATE_SYSTEM_NAME = PLANETOGRAPHIC
  COORDINATE_SYSTEM_TYPE = "BODY-FIXED ROTATING"
  EASTERNMOST_LONGITUDE = 198.22
  FIRST_STANDARD_PARALLEL = "N/A"
  LINE_FIRST_PIXEL = 1
  LINE_LAST_PIXEL = 32988
  LINE_PROJECTION_OFFSET = 98462.75
  MAP_PROJECTION_ROTATION = 0.0
  MAP_PROJECTION_TYPE = SINUSOIDAL
  MAP_RESOLUTION = 2370.85521546667
  MAP_SCALE = 0.025
  MAXIMUM_LATITUDE = 41.5876
  MINIMUM_LATITUDE = 27.6285
  POSITIVE_LONGITUDE_DIRECTION = EAST
  REFERENCE_LATITUDE = "N/A"
  REFERENCE_LONGITUDE = "N/A"
  SAMPLE_FIRST_PIXEL = 1
  SAMPLE_LAST_PIXEL = 4576
  SAMPLE_PROJECTION_OFFSET = 2317.25
  SECOND_STANDARD_PARALLEL = "N/A"
  WESTERNMOST_LONGITUDE = 195.833
END_OBJECT = IMAGE_MAP_PROJECTION
END
