PDS_VERSION_ID = PDS3
/* FILE DATA ELEMENTS */
RECORD_TYPE = UNDEFINED
/* POINTERS TO DATA OBJECTS */
^IMAGE = ("HO250_0000_BL4.TIF")
/* IDENTIFICATION DATA ELEMENTS */
DATA_SET_ID = "MEX-M-HRSC-4-REFDR-MAPPROJECT-EXT9-V4.0"
DATA_SET_NAME = "MARS EXPRESS HRSC MAP PROJECTED REFDR EXTENSION9 V4.0"
DETECTOR_ID = MEX_HRSC_BLUE
EVENT_TYPE = "MARS-REGIONAL-VARIABLE-Pf-Eo"
INSTRUMENT_HOST_ID = MEX
INSTRUMENT_HOST_NAME = "MARS EXPRESS"
INSTRUMENT_ID = HRSC
INSTRUMENT_NAME = "HIGH RESOLUTION STEREO CAMERA"
MISSION_NAME = "MARS EXPRESS"
MISSION_PHASE_NAME = ME_Phase_47
PROCESSING_LEVEL_ID = 4
PRODUCT_CREATION_TIME = 2023-11-15T01:26:02.000Z
PRODUCT_ID = "HO250_0000_BL4.TIF"
RELEASE_ID = 0003
REVISION_ID = 0000
/* QUALITY DATA ELEMENTS */
DATA_QUALITY_ID = 1
DATA_QUALITY_DESC = "Data calculated based on original SPICE kernels"
/* TIME DATA ELEMENTS */
SPACECRAFT_CLOCK_START_COUNT = "1/0626978635.25691"
SPACECRAFT_CLOCK_STOP_COUNT = "1/0626978961.42241"
START_TIME = 2023-03-15T16:45:16.957Z
STOP_TIME = 2023-03-15T16:49:06.214Z
/* ORBITAL DATA ELEMENTS */
ASCENDING_NODE_LONGITUDE = 123.06
MAXIMUM_RESOLUTION = 0.0345
FOOTPRINT_POINT_LATITUDE = (41.5198,41.5169,41.511,41.5022,41.5019 ,41.5164,41.1337,40.6173,40.1017, 39.5871,39.0625,38.5371,38.0128,37.613, 37.3453,37.078,36.5441,36.2725,36.0001, 35.728,35.4562,35.1848,34.9078,34.6309, 34.3542,34.078,33.798,33.5163,33.235, 32.9541,32.6696,32.3833,32.0975,31.8121 ,31.5217,31.0859,30.7958,30.5002, 30.2051,29.9106,29.612,29.3124,29.0133, 28.7106,28.4065,28.1031,27.7946,27.6404 ,27.6391,27.6394,27.639,27.6379,27.636, 27.6333,27.6283,27.6281,27.6286,28.0925 ,28.3966,28.7013,29.0049,29.3046, 29.6049,29.9041,30.1994,30.4951,30.7914 ,31.0821,31.5189,31.8099,32.0959, 32.3824,32.6693,32.9543,33.2359,33.5177 ,33.8,34.0806,34.3574,34.6346,34.9122, 35.1897,35.4616,35.7339,36.0066,36.2796 ,36.5517,36.819,37.0866,37.3545,37.6227 ,38.0232,38.5486,39.075,39.6006,40.1162 ,40.6327,41.4072,41.5336,41.5198)
FOOTPRINT_POINT_LONGITUDE = (198.091,197.331,196.709,196.103, 196.085,196.099,196.1,196.1,196.1, 196.099,196.097,196.094,196.091,196.088 ,196.085,196.083,196.077,196.074, 196.071,196.068,196.064,196.06,196.056, 196.052,196.047,196.043,196.038,196.033 ,196.028,196.023,196.017,196.011, 196.005,195.999,195.993,195.983,195.976 ,195.969,195.962,195.954,195.947, 195.939,195.93,195.922,195.913,195.905, 195.896,195.891,195.891,196.221,196.555 ,196.892,197.233,197.578,198.059, 198.081,198.089,198.091,198.093,198.095 ,198.096,198.098,198.1,198.102,198.104, 198.105,198.107,198.109,198.112,198.114 ,198.116,198.118,198.119,198.121, 198.123,198.125,198.127,198.129,198.131 ,198.132,198.134,198.136,198.138,198.14 ,198.142,198.144,198.146,198.147, 198.149,198.151,198.153,198.155,198.159 ,198.163,198.166,198.17,198.173,198.178 ,198.179,198.091)
ORBIT_NUMBER = 24250
ORBITAL_ECCENTRICITY = 0.57
ORBITAL_INCLINATION = 87.07
ORBITAL_SEMIMAJOR_AXIS = 8783.51
PERIAPSIS_ALTITUDE = 396.29
PERIAPSIS_ARGUMENT_ANGLE = 126.2
PERIAPSIS_TIME = 2023-03-15T16:41:57.000Z
SPACECRAFT_ORIENTATION = (0.0,-1.0,0.0)
^MEX_ORIENTATION_DESC = "MEX_ORIENTATION_DESC.TXT"
SPACECRAFT_POINTING_MODE = ACROSSTRACK
^MEX_POINTING_DESC = "MEX_POINTING_DESC.TXT"
RIGHT_ASCENSION = -1e+32
DECLINATION = -1e+32
OFFSET_ANGLE = 1.2
SPACECRAFT_SOLAR_DISTANCE = 2.44998e+08
TARGET_NAME = MARS
/* CAMERA DATA ELEMENTS */
DETECTOR_TEMPERATURE = 17.9627
FOCAL_PLANE_TEMPERATURE = 8.1755
INST_CMPRS_NAME = "DISCRETE COSINE TRANSFORMATION (DCT)"
INST_CMPRS_RATIO = 5.06752
INST_CMPRS_QUALITY = 0
INST_CMPRS_QUANTZ_TBL_ID = 0
INSTRUMENT_TEMPERATURE = 10.6223
LENS_TEMPERATURE = 8.7872
MACROPIXEL_SIZE = 2
MISSING_FRAMES = 0
PIXEL_SUBSAMPLING_FLAG = N
SIGNAL_CHAIN_ID = 2
/* RADIOMETRIC DATA ELEMENTS */
BANDWIDTH = 76.0
CENTER_FILTER_WAVELENGTH = 444.0
RADIANCE_OFFSET = 0.603487
RADIANCE_SCALING_FACTOR = 0.00172118
REFLECTANCE_SCALING_FACTOR = 0.000106147
MEX:REFLECTANCE_OFFSET = 0.0372178
/* IMAGE OBJECT DEFINITIONS */
OBJECT = IMAGE
  INTERCHANGE_FORMAT = BINARY
  LINES = 32988
  LINE_SAMPLES = 4576
  SAMPLE_TYPE = UNSIGNED_INTEGER
  SAMPLE_BITS = 8
  BANDS = 1
  BAND_STORAGE_TYPE = BAND_SEQUENTIAL
  MAXIMUM = 255
  MEAN = 130.964
  MINIMUM = 1
  STANDARD_DEVIATION = 29.5176
END_OBJECT = IMAGE
/* MAP OBJECT DEFINITIONS */
OBJECT = IMAGE_MAP_PROJECTION
  ^DATA_SET_MAP_PROJECTION_CATALOG= "DSMAP.CAT"
  A_AXIS_RADIUS = 3396.0
  B_AXIS_RADIUS = 3396.0
  C_AXIS_RADIUS = 3396.0
  CENTER_LATITUDE = 0.0
  CENTER_LONGITUDE = 197.0
  COORDINATE_SYSTEM_NAME = PLANETOGRAPHIC
  COORDINATE_SYSTEM_TYPE = "BODY-FIXED ROTATING"
  EASTERNMOST_LONGITUDE = 198.179
  FIRST_STANDARD_PARALLEL = "N/A"
  LINE_FIRST_PIXEL = 1
  LINE_LAST_PIXEL = 32988
  LINE_PROJECTION_OFFSET = 98462.75
  MAP_PROJECTION_ROTATION = 0.0
  MAP_PROJECTION_TYPE = SINUSOIDAL
  MAP_RESOLUTION = 2370.85521546667
  MAP_SCALE = 0.025
  MAXIMUM_LATITUDE = 41.5336
  MINIMUM_LATITUDE = 27.6281
  POSITIVE_LONGITUDE_DIRECTION = EAST
  REFERENCE_LATITUDE = "N/A"
  REFERENCE_LONGITUDE = "N/A"
  SAMPLE_FIRST_PIXEL = 1
  SAMPLE_LAST_PIXEL = 4576
  SAMPLE_PROJECTION_OFFSET = 2317.25
  SECOND_STANDARD_PARALLEL = "N/A"
  WESTERNMOST_LONGITUDE = 195.891
END_OBJECT = IMAGE_MAP_PROJECTION
END
