PDS_VERSION_ID = PDS3
/* FILE DATA ELEMENTS */
RECORD_TYPE = UNDEFINED
/* POINTERS TO DATA OBJECTS */
^IMAGE = ("HO242_0000_RE4.TIF")
/* IDENTIFICATION DATA ELEMENTS */
DATA_SET_ID = "MEX-M-HRSC-4-REFDR-MAPPROJECT-EXT9-V4.0"
DATA_SET_NAME = "MARS EXPRESS HRSC MAP PROJECTED REFDR EXTENSION9 V4.0"
DETECTOR_ID = MEX_HRSC_RED
EVENT_TYPE = "MARS-REGIONAL-STEREO-Te-Fl-Gl"
INSTRUMENT_HOST_ID = MEX
INSTRUMENT_HOST_NAME = "MARS EXPRESS"
INSTRUMENT_ID = HRSC
INSTRUMENT_NAME = "HIGH RESOLUTION STEREO CAMERA"
MISSION_NAME = "MARS EXPRESS"
MISSION_PHASE_NAME = ME_Phase_47
PROCESSING_LEVEL_ID = 4
PRODUCT_CREATION_TIME = 2023-11-15T01:26:02.000Z
PRODUCT_ID = "HO242_0000_RE4.TIF"
RELEASE_ID = 0003
REVISION_ID = 0000
/* QUALITY DATA ELEMENTS */
DATA_QUALITY_ID = 1
DATA_QUALITY_DESC = "Data calculated based on original SPICE kernels"
/* TIME DATA ELEMENTS */
SPACECRAFT_CLOCK_START_COUNT = "1/0626777237.24924"
SPACECRAFT_CLOCK_STOP_COUNT = "1/0626777562.38066"
START_TIME = 2023-03-13T08:49:01.968Z
STOP_TIME = 2023-03-13T08:53:09.451Z
/* ORBITAL DATA ELEMENTS */
ASCENDING_NODE_LONGITUDE = 123.21
MAXIMUM_RESOLUTION = 0.1337
FOOTPRINT_POINT_LATITUDE = (57.3671,57.3595,57.3453,57.3303, 57.3146,57.2982,57.281,57.2631,57.262, 57.352,57.1819,57.0118,56.8417,56.7284, 56.6149,56.5016,56.3316,56.1617,56.0485 ,55.9351,55.8219,55.6521,55.4823, 55.3125,55.1429,54.9732,54.8036,54.6903 ,54.5773,54.4077,54.2382,54.0689, 53.8996,53.7868,53.6739,53.392,43.5362, 43.3118,43.1436,42.9758,42.7491,42.6345 ,42.5199,42.3481,42.2348,42.0632, 41.9489,41.8349,41.7782,41.7497,41.7599 ,41.7722,41.7851,41.7907,41.7982, 41.8074,41.8133,41.8227,41.8232,41.8256 ,41.9975,42.1123,42.2268,42.3412, 42.4558,42.6277,42.7424,42.9687,43.2488 ,43.4176,43.6424,53.5166,53.6889, 53.8589,54.0289,54.1989,54.3688,54.4821 ,54.5955,54.7087,54.8789,55.0491, 55.1626,55.3328,55.503,55.6733,55.7869, 55.9007,56.0142,56.1278,56.2418,56.4123 ,56.583,56.7536,56.9243,57.0949,57.2087 ,57.3795,57.4364,57.3671)
FOOTPRINT_POINT_LONGITUDE = (294.531,294.309,293.919,293.533, 293.151,292.774,292.401,292.03,292.007, 292.009,292.027,292.044,292.06,292.071, 292.082,292.093,292.109,292.125,292.135 ,292.145,292.155,292.17,292.184,292.199 ,292.213,292.227,292.24,292.249,292.258 ,292.271,292.284,292.296,292.309, 292.317,292.325,292.344,292.732,292.736 ,292.738,292.741,292.744,292.745, 292.747,292.749,292.751,292.752,292.754 ,292.755,292.756,292.756,292.994, 293.293,293.633,293.805,294.016,294.268 ,294.443,294.758,294.778,294.791, 294.791,294.791,294.791,294.79,294.79, 294.79,294.789,294.786,294.785,294.785, 294.785,294.734,294.735,294.733,294.731 ,294.729,294.727,294.726,294.724, 294.722,294.72,294.718,294.716,294.713, 294.711,294.708,294.706,294.705,294.703 ,294.701,294.699,294.696,294.693,294.69 ,294.687,294.684,294.682,294.679, 294.677,294.531)
ORBIT_NUMBER = 24242
ORBITAL_ECCENTRICITY = 0.57
ORBITAL_INCLINATION = 87.06
ORBITAL_SEMIMAJOR_AXIS = 8789.14
PERIAPSIS_ALTITUDE = 395.57
PERIAPSIS_ARGUMENT_ANGLE = 127.59
PERIAPSIS_TIME = 2023-03-13T08:49:50.000Z
SPACECRAFT_ORIENTATION = (0.0,-1.0,0.0)
^MEX_ORIENTATION_DESC = "MEX_ORIENTATION_DESC.TXT"
SPACECRAFT_POINTING_MODE = ACROSSTRACK
^MEX_POINTING_DESC = "MEX_POINTING_DESC.TXT"
RIGHT_ASCENSION = -1e+32
DECLINATION = -1e+32
OFFSET_ANGLE = 0.9
SPACECRAFT_SOLAR_DISTANCE = 2.44743e+08
TARGET_NAME = MARS
/* CAMERA DATA ELEMENTS */
DETECTOR_TEMPERATURE = 18.9822
FOCAL_PLANE_TEMPERATURE = 9.8067
INST_CMPRS_NAME = "DISCRETE COSINE TRANSFORMATION (DCT)"
INST_CMPRS_RATIO = 18.4086
INST_CMPRS_QUALITY = 0
INST_CMPRS_QUANTZ_TBL_ID = 0
INSTRUMENT_TEMPERATURE = 11.8457
LENS_TEMPERATURE = 10.0106
MACROPIXEL_SIZE = 8
PIXEL_SUBSAMPLING_FLAG = N
SIGNAL_CHAIN_ID = 2
/* RADIOMETRIC DATA ELEMENTS */
BANDWIDTH = 48.0
CENTER_FILTER_WAVELENGTH = 748.0
RADIANCE_OFFSET = 0.911668
RADIANCE_SCALING_FACTOR = 0.00739272
REFLECTANCE_SCALING_FACTOR = 0.00101053
MEX:REFLECTANCE_OFFSET = 0.124618
/* IMAGE OBJECT DEFINITIONS */
OBJECT = IMAGE
  INTERCHANGE_FORMAT = BINARY
  LINES = 3776
  LINE_SAMPLES = 975
  SAMPLE_TYPE = UNSIGNED_INTEGER
  SAMPLE_BITS = 8
  BANDS = 1
  BAND_STORAGE_TYPE = BAND_SEQUENTIAL
  MAXIMUM = 115
  MEAN = 55.127
  MINIMUM = 1
  STANDARD_DEVIATION = 27.1376
END_OBJECT = IMAGE
/* MAP OBJECT DEFINITIONS */
OBJECT = IMAGE_MAP_PROJECTION
  ^DATA_SET_MAP_PROJECTION_CATALOG= "DSMAP.CAT"
  A_AXIS_RADIUS = 3396.0
  B_AXIS_RADIUS = 3396.0
  C_AXIS_RADIUS = 3396.0
  CENTER_LATITUDE = 0.0
  CENTER_LONGITUDE = 293.0
  COORDINATE_SYSTEM_NAME = PLANETOGRAPHIC
  COORDINATE_SYSTEM_TYPE = "BODY-FIXED ROTATING"
  EASTERNMOST_LONGITUDE = 294.791
  FIRST_STANDARD_PARALLEL = "N/A"
  LINE_FIRST_PIXEL = 1
  LINE_LAST_PIXEL = 3776
  LINE_PROJECTION_OFFSET = 34034.1875
  MAP_PROJECTION_ROTATION = 0.0
  MAP_PROJECTION_TYPE = SINUSOIDAL
  MAP_RESOLUTION = 592.713803866667
  MAP_SCALE = 0.1
  MAXIMUM_LATITUDE = 57.4364
  MINIMUM_LATITUDE = 41.7497
  POSITIVE_LONGITUDE_DIRECTION = EAST
  REFERENCE_LATITUDE = "N/A"
  REFERENCE_LONGITUDE = "N/A"
  SAMPLE_FIRST_PIXEL = 1
  SAMPLE_LAST_PIXEL = 975
  SAMPLE_PROJECTION_OFFSET = 329.8125
  SECOND_STANDARD_PARALLEL = "N/A"
  WESTERNMOST_LONGITUDE = 292.007
END_OBJECT = IMAGE_MAP_PROJECTION
END
