PDS_VERSION_ID = PDS3
/* FILE DATA ELEMENTS */
RECORD_TYPE = UNDEFINED
/* POINTERS TO DATA OBJECTS */
^IMAGE = ("HO235_0000_P24.TIF")
/* IDENTIFICATION DATA ELEMENTS */
DATA_SET_ID = "MEX-M-HRSC-4-REFDR-MAPPROJECT-EXT9-V4.0"
DATA_SET_NAME = "MARS EXPRESS HRSC MAP PROJECTED REFDR EXTENSION9 V4.0"
DETECTOR_ID = MEX_HRSC_P2
EVENT_TYPE = "MARS-REGIONAL-STEREO-Te-Fl-Gl"
INSTRUMENT_HOST_ID = MEX
INSTRUMENT_HOST_NAME = "MARS EXPRESS"
INSTRUMENT_ID = HRSC
INSTRUMENT_NAME = "HIGH RESOLUTION STEREO CAMERA"
MISSION_NAME = "MARS EXPRESS"
MISSION_PHASE_NAME = ME_Phase_47
PROCESSING_LEVEL_ID = 4
PRODUCT_CREATION_TIME = 2023-11-15T01:26:02.000Z
PRODUCT_ID = "HO235_0000_P24.TIF"
RELEASE_ID = 0003
REVISION_ID = 0000
/* QUALITY DATA ELEMENTS */
DATA_QUALITY_ID = 1
DATA_QUALITY_DESC = "Data calculated based on original SPICE kernels"
/* TIME DATA ELEMENTS */
SPACECRAFT_CLOCK_START_COUNT = "1/0626601231.25693"
SPACECRAFT_CLOCK_STOP_COUNT = "1/0626601558.23785"
START_TIME = 2023-03-11T07:55:32.697Z
STOP_TIME = 2023-03-11T07:59:37.784Z
/* ORBITAL DATA ELEMENTS */
ASCENDING_NODE_LONGITUDE = 123.33
MAXIMUM_RESOLUTION = 0.0335
FOOTPRINT_POINT_LATITUDE = (57.2615,57.221,57.1831,57.1424,57.141, 57.2155,56.9026,56.5899,56.2771,55.9644 ,55.4956,55.1831,54.8707,54.4024, 53.9342,53.4662,53.1548,52.8433,52.5318 ,52.065,51.5941,51.1312,50.8221,50.5117 ,50.2017,49.8893,49.5804,49.2666, 48.9576,48.6479,48.1812,47.716,47.4076, 47.1001,46.7941,46.4852,46.179,45.8712, 45.5627,45.2549,44.9422,44.4718,44.1593 ,43.851,43.5373,43.07,42.446,42.134, 41.8155,41.6566,41.6408,41.6684,41.709, 41.7403,41.7413,41.7422,42.0601,42.3753 ,42.6869,42.9982,43.3106,43.7802, 44.0933,44.402,44.8767,45.1946,45.5041, 46.1165,46.4271,46.889,47.1966,47.6592, 48.2744,48.5853,48.8958,49.3608,49.6707 ,49.9807,50.448,50.7602,51.0708,51.5387 ,51.8506,52.1634,52.4769,52.7888, 53.1008,53.4129,53.8809,54.3502,54.6631 ,54.9757,55.2887,55.6017,55.9148, 56.3846,56.6979,57.1678,57.3245, 57.2615)
FOOTPRINT_POINT_LONGITUDE = (291.763,290.675,289.81,288.986,288.961 ,289.068,289.081,289.094,289.107, 289.118,289.135,289.145,289.155,289.169 ,289.181,289.192,289.2,289.207,289.213, 289.222,289.223,289.235,289.241,289.244 ,289.248,289.248,289.251,289.248, 289.251,289.251,289.249,289.247,289.247 ,289.248,289.25,289.248,289.248,289.246 ,289.243,289.239,289.236,289.233, 289.231,289.234,289.229,289.226,289.217 ,289.212,289.208,289.206,289.206, 289.744,290.623,291.358,291.381,291.389 ,291.397,291.406,291.416,291.424, 291.435,291.451,291.461,291.459,291.484 ,291.504,291.519,291.536,291.554, 291.571,291.581,291.597,291.613,291.628 ,291.643,291.661,291.672,291.684, 291.706,291.722,291.734,291.756,291.77, 291.786,291.804,291.818,291.831,291.844 ,291.863,291.885,291.899,291.913, 291.928,291.942,291.957,291.979,291.994 ,292.017,292.025,291.763)
ORBIT_NUMBER = 24235
ORBITAL_ECCENTRICITY = 0.57
ORBITAL_INCLINATION = 87.06
ORBITAL_SEMIMAJOR_AXIS = 8791.98
PERIAPSIS_ALTITUDE = 394.85
PERIAPSIS_ARGUMENT_ANGLE = 128.79
PERIAPSIS_TIME = 2023-03-11T07:56:42.000Z
SPACECRAFT_ORIENTATION = (0.0,-1.0,0.0)
^MEX_ORIENTATION_DESC = "MEX_ORIENTATION_DESC.TXT"
SPACECRAFT_POINTING_MODE = ACROSSTRACK
^MEX_POINTING_DESC = "MEX_POINTING_DESC.TXT"
RIGHT_ASCENSION = -1e+32
DECLINATION = -1e+32
OFFSET_ANGLE = 2.05
SPACECRAFT_SOLAR_DISTANCE = 2.44513e+08
TARGET_NAME = MARS
/* CAMERA DATA ELEMENTS */
DETECTOR_TEMPERATURE = 18.5744
FOCAL_PLANE_TEMPERATURE = 8.5833
INST_CMPRS_NAME = "DISCRETE COSINE TRANSFORMATION (DCT)"
INST_CMPRS_RATIO = 5.6344
INST_CMPRS_QUALITY = 0
INST_CMPRS_QUANTZ_TBL_ID = 0
INSTRUMENT_TEMPERATURE = 11.234
LENS_TEMPERATURE = 8.5833
MACROPIXEL_SIZE = 2
MISSING_FRAMES = 0
PIXEL_SUBSAMPLING_FLAG = N
SIGNAL_CHAIN_ID = 3
/* RADIOMETRIC DATA ELEMENTS */
BANDWIDTH = 177.0
CENTER_FILTER_WAVELENGTH = 676.5
RADIANCE_OFFSET = 2.26509
RADIANCE_SCALING_FACTOR = 0.0238495
REFLECTANCE_SCALING_FACTOR = 0.000756034
MEX:REFLECTANCE_OFFSET = 0.0718039
/* IMAGE OBJECT DEFINITIONS */
OBJECT = IMAGE
  INTERCHANGE_FORMAT = BINARY
  LINES = 36963
  LINE_SAMPLES = 3966
  SAMPLE_TYPE = UNSIGNED_INTEGER
  SAMPLE_BITS = 8
  BANDS = 1
  BAND_STORAGE_TYPE = BAND_SEQUENTIAL
  MAXIMUM = 255
  MEAN = 144.964
  MINIMUM = 1
  STANDARD_DEVIATION = 47.5205
END_OBJECT = IMAGE
/* MAP OBJECT DEFINITIONS */
OBJECT = IMAGE_MAP_PROJECTION
  ^DATA_SET_MAP_PROJECTION_CATALOG= "DSMAP.CAT"
  A_AXIS_RADIUS = 3396.0
  B_AXIS_RADIUS = 3396.0
  C_AXIS_RADIUS = 3396.0
  CENTER_LATITUDE = 0.0
  CENTER_LONGITUDE = 290.0
  COORDINATE_SYSTEM_NAME = PLANETOGRAPHIC
  COORDINATE_SYSTEM_TYPE = "BODY-FIXED ROTATING"
  EASTERNMOST_LONGITUDE = 292.025
  FIRST_STANDARD_PARALLEL = "N/A"
  LINE_FIRST_PIXEL = 1
  LINE_LAST_PIXEL = 36963
  LINE_PROJECTION_OFFSET = 135800.75
  MAP_PROJECTION_ROTATION = 0.0
  MAP_PROJECTION_TYPE = SINUSOIDAL
  MAP_RESOLUTION = 2370.85521546667
  MAP_SCALE = 0.025
  MAXIMUM_LATITUDE = 57.3245
  MINIMUM_LATITUDE = 41.6408
  POSITIVE_LONGITUDE_DIRECTION = EAST
  REFERENCE_LATITUDE = "N/A"
  REFERENCE_LONGITUDE = "N/A"
  SAMPLE_FIRST_PIXEL = 1
  SAMPLE_LAST_PIXEL = 3966
  SAMPLE_PROJECTION_OFFSET = 1387.25
  SECOND_STANDARD_PARALLEL = "N/A"
  WESTERNMOST_LONGITUDE = 288.961
END_OBJECT = IMAGE_MAP_PROJECTION
END
