PDS_VERSION_ID = PDS3
/* FILE DATA ELEMENTS */
RECORD_TYPE = UNDEFINED
/* POINTERS TO DATA OBJECTS */
^IMAGE = ("HO219_0000_IR4.TIF")
/* IDENTIFICATION DATA ELEMENTS */
DATA_SET_ID = "MEX-M-HRSC-4-REFDR-MAPPROJECT-EXT9-V4.0"
DATA_SET_NAME = "MARS EXPRESS HRSC MAP PROJECTED REFDR EXTENSION9 V4.0"
DETECTOR_ID = MEX_HRSC_IR
EVENT_TYPE = "MARS-REGIONAL-MAPPING-Vo-Im-Pf"
INSTRUMENT_HOST_ID = MEX
INSTRUMENT_HOST_NAME = "MARS EXPRESS"
INSTRUMENT_ID = HRSC
INSTRUMENT_NAME = "HIGH RESOLUTION STEREO CAMERA"
MISSION_NAME = "MARS EXPRESS"
MISSION_PHASE_NAME = ME_Phase_47
PROCESSING_LEVEL_ID = 4
PRODUCT_CREATION_TIME = 2023-11-15T01:26:02.000Z
PRODUCT_ID = "HO219_0000_IR4.TIF"
RELEASE_ID = 0003
REVISION_ID = 0000
/* QUALITY DATA ELEMENTS */
DATA_QUALITY_ID = 1
DATA_QUALITY_DESC = "Data calculated based on original SPICE kernels"
/* TIME DATA ELEMENTS */
SPACECRAFT_CLOCK_START_COUNT = "1/0626198767.25682"
SPACECRAFT_CLOCK_STOP_COUNT = "1/0626199185.33556"
START_TIME = 2023-03-06T16:06:51.780Z
STOP_TIME = 2023-03-06T16:12:32.685Z
/* ORBITAL DATA ELEMENTS */
ASCENDING_NODE_LONGITUDE = 123.62
MAXIMUM_RESOLUTION = 0.0663
FOOTPRINT_POINT_LATITUDE = (66.6384,66.5405,66.4238,66.4212, 66.3077,65.8589,65.4094,64.9666,64.3022 ,63.8654,63.4269,62.7775,62.3461, 61.9141,61.4903,61.0652,60.4287,60.0111 ,59.3827,58.9637,58.5527,58.1408, 57.7282,57.1095,56.7054,56.3003,55.894, 55.4873,54.8793,54.0822,53.2825,52.4798 ,52.0777,51.6748,51.2716,50.8679, 50.4635,50.0585,49.653,49.2472,48.637, 48.2299,47.8222,47.4141,47.0056,46.5968 ,46.1875,45.7779,45.5729,45.4945, 45.5355,45.5666,45.5671,45.5683,45.9796 ,46.3906,46.801,47.2114,47.6213,48.0308 ,48.4396,49.0524,49.4604,49.8679,50.275 ,50.6816,51.0875,51.4931,51.8982, 52.3026,52.7069,53.513,54.3167,55.1179, 55.5277,55.937,56.3458,56.754,57.1613, 57.7828,58.1988,58.6139,59.0282,59.4495 ,59.8723,60.2943,60.7153,61.146,61.5753 ,62.0038,62.4385,62.8752,63.3106, 63.7529,64.417,65.0892,65.5388,66.2213, 66.4493,66.6384)
FOOTPRINT_POINT_LONGITUDE = (120.312,118.164,116.245,116.206, 116.106,116.289,116.464,116.628,116.864 ,117.009,117.15,117.348,117.473,117.594 ,117.707,117.817,117.974,118.072, 118.213,118.304,118.388,118.471,118.55, 118.665,118.737,118.806,118.873,118.938 ,119.031,119.146,119.253,119.354, 119.403,119.449,119.495,119.538,119.581 ,119.622,119.662,119.7,119.755,119.79, 119.825,119.857,119.889,119.92,119.95, 119.978,119.992,119.997,120.964,121.96, 121.978,121.984,121.971,121.957,121.943 ,121.929,121.914,121.899,121.883, 121.859,121.842,121.825,121.808,121.789 ,121.771,121.752,121.732,121.712, 121.691,121.647,121.601,121.552,121.527 ,121.5,121.472,121.444,121.415,121.369, 121.336,121.303,121.269,121.233,121.196 ,121.157,121.118,121.076,121.032, 120.987,120.94,120.891,120.84,120.786, 120.701,120.611,120.547,120.445,120.409 ,120.312)
ORBIT_NUMBER = 24219
ORBITAL_ECCENTRICITY = 0.571
ORBITAL_INCLINATION = 87.05
ORBITAL_SEMIMAJOR_AXIS = 8799.8
PERIAPSIS_ALTITUDE = 393.21
PERIAPSIS_ARGUMENT_ANGLE = 131.52
PERIAPSIS_TIME = 2023-03-06T16:12:18.000Z
SPACECRAFT_ORIENTATION = (0.0,-1.0,0.0)
^MEX_ORIENTATION_DESC = "MEX_ORIENTATION_DESC.TXT"
SPACECRAFT_POINTING_MODE = ACROSSTRACK
^MEX_POINTING_DESC = "MEX_POINTING_DESC.TXT"
RIGHT_ASCENSION = -1e+32
DECLINATION = -1e+32
OFFSET_ANGLE = -0.31
SPACECRAFT_SOLAR_DISTANCE = 2.4397e+08
TARGET_NAME = MARS
/* CAMERA DATA ELEMENTS */
DETECTOR_TEMPERATURE = 17.1471
FOCAL_PLANE_TEMPERATURE = 8.5833
INST_CMPRS_NAME = "DISCRETE COSINE TRANSFORMATION (DCT)"
INST_CMPRS_RATIO = 7.60546
INST_CMPRS_QUALITY = 0
INST_CMPRS_QUANTZ_TBL_ID = 0
INSTRUMENT_TEMPERATURE = 11.234
LENS_TEMPERATURE = 8.7872
MACROPIXEL_SIZE = 4
MISSING_FRAMES = 0
PIXEL_SUBSAMPLING_FLAG = N
SIGNAL_CHAIN_ID = 2
/* RADIOMETRIC DATA ELEMENTS */
BANDWIDTH = 81.0
CENTER_FILTER_WAVELENGTH = 955.5
RADIANCE_OFFSET = 0.768535
RADIANCE_SCALING_FACTOR = 0.00465779
REFLECTANCE_SCALING_FACTOR = 0.000598105
MEX:REFLECTANCE_OFFSET = 0.0986873
/* IMAGE OBJECT DEFINITIONS */
OBJECT = IMAGE
  INTERCHANGE_FORMAT = BINARY
  LINES = 24906
  LINE_SAMPLES = 3470
  SAMPLE_TYPE = UNSIGNED_INTEGER
  SAMPLE_BITS = 8
  BANDS = 1
  BAND_STORAGE_TYPE = BAND_SEQUENTIAL
  MAXIMUM = 255
  MEAN = 66.0331
  MINIMUM = 1
  STANDARD_DEVIATION = 42.6953
END_OBJECT = IMAGE
/* MAP OBJECT DEFINITIONS */
OBJECT = IMAGE_MAP_PROJECTION
  ^DATA_SET_MAP_PROJECTION_CATALOG= "DSMAP.CAT"
  A_AXIS_RADIUS = 3396.0
  B_AXIS_RADIUS = 3396.0
  C_AXIS_RADIUS = 3396.0
  CENTER_LATITUDE = 0.0
  CENTER_LONGITUDE = 120.0
  COORDINATE_SYSTEM_NAME = PLANETOGRAPHIC
  COORDINATE_SYSTEM_TYPE = "BODY-FIXED ROTATING"
  EASTERNMOST_LONGITUDE = 121.984
  FIRST_STANDARD_PARALLEL = "N/A"
  LINE_FIRST_PIXEL = 1
  LINE_LAST_PIXEL = 24906
  LINE_PROJECTION_OFFSET = 78863.625
  MAP_PROJECTION_ROTATION = 0.0
  MAP_PROJECTION_TYPE = SINUSOIDAL
  MAP_RESOLUTION = 1185.42760773333
  MAP_SCALE = 0.05
  MAXIMUM_LATITUDE = 66.6384
  MINIMUM_LATITUDE = 45.4945
  POSITIVE_LONGITUDE_DIRECTION = EAST
  REFERENCE_LATITUDE = "N/A"
  REFERENCE_LONGITUDE = "N/A"
  SAMPLE_FIRST_PIXEL = 1
  SAMPLE_LAST_PIXEL = 3470
  SAMPLE_PROJECTION_OFFSET = 1823.375
  SECOND_STANDARD_PARALLEL = "N/A"
  WESTERNMOST_LONGITUDE = 116.106
END_OBJECT = IMAGE_MAP_PROJECTION
END
