PDS_VERSION_ID = PDS3
/* FILE DATA ELEMENTS */
RECORD_TYPE = UNDEFINED
/* POINTERS TO DATA OBJECTS */
^IMAGE = ("HO206_0000_ND4.TIF")
/* IDENTIFICATION DATA ELEMENTS */
DATA_SET_ID = "MEX-M-HRSC-4-REFDR-MAPPROJECT-EXT9-V4.0"
DATA_SET_NAME = "MARS EXPRESS HRSC MAP PROJECTED REFDR EXTENSION9 V4.0"
DETECTOR_ID = MEX_HRSC_NADIR
EVENT_TYPE = "MARS-REGIONAL-MAPPING-Im-Fl-La"
INSTRUMENT_HOST_ID = MEX
INSTRUMENT_HOST_NAME = "MARS EXPRESS"
INSTRUMENT_ID = HRSC
INSTRUMENT_NAME = "HIGH RESOLUTION STEREO CAMERA"
MISSION_NAME = "MARS EXPRESS"
MISSION_PHASE_NAME = ME_Phase_47
PROCESSING_LEVEL_ID = 4
PRODUCT_CREATION_TIME = 2023-11-15T01:26:02.000Z
PRODUCT_ID = "HO206_0000_ND4.TIF"
RELEASE_ID = 0003
REVISION_ID = 0000
/* QUALITY DATA ELEMENTS */
DATA_QUALITY_ID = 1
DATA_QUALITY_DESC = "Data calculated based on original SPICE kernels"
/* TIME DATA ELEMENTS */
SPACECRAFT_CLOCK_START_COUNT = "1/0625872409.24917"
SPACECRAFT_CLOCK_STOP_COUNT = "1/0625872836.48541"
START_TIME = 2023-03-02T21:28:04.908Z
STOP_TIME = 2023-03-02T21:33:21.888Z
/* ORBITAL DATA ELEMENTS */
ASCENDING_NODE_LONGITUDE = 123.85
MAXIMUM_RESOLUTION = 0.0171
FOOTPRINT_POINT_LATITUDE = (34.5629,34.5504,34.5344,34.5116, 34.5108,34.5082,33.657,32.9774,32.6302, 32.2828,31.9357,31.2427,30.7141,30.3604 ,30.0069,29.6539,29.2955,28.9353, 28.5754,28.2159,27.6677,27.3012,26.9355 ,26.3782,26.0054,25.6334,25.2545, 24.8755,24.4972,24.1118,23.5343,22.9489 ,22.5579,21.9637,21.5666,20.9627, 20.5598,20.15,19.741,19.326,18.911, 18.4902,17.8557,17.4289,16.9978,16.3462 ,15.6869,15.4647,15.4334,15.4318, 15.4302,15.4254,15.4203,15.4201,15.4203 ,15.8659,16.306,16.9604,17.3935,17.8221 ,18.4594,18.8823,19.2987,19.7158, 20.1262,20.5376,20.9423,21.5488,21.9472 ,22.544,22.9363,23.5243,23.9103,24.2971 ,24.8705,25.2508,25.6314,26.0047, 26.3786,26.9383,27.3054,27.673,28.2236, 28.5841,28.9452,29.3067,29.667,30.0211, 30.3756,30.7306,31.2616,31.6091,31.957, 32.3052,32.6539,33.0028,33.6848,34.368, 34.5389,34.5629)
FOOTPRINT_POINT_LONGITUDE = (7.82368,7.24363,6.63613,5.91611, 5.89552,5.80343,5.84271,5.87083,5.88477 ,5.89886,5.91006,5.93718,5.95538, 5.97002,5.97522,5.97924,5.99081,6.01113 ,6.01634,6.01933,6.03302,6.03306, 6.04797,6.0581,6.0539,6.06505,6.06791, 6.07224,6.07646,6.07946,6.08237,6.08539 ,6.08688,6.08635,6.08486,6.083,6.08142, 6.07872,6.0765,6.07302,6.07131,6.06165, 6.05258,6.0389,6.03218,6.03732,6.01067, 6.00558,6.00487,6.64394,7.00731,7.71466 ,8.25128,8.27248,8.28286,8.27649, 8.27014,8.26007,8.25343,8.24609,8.23492 ,8.22857,8.22112,8.21374,8.2062,8.19848 ,8.19042,8.1779,8.16957,8.15702,8.14867 ,8.1349,8.12672,8.11729,8.10364,8.09425 ,8.08522,8.07395,8.06508,8.0501,8.04021 ,8.0303,8.01321,8.00344,7.99273,7.9821, 7.9699,7.95693,7.94407,7.93237,7.9137, 7.90225,7.89039,7.87736,7.86551,7.85159 ,7.82298,7.79542,7.78779,7.82368)
ORBIT_NUMBER = 24206
ORBITAL_ECCENTRICITY = 0.571
ORBITAL_INCLINATION = 87.05
ORBITAL_SEMIMAJOR_AXIS = 8798.93
PERIAPSIS_ALTITUDE = 392.44
PERIAPSIS_ARGUMENT_ANGLE = 133.74
PERIAPSIS_TIME = 2023-03-02T21:25:02.000Z
SPACECRAFT_ORIENTATION = (0.0,-1.0,0.0)
^MEX_ORIENTATION_DESC = "MEX_ORIENTATION_DESC.TXT"
SPACECRAFT_POINTING_MODE = ACROSSTRACK
^MEX_POINTING_DESC = "MEX_POINTING_DESC.TXT"
RIGHT_ASCENSION = -1e+32
DECLINATION = -1e+32
OFFSET_ANGLE = -2.101
SPACECRAFT_SOLAR_DISTANCE = 2.43508e+08
TARGET_NAME = MARS
/* CAMERA DATA ELEMENTS */
DETECTOR_TEMPERATURE = 18.3705
FOCAL_PLANE_TEMPERATURE = 8.7872
INST_CMPRS_NAME = "DISCRETE COSINE TRANSFORMATION (DCT)"
INST_CMPRS_RATIO = 6.64128
INST_CMPRS_QUALITY = 0
INST_CMPRS_QUANTZ_TBL_ID = 0
INSTRUMENT_TEMPERATURE = 11.6418
LENS_TEMPERATURE = 9.3989
MACROPIXEL_SIZE = 1
MISSING_FRAMES = 0
PIXEL_SUBSAMPLING_FLAG = N
SIGNAL_CHAIN_ID = 0
/* RADIOMETRIC DATA ELEMENTS */
BANDWIDTH = 177.0
CENTER_FILTER_WAVELENGTH = 677.5
RADIANCE_OFFSET = 4.13588
RADIANCE_SCALING_FACTOR = 0.0217127
REFLECTANCE_SCALING_FACTOR = 0.000683953
MEX:REFLECTANCE_OFFSET = 0.130281
/* IMAGE OBJECT DEFINITIONS */
OBJECT = IMAGE
  INTERCHANGE_FORMAT = BINARY
  LINES = 90770
  LINE_SAMPLES = 10539
  SAMPLE_TYPE = UNSIGNED_INTEGER
  SAMPLE_BITS = 8
  BANDS = 1
  BAND_STORAGE_TYPE = BAND_SEQUENTIAL
  MAXIMUM = 255
  MEAN = 121.841
  MINIMUM = 1
  STANDARD_DEVIATION = 29.0708
END_OBJECT = IMAGE
/* MAP OBJECT DEFINITIONS */
OBJECT = IMAGE_MAP_PROJECTION
  ^DATA_SET_MAP_PROJECTION_CATALOG= "DSMAP.CAT"
  A_AXIS_RADIUS = 3396.0
  B_AXIS_RADIUS = 3396.0
  C_AXIS_RADIUS = 3396.0
  CENTER_LATITUDE = 0.0
  CENTER_LONGITUDE = 7.0
  COORDINATE_SYSTEM_NAME = PLANETOGRAPHIC
  COORDINATE_SYSTEM_TYPE = "BODY-FIXED ROTATING"
  EASTERNMOST_LONGITUDE = 8.282859999999999
  FIRST_STANDARD_PARALLEL = "N/A"
  LINE_FIRST_PIXEL = 1
  LINE_LAST_PIXEL = 90770
  LINE_PROJECTION_OFFSET = 163887.0
  MAP_PROJECTION_ROTATION = 0.0
  MAP_PROJECTION_TYPE = SINUSOIDAL
  MAP_RESOLUTION = 4741.71043093333
  MAP_SCALE = 0.0125
  MAXIMUM_LATITUDE = 34.5629
  MINIMUM_LATITUDE = 15.4201
  POSITIVE_LONGITUDE_DIRECTION = EAST
  REFERENCE_LATITUDE = "N/A"
  REFERENCE_LONGITUDE = "N/A"
  SAMPLE_FIRST_PIXEL = 1
  SAMPLE_LAST_PIXEL = 10539
  SAMPLE_PROJECTION_OFFSET = 4673.0
  SECOND_STANDARD_PARALLEL = "N/A"
  WESTERNMOST_LONGITUDE = 5.80343
END_OBJECT = IMAGE_MAP_PROJECTION
END
