PDS_VERSION_ID = PDS3
/* FILE DATA ELEMENTS */
RECORD_TYPE = UNDEFINED
/* POINTERS TO DATA OBJECTS */
^IMAGE = ("HO199_0000_S24.TIF")
/* IDENTIFICATION DATA ELEMENTS */
DATA_SET_ID = "MEX-M-HRSC-4-REFDR-MAPPROJECT-EXT9-V4.0"
DATA_SET_NAME = "MARS EXPRESS HRSC MAP PROJECTED REFDR EXTENSION9 V4.0"
DETECTOR_ID = MEX_HRSC_S2
EVENT_TYPE = "MARS-REGIONAL-MAPPING-Im-Fl-La"
INSTRUMENT_HOST_ID = MEX
INSTRUMENT_HOST_NAME = "MARS EXPRESS"
INSTRUMENT_ID = HRSC
INSTRUMENT_NAME = "HIGH RESOLUTION STEREO CAMERA"
MISSION_NAME = "MARS EXPRESS"
MISSION_PHASE_NAME = ME_Phase_47
PROCESSING_LEVEL_ID = 4
PRODUCT_CREATION_TIME = 2023-11-14T18:14:04.000Z
PRODUCT_ID = "HO199_0000_S24.TIF"
RELEASE_ID = 0002
REVISION_ID = 0000
/* QUALITY DATA ELEMENTS */
DATA_QUALITY_ID = 1
DATA_QUALITY_DESC = "Data calculated based on original SPICE kernels"
/* TIME DATA ELEMENTS */
SPACECRAFT_CLOCK_START_COUNT = "1/0625696439.25703"
SPACECRAFT_CLOCK_STOP_COUNT = "1/0625696957.16389"
START_TIME = 2023-02-28T20:37:17.674Z
STOP_TIME = 2023-02-28T20:43:11.093Z
/* ORBITAL DATA ELEMENTS */
ASCENDING_NODE_LONGITUDE = 123.98
MAXIMUM_RESOLUTION = 0.0408
FOOTPRINT_POINT_LATITUDE = (27.418,27.4267,27.435,27.4443,27.4445, 27.4876,26.5169,25.5286,24.8594,24.3558 ,24.0157,23.6786,23.3343,22.8191, 22.4729,22.126,21.7749,21.2487,20.8927, 20.5378,20.1773,19.8177,19.4528,19.0885 ,18.7206,18.1643,17.6034,17.2265, 16.6583,16.2735,15.8876,15.4931,15.1015 ,14.7078,14.1102,13.7134,13.305,12.8982 ,12.4871,11.8725,11.262,10.86,10.4579, 10.0069,9.33134,9.10739,8.88673,8.87184 ,8.8531,8.83093,8.81091,8.79462,8.79391 ,8.7944,9.24438,9.69451,10.3747,10.779, 11.184,11.5917,12.0026,12.4147,12.8268, 13.2361,13.6427,14.0444,14.4444,14.8395 ,15.2428,15.6369,16.0259,16.3972,16.784 ,17.1759,17.5522,17.9201,18.2949, 18.6747,19.0447,19.4021,19.7689,20.1303 ,20.4914,20.8472,21.2052,21.5601, 21.9107,22.4341,22.7834,23.1265,23.4712 ,23.9822,24.3207,24.8277,25.3272, 25.9952,26.6464,27.1356,27.2982,27.418)
FOOTPRINT_POINT_LONGITUDE = (5.04768,4.47172,3.89293,3.20066, 3.18235,3.15682,3.14754,3.13706,3.1287, 3.12141,3.11672,3.11087,3.10514,3.09626 ,3.08863,3.08149,3.07403,3.06184, 3.05313,3.04414,3.03493,3.02534,3.01539 ,3.00523,2.99388,2.97714,2.95919, 2.94685,2.92628,2.91297,2.899,2.88655, 2.87135,2.85583,2.83184,2.81365,2.7978, 2.77964,2.76134,2.73282,2.70392,2.68352 ,2.6636,2.64075,2.60496,2.59291,2.58049 ,2.94678,3.44291,4.04094,4.66368, 5.23356,5.25946,5.26877,5.26257,5.25574 ,5.24675,5.24168,5.23626,5.23103,5.2261 ,5.22096,5.21586,5.21097,5.20634, 5.20148,5.19688,5.19172,5.18958,5.18601 ,5.18158,5.17354,5.17037,5.16878, 5.16434,5.15832,5.15449,5.15299,5.14901 ,5.14333,5.13976,5.13617,5.13235,5.1285 ,5.12491,5.122,5.11772,5.11242,5.10887, 5.1053,5.10183,5.09643,5.09258,5.08771, 5.08158,5.07575,5.06669,5.06145,5.05949 ,5.04768)
ORBIT_NUMBER = 24199
ORBITAL_ECCENTRICITY = 0.571
ORBITAL_INCLINATION = 87.06
ORBITAL_SEMIMAJOR_AXIS = 8800.33
PERIAPSIS_ALTITUDE = 391.76
PERIAPSIS_ARGUMENT_ANGLE = 134.95
PERIAPSIS_TIME = 2023-02-28T20:31:54.000Z
SPACECRAFT_ORIENTATION = (0.0,-1.0,0.0)
^MEX_ORIENTATION_DESC = "MEX_ORIENTATION_DESC.TXT"
SPACECRAFT_POINTING_MODE = ACROSSTRACK
^MEX_POINTING_DESC = "MEX_POINTING_DESC.TXT"
RIGHT_ASCENSION = -1e+32
DECLINATION = -1e+32
OFFSET_ANGLE = -0.269
SPACECRAFT_SOLAR_DISTANCE = 2.43253e+08
TARGET_NAME = MARS
/* CAMERA DATA ELEMENTS */
DETECTOR_TEMPERATURE = 18.3705
FOCAL_PLANE_TEMPERATURE = 8.5833
INST_CMPRS_NAME = "DISCRETE COSINE TRANSFORMATION (DCT)"
INST_CMPRS_RATIO = 11.0979
INST_CMPRS_QUALITY = 0
INST_CMPRS_QUANTZ_TBL_ID = 0
INSTRUMENT_TEMPERATURE = 10.2145
LENS_TEMPERATURE = 8.9911
MACROPIXEL_SIZE = 2
MISSING_FRAMES = 0
PIXEL_SUBSAMPLING_FLAG = N
SIGNAL_CHAIN_ID = 1
/* RADIOMETRIC DATA ELEMENTS */
BANDWIDTH = 178.0
CENTER_FILTER_WAVELENGTH = 679.0
RADIANCE_OFFSET = 3.54709
RADIANCE_SCALING_FACTOR = 0.0231209
REFLECTANCE_SCALING_FACTOR = 0.000724518
MEX:REFLECTANCE_OFFSET = 0.111152
/* IMAGE OBJECT DEFINITIONS */
OBJECT = IMAGE
  INTERCHANGE_FORMAT = BINARY
  LINES = 18828
  LINE_SAMPLES = 2783
  SAMPLE_TYPE = UNSIGNED_INTEGER
  SAMPLE_BITS = 8
  BANDS = 1
  BAND_STORAGE_TYPE = BAND_SEQUENTIAL
  MAXIMUM = 255
  MEAN = 120.539
  MINIMUM = 1
  STANDARD_DEVIATION = 20.3432
END_OBJECT = IMAGE
/* MAP OBJECT DEFINITIONS */
OBJECT = IMAGE_MAP_PROJECTION
  ^DATA_SET_MAP_PROJECTION_CATALOG= "DSMAP.CAT"
  A_AXIS_RADIUS = 3396.0
  B_AXIS_RADIUS = 3396.0
  C_AXIS_RADIUS = 3396.0
  CENTER_LATITUDE = 0.0
  CENTER_LONGITUDE = 4.0
  COORDINATE_SYSTEM_NAME = PLANETOGRAPHIC
  COORDINATE_SYSTEM_TYPE = "BODY-FIXED ROTATING"
  EASTERNMOST_LONGITUDE = 5.26877
  FIRST_STANDARD_PARALLEL = "N/A"
  LINE_FIRST_PIXEL = 1
  LINE_LAST_PIXEL = 18828
  LINE_PROJECTION_OFFSET = 29250.75
  MAP_PROJECTION_ROTATION = 0.0
  MAP_PROJECTION_TYPE = SINUSOIDAL
  MAP_RESOLUTION = 1185.42760773333
  MAP_SCALE = 0.05
  MAXIMUM_LATITUDE = 27.4876
  MINIMUM_LATITUDE = 8.79391
  POSITIVE_LONGITUDE_DIRECTION = EAST
  REFERENCE_LATITUDE = "N/A"
  REFERENCE_LONGITUDE = "N/A"
  SAMPLE_FIRST_PIXEL = 1
  SAMPLE_LAST_PIXEL = 2783
  SAMPLE_PROJECTION_OFFSET = 1482.75
  SECOND_STANDARD_PARALLEL = "N/A"
  WESTERNMOST_LONGITUDE = 2.58049
END_OBJECT = IMAGE_MAP_PROJECTION
END
