PDS_VERSION_ID = PDS3
/* FILE DATA ELEMENTS */
RECORD_TYPE = UNDEFINED
/* POINTERS TO DATA OBJECTS */
^IMAGE = ("HO197_0000_P14.TIF")
/* IDENTIFICATION DATA ELEMENTS */
DATA_SET_ID = "MEX-M-HRSC-4-REFDR-MAPPROJECT-EXT9-V4.0"
DATA_SET_NAME = "MARS EXPRESS HRSC MAP PROJECTED REFDR EXTENSION9 V4.0"
DETECTOR_ID = MEX_HRSC_P1
EVENT_TYPE = "MARS-REGIONAL-VARIABLE-Pf-Eo"
INSTRUMENT_HOST_ID = MEX
INSTRUMENT_HOST_NAME = "MARS EXPRESS"
INSTRUMENT_ID = HRSC
INSTRUMENT_NAME = "HIGH RESOLUTION STEREO CAMERA"
MISSION_NAME = "MARS EXPRESS"
MISSION_PHASE_NAME = ME_Phase_47
PROCESSING_LEVEL_ID = 4
PRODUCT_CREATION_TIME = 2023-11-14T18:14:04.000Z
PRODUCT_ID = "HO197_0000_P14.TIF"
RELEASE_ID = 0002
REVISION_ID = 0000
/* QUALITY DATA ELEMENTS */
DATA_QUALITY_ID = 1
DATA_QUALITY_DESC = "Data calculated based on original SPICE kernels"
/* TIME DATA ELEMENTS */
SPACECRAFT_CLOCK_START_COUNT = "1/0625646005.24895"
SPACECRAFT_CLOCK_STOP_COUNT = "1/0625646308.41317"
START_TIME = 2023-02-28T06:34:13.259Z
STOP_TIME = 2023-02-28T06:37:50.915Z
/* ORBITAL DATA ELEMENTS */
ASCENDING_NODE_LONGITUDE = 124.01
MAXIMUM_RESOLUTION = 0.0324
FOOTPRINT_POINT_LATITUDE = (41.7022,41.6981,41.6941,41.6845, 41.6727,41.6722,41.6199,41.3461,41.0724 ,40.7974,40.5229,40.2484,39.8365, 39.5619,39.2871,38.8747,38.4623,38.0497 ,37.7746,37.3619,36.9491,36.5361, 36.2609,35.848,35.4353,35.1601,34.8844, 34.609,34.3338,34.0546,33.6419,33.3666, 33.0915,32.8166,32.4044,32.1295,31.8504 ,31.5681,31.286,31.0038,30.7218,30.4398 ,30.158,29.8762,29.5873,29.2983,29.0095 ,28.7207,28.4322,28.1437,27.85,27.7021, 27.6945,27.6974,27.6994,27.6993,27.697, 27.6969,27.6974,28.1401,28.4291,28.8629 ,29.1522,29.4417,29.8761,30.2995, 30.7232,31.0058,31.2885,31.5711,31.8539 ,32.1338,32.4092,32.8222,33.2355,33.649 ,33.9246,34.2044,34.4802,34.7563, 35.0321,35.4459,35.8596,36.1355,36.5492 ,36.963,37.3767,37.7904,38.2039,38.6174 ,38.893,39.1684,39.5816,39.9947,40.4075 ,40.8203,41.2325,41.5075,41.6449, 41.7022)
FOOTPRINT_POINT_LONGITUDE = (209.433,209.0,208.705,208.169,207.667, 207.65,207.615,207.626,207.637,207.647, 207.657,207.667,207.681,207.69,207.699, 207.711,207.723,207.734,207.741,207.751 ,207.761,207.77,207.775,207.783,207.791 ,207.795,207.799,207.803,207.807, 207.811,207.816,207.819,207.822,207.824 ,207.828,207.83,207.832,207.833,207.835 ,207.836,207.837,207.838,207.838, 207.838,207.839,207.838,207.838,207.838 ,207.837,207.836,207.835,207.834, 207.834,208.17,208.574,209.129,209.55, 209.567,209.573,209.572,209.57,209.569, 209.568,209.566,209.565,209.563,209.561 ,209.559,209.558,209.556,209.555, 209.553,209.552,209.549,209.547,209.544 ,209.542,209.54,209.538,209.536,209.534 ,209.531,209.528,209.525,209.522, 209.518,209.514,209.51,209.506,209.502, 209.499,209.496,209.491,209.486,209.481 ,209.476,209.471,209.467,209.465, 209.433)
ORBIT_NUMBER = 24197
ORBITAL_ECCENTRICITY = 0.571
ORBITAL_INCLINATION = 87.07
ORBITAL_SEMIMAJOR_AXIS = 8799.37
PERIAPSIS_ALTITUDE = 391.03
PERIAPSIS_ARGUMENT_ANGLE = 135.3
PERIAPSIS_TIME = 2023-02-28T06:33:49.000Z
SPACECRAFT_ORIENTATION = (0.0,-1.0,0.0)
^MEX_ORIENTATION_DESC = "MEX_ORIENTATION_DESC.TXT"
SPACECRAFT_POINTING_MODE = NADIR
^MEX_POINTING_DESC = "MEX_POINTING_DESC.TXT"
RIGHT_ASCENSION = -1e+32
DECLINATION = -1e+32
OFFSET_ANGLE = -1e+32
SPACECRAFT_SOLAR_DISTANCE = 2.43179e+08
TARGET_NAME = MARS
/* CAMERA DATA ELEMENTS */
DETECTOR_TEMPERATURE = 17.7588
FOCAL_PLANE_TEMPERATURE = 8.5833
INST_CMPRS_NAME = "DISCRETE COSINE TRANSFORMATION (DCT)"
INST_CMPRS_RATIO = 7.7077
INST_CMPRS_QUALITY = 0
INST_CMPRS_QUANTZ_TBL_ID = 0
INSTRUMENT_TEMPERATURE = 11.4379
LENS_TEMPERATURE = 8.5833
MACROPIXEL_SIZE = 2
MISSING_FRAMES = 1
PIXEL_SUBSAMPLING_FLAG = N
SIGNAL_CHAIN_ID = 3
/* RADIOMETRIC DATA ELEMENTS */
BANDWIDTH = 174.0
CENTER_FILTER_WAVELENGTH = 675.0
RADIANCE_OFFSET = 5.06963
RADIANCE_SCALING_FACTOR = 0.0107322
REFLECTANCE_SCALING_FACTOR = 0.00034137
MEX:REFLECTANCE_OFFSET = 0.161256
/* IMAGE OBJECT DEFINITIONS */
OBJECT = IMAGE
  INTERCHANGE_FORMAT = BINARY
  LINES = 33075
  LINE_SAMPLES = 3740
  SAMPLE_TYPE = UNSIGNED_INTEGER
  SAMPLE_BITS = 8
  BANDS = 1
  BAND_STORAGE_TYPE = BAND_SEQUENTIAL
  MAXIMUM = 255
  MEAN = 141.592
  MINIMUM = 1
  STANDARD_DEVIATION = 28.3182
END_OBJECT = IMAGE
/* MAP OBJECT DEFINITIONS */
OBJECT = IMAGE_MAP_PROJECTION
  ^DATA_SET_MAP_PROJECTION_CATALOG= "DSMAP.CAT"
  A_AXIS_RADIUS = 3396.0
  B_AXIS_RADIUS = 3396.0
  C_AXIS_RADIUS = 3396.0
  CENTER_LATITUDE = 0.0
  CENTER_LONGITUDE = 209.0
  COORDINATE_SYSTEM_NAME = PLANETOGRAPHIC
  COORDINATE_SYSTEM_TYPE = "BODY-FIXED ROTATING"
  EASTERNMOST_LONGITUDE = 209.573
  FIRST_STANDARD_PARALLEL = "N/A"
  LINE_FIRST_PIXEL = 1
  LINE_LAST_PIXEL = 33075
  LINE_PROJECTION_OFFSET = 98778.75
  MAP_PROJECTION_ROTATION = 0.0
  MAP_PROJECTION_TYPE = SINUSOIDAL
  MAP_RESOLUTION = 2370.85521546667
  MAP_SCALE = 0.025
  MAXIMUM_LATITUDE = 41.7022
  MINIMUM_LATITUDE = 27.6945
  POSITIVE_LONGITUDE_DIRECTION = EAST
  REFERENCE_LATITUDE = "N/A"
  REFERENCE_LONGITUDE = "N/A"
  SAMPLE_FIRST_PIXEL = 1
  SAMPLE_LAST_PIXEL = 3740
  SAMPLE_PROJECTION_OFFSET = 2498.75
  SECOND_STANDARD_PARALLEL = "N/A"
  WESTERNMOST_LONGITUDE = 207.615
END_OBJECT = IMAGE_MAP_PROJECTION
END
