PDS_VERSION_ID = PDS3
/* FILE DATA ELEMENTS */
RECORD_TYPE = UNDEFINED
/* POINTERS TO DATA OBJECTS */
^IMAGE = ("HO196_0000_S24.TIF")
/* IDENTIFICATION DATA ELEMENTS */
DATA_SET_ID = "MEX-M-HRSC-4-REFDR-MAPPROJECT-EXT9-V4.0"
DATA_SET_NAME = "MARS EXPRESS HRSC MAP PROJECTED REFDR EXTENSION9 V4.0"
DETECTOR_ID = MEX_HRSC_S2
EVENT_TYPE = "MARS-REGIONAL-MAPPING-Vo-Te"
INSTRUMENT_HOST_ID = MEX
INSTRUMENT_HOST_NAME = "MARS EXPRESS"
INSTRUMENT_ID = HRSC
INSTRUMENT_NAME = "HIGH RESOLUTION STEREO CAMERA"
MISSION_NAME = "MARS EXPRESS"
MISSION_PHASE_NAME = ME_Phase_47
PROCESSING_LEVEL_ID = 4
PRODUCT_CREATION_TIME = 2023-11-14T18:14:04.000Z
PRODUCT_ID = "HO196_0000_S24.TIF"
RELEASE_ID = 0002
REVISION_ID = 0000
/* QUALITY DATA ELEMENTS */
DATA_QUALITY_ID = 1
DATA_QUALITY_DESC = "Data calculated based on original SPICE kernels"
/* TIME DATA ELEMENTS */
SPACECRAFT_CLOCK_START_COUNT = "1/0625620417.24901"
SPACECRAFT_CLOCK_STOP_COUNT = "1/0625620826.16514"
START_TIME = 2023-02-27T23:29:17.300Z
STOP_TIME = 2023-02-27T23:34:20.043Z
/* ORBITAL DATA ELEMENTS */
ASCENDING_NODE_LONGITUDE = 124.02
MAXIMUM_RESOLUTION = 0.0339
FOOTPRINT_POINT_LATITUDE = (68.4601,68.4029,68.3444,68.2766, 68.2744,68.4123,67.972,67.5381,66.8892, 66.4641,66.0384,65.4072,64.9904,64.3666 ,63.9585,63.5499,62.9406,62.5412, 62.1413,61.5431,61.1525,60.7618,60.3709 ,59.7881,59.4061,59.025,58.6434,58.0714 ,57.699,57.1409,56.7684,56.3962,56.0239 ,55.4655,55.0934,54.7211,54.1629, 53.6045,53.2325,52.6743,52.3024,51.9307 ,51.5593,51.1884,50.4469,49.7056, 49.1501,48.9654,48.9228,48.9484,48.9718 ,48.9961,48.9967,48.9974,49.5543, 49.9258,50.2972,50.6692,51.2272,51.7857 ,52.3449,52.9046,53.2777,53.6515, 54.0248,54.3987,54.7724,55.146,55.5198, 56.0804,56.4544,57.0157,57.3898,57.7637 ,58.1379,58.7119,59.0957,59.4795, 60.0553,60.6449,61.2343,61.627,62.0279, 62.4309,62.834,63.2364,63.6484,64.0605, 64.4723,64.8896,65.3107,65.7314,66.1573 ,66.5874,67.0171,67.4535,67.8922, 68.3322,68.5563,68.4601)
FOOTPRINT_POINT_LONGITUDE = (311.273,309.57,308.16,306.769,306.726, 306.618,306.789,306.95,307.177,307.318, 307.453,307.642,307.761,307.93,308.035, 308.136,308.279,308.369,308.455,308.578 ,308.655,308.729,308.801,308.903, 308.967,309.028,309.088,309.174,309.227 ,309.304,309.353,309.4,309.446,309.512, 309.555,309.595,309.654,309.71,309.746, 309.797,309.83,309.861,309.892,309.921, 309.977,310.029,310.066,310.077,310.08, 310.737,311.403,312.205,312.226,312.234 ,312.227,312.222,312.217,312.211, 312.203,312.193,312.184,312.174,312.167 ,312.16,312.152,312.144,312.136,312.127 ,312.118,312.104,312.094,312.078, 312.067,312.056,312.044,312.026,312.012 ,311.998,311.977,311.953,311.927, 311.909,311.892,311.872,311.852,311.831 ,311.808,311.785,311.76,311.734,311.706 ,311.677,311.647,311.615,311.581, 311.544,311.506,311.466,311.445, 311.273)
ORBIT_NUMBER = 24196
ORBITAL_ECCENTRICITY = 0.571
ORBITAL_INCLINATION = 87.06
ORBITAL_SEMIMAJOR_AXIS = 8799.21
PERIAPSIS_ALTITUDE = 391.32
PERIAPSIS_ARGUMENT_ANGLE = 135.5
PERIAPSIS_TIME = 2023-02-27T23:34:54.000Z
SPACECRAFT_ORIENTATION = (0.0,-1.0,0.0)
^MEX_ORIENTATION_DESC = "MEX_ORIENTATION_DESC.TXT"
SPACECRAFT_POINTING_MODE = ACROSSTRACK
^MEX_POINTING_DESC = "MEX_POINTING_DESC.TXT"
RIGHT_ASCENSION = -1e+32
DECLINATION = -1e+32
OFFSET_ANGLE = 0.49
SPACECRAFT_SOLAR_DISTANCE = 2.43142e+08
TARGET_NAME = MARS
/* CAMERA DATA ELEMENTS */
DETECTOR_TEMPERATURE = 18.7783
FOCAL_PLANE_TEMPERATURE = 8.3794
INST_CMPRS_NAME = "DISCRETE COSINE TRANSFORMATION (DCT)"
INST_CMPRS_RATIO = 13.6555
INST_CMPRS_QUALITY = 0
INST_CMPRS_QUANTZ_TBL_ID = 0
INSTRUMENT_TEMPERATURE = 11.4379
LENS_TEMPERATURE = 7.9716
MACROPIXEL_SIZE = 2
MISSING_FRAMES = 0
PIXEL_SUBSAMPLING_FLAG = N
SIGNAL_CHAIN_ID = 1
/* RADIOMETRIC DATA ELEMENTS */
BANDWIDTH = 178.0
CENTER_FILTER_WAVELENGTH = 679.0
RADIANCE_OFFSET = 3.00494
RADIANCE_SCALING_FACTOR = 0.0123197
REFLECTANCE_SCALING_FACTOR = 0.000385697
MEX:REFLECTANCE_OFFSET = 0.0940766
/* IMAGE OBJECT DEFINITIONS */
OBJECT = IMAGE
  INTERCHANGE_FORMAT = BINARY
  LINES = 46621
  LINE_SAMPLES = 5859
  SAMPLE_TYPE = UNSIGNED_INTEGER
  SAMPLE_BITS = 8
  BANDS = 1
  BAND_STORAGE_TYPE = BAND_SEQUENTIAL
  MAXIMUM = 255
  MEAN = 104.273
  MINIMUM = 1
  STANDARD_DEVIATION = 87.8326
END_OBJECT = IMAGE
/* MAP OBJECT DEFINITIONS */
OBJECT = IMAGE_MAP_PROJECTION
  ^DATA_SET_MAP_PROJECTION_CATALOG= "DSMAP.CAT"
  A_AXIS_RADIUS = 3396.0
  B_AXIS_RADIUS = 3396.0
  C_AXIS_RADIUS = 3396.0
  CENTER_LATITUDE = 0.0
  CENTER_LONGITUDE = 311.0
  COORDINATE_SYSTEM_NAME = PLANETOGRAPHIC
  COORDINATE_SYSTEM_TYPE = "BODY-FIXED ROTATING"
  EASTERNMOST_LONGITUDE = 312.234
  FIRST_STANDARD_PARALLEL = "N/A"
  LINE_FIRST_PIXEL = 1
  LINE_LAST_PIXEL = 46621
  LINE_PROJECTION_OFFSET = 162614.25
  MAP_PROJECTION_ROTATION = 0.0
  MAP_PROJECTION_TYPE = SINUSOIDAL
  MAP_RESOLUTION = 2370.85521546667
  MAP_SCALE = 0.025
  MAXIMUM_LATITUDE = 68.55629999999999
  MINIMUM_LATITUDE = 48.9228
  POSITIVE_LONGITUDE_DIRECTION = EAST
  REFERENCE_LATITUDE = "N/A"
  REFERENCE_LONGITUDE = "N/A"
  SAMPLE_FIRST_PIXEL = 1
  SAMPLE_LAST_PIXEL = 5859
  SAMPLE_PROJECTION_OFFSET = 3954.75
  SECOND_STANDARD_PARALLEL = "N/A"
  WESTERNMOST_LONGITUDE = 306.618
END_OBJECT = IMAGE_MAP_PROJECTION
END
