PDS_VERSION_ID = PDS3
/* FILE DATA ELEMENTS */
RECORD_TYPE = UNDEFINED
/* POINTERS TO DATA OBJECTS */
^IMAGE = ("HO190_0000_P24.TIF")
/* IDENTIFICATION DATA ELEMENTS */
DATA_SET_ID = "MEX-M-HRSC-4-REFDR-MAPPROJECT-EXT9-V4.0"
DATA_SET_NAME = "MARS EXPRESS HRSC MAP PROJECTED REFDR EXTENSION9 V4.0"
DETECTOR_ID = MEX_HRSC_P2
EVENT_TYPE = "MARS-REGIONAL-VARIABLE-Pf-Eo"
INSTRUMENT_HOST_ID = MEX
INSTRUMENT_HOST_NAME = "MARS EXPRESS"
INSTRUMENT_ID = HRSC
INSTRUMENT_NAME = "HIGH RESOLUTION STEREO CAMERA"
MISSION_NAME = "MARS EXPRESS"
MISSION_PHASE_NAME = ME_Phase_47
PROCESSING_LEVEL_ID = 4
PRODUCT_CREATION_TIME = 2023-11-14T18:14:04.000Z
PRODUCT_ID = "HO190_0000_P24.TIF"
RELEASE_ID = 0002
REVISION_ID = 0000
/* QUALITY DATA ELEMENTS */
DATA_QUALITY_ID = 1
DATA_QUALITY_DESC = "Data calculated based on original SPICE kernels"
/* TIME DATA ELEMENTS */
SPACECRAFT_CLOCK_START_COUNT = "1/0625469998.23970"
SPACECRAFT_CLOCK_STOP_COUNT = "1/0625470288.39930"
START_TIME = 2023-02-26T05:41:33.364Z
STOP_TIME = 2023-02-26T05:45:07.145Z
/* ORBITAL DATA ELEMENTS */
ASCENDING_NODE_LONGITUDE = 124.13
MAXIMUM_RESOLUTION = 0.0327
FOOTPRINT_POINT_LATITUDE = (41.5519,41.5466,41.5363,41.5274, 41.5271,41.5795,41.183,40.7872,40.5233, 40.2597,39.9962,39.7331,39.3384,39.0757 ,38.8131,38.5508,38.2887,37.8959, 37.6343,37.3729,37.1118,36.5901,36.0695 ,35.5498,35.0312,34.5136,33.9972, 33.7349,33.4706,33.2063,32.9424,32.6788 ,32.4155,32.1526,31.89,31.6213,31.3524, 31.0839,30.8158,30.5481,30.2807,30.0098 ,29.7363,29.4632,29.1906,28.9183, 28.5073,28.3682,28.323,28.3235,28.323, 28.322,28.3206,28.3206,28.3211,28.7369, 29.0095,29.2824,29.5558,29.8296,30.2391 ,30.507,30.7753,31.0439,31.3128,31.5821 ,31.984,32.2472,32.5108,32.7747,33.0389 ,33.3035,33.5683,33.9644,34.4821, 35.0007,35.5202,36.0408,36.3016,36.5625 ,36.8237,37.0852,37.3469,37.6088, 37.8709,38.1332,38.3957,38.6585,38.9215 ,39.1847,39.58,39.8438,40.1076,40.3717, 40.6361,40.9005,41.1653,41.4302,41.5626 ,41.5519)
FOOTPRINT_POINT_LONGITUDE = (204.372,203.85,203.102,202.598,202.58, 202.54,202.556,202.57,202.579,202.588, 202.597,202.605,202.618,202.625,202.633 ,202.64,202.646,202.656,202.662,202.668 ,202.674,202.685,202.694,202.703, 202.711,202.718,202.724,202.727,202.729 ,202.731,202.734,202.735,202.737, 202.739,202.74,202.741,202.742,202.743, 202.743,202.743,202.744,202.743,202.743 ,202.743,202.742,202.741,202.739, 202.739,202.738,203.278,203.782,204.165 ,204.513,204.531,204.537,204.534, 204.533,204.531,204.529,204.527,204.524 ,204.522,204.52,204.518,204.516,204.514 ,204.511,204.509,204.507,204.505, 204.503,204.5,204.498,204.494,204.49, 204.485,204.48,204.474,204.472,204.469, 204.466,204.463,204.46,204.457,204.454, 204.451,204.448,204.445,204.441,204.438 ,204.433,204.429,204.425,204.422, 204.418,204.414,204.41,204.406,204.404, 204.372)
ORBIT_NUMBER = 24190
ORBITAL_ECCENTRICITY = 0.571
ORBITAL_INCLINATION = 87.07
ORBITAL_SEMIMAJOR_AXIS = 8800.74
PERIAPSIS_ALTITUDE = 390.42
PERIAPSIS_ARGUMENT_ANGLE = 136.5
PERIAPSIS_TIME = 2023-02-26T05:40:40.000Z
SPACECRAFT_ORIENTATION = (0.0,-1.0,0.0)
^MEX_ORIENTATION_DESC = "MEX_ORIENTATION_DESC.TXT"
SPACECRAFT_POINTING_MODE = NADIR
^MEX_POINTING_DESC = "MEX_POINTING_DESC.TXT"
RIGHT_ASCENSION = -1e+32
DECLINATION = -1e+32
OFFSET_ANGLE = -1e+32
SPACECRAFT_SOLAR_DISTANCE = 2.42917e+08
TARGET_NAME = MARS
/* CAMERA DATA ELEMENTS */
DETECTOR_TEMPERATURE = 18.5744
FOCAL_PLANE_TEMPERATURE = 9.3989
INST_CMPRS_NAME = "DISCRETE COSINE TRANSFORMATION (DCT)"
INST_CMPRS_RATIO = 6.52814
INST_CMPRS_QUALITY = 0
INST_CMPRS_QUANTZ_TBL_ID = 0
INSTRUMENT_TEMPERATURE = 11.6418
LENS_TEMPERATURE = 8.5833
MACROPIXEL_SIZE = 2
MISSING_FRAMES = 0
PIXEL_SUBSAMPLING_FLAG = N
SIGNAL_CHAIN_ID = 3
/* RADIOMETRIC DATA ELEMENTS */
BANDWIDTH = 177.0
CENTER_FILTER_WAVELENGTH = 676.5
RADIANCE_OFFSET = 3.86466
RADIANCE_SCALING_FACTOR = 0.0193654
REFLECTANCE_SCALING_FACTOR = 0.000605897
MEX:REFLECTANCE_OFFSET = 0.120916
/* IMAGE OBJECT DEFINITIONS */
OBJECT = IMAGE
  INTERCHANGE_FORMAT = BINARY
  LINES = 31531
  LINE_SAMPLES = 3640
  SAMPLE_TYPE = UNSIGNED_INTEGER
  SAMPLE_BITS = 8
  BANDS = 1
  BAND_STORAGE_TYPE = BAND_SEQUENTIAL
  MAXIMUM = 255
  MEAN = 111.98
  MINIMUM = 1
  STANDARD_DEVIATION = 27.3472
END_OBJECT = IMAGE
/* MAP OBJECT DEFINITIONS */
OBJECT = IMAGE_MAP_PROJECTION
  ^DATA_SET_MAP_PROJECTION_CATALOG= "DSMAP.CAT"
  A_AXIS_RADIUS = 3396.0
  B_AXIS_RADIUS = 3396.0
  C_AXIS_RADIUS = 3396.0
  CENTER_LATITUDE = 0.0
  CENTER_LONGITUDE = 204.0
  COORDINATE_SYSTEM_NAME = PLANETOGRAPHIC
  COORDINATE_SYSTEM_TYPE = "BODY-FIXED ROTATING"
  EASTERNMOST_LONGITUDE = 204.537
  FIRST_STANDARD_PARALLEL = "N/A"
  LINE_FIRST_PIXEL = 1
  LINE_LAST_PIXEL = 31531
  LINE_PROJECTION_OFFSET = 98624.25
  MAP_PROJECTION_ROTATION = 0.0
  MAP_PROJECTION_TYPE = SINUSOIDAL
  MAP_RESOLUTION = 2370.85521546667
  MAP_SCALE = 0.025
  MAXIMUM_LATITUDE = 41.5795
  MINIMUM_LATITUDE = 28.3206
  POSITIVE_LONGITUDE_DIRECTION = EAST
  REFERENCE_LATITUDE = "N/A"
  REFERENCE_LONGITUDE = "N/A"
  SAMPLE_FIRST_PIXEL = 1
  SAMPLE_LAST_PIXEL = 3640
  SAMPLE_PROJECTION_OFFSET = 2577.75
  SECOND_STANDARD_PARALLEL = "N/A"
  WESTERNMOST_LONGITUDE = 202.54
END_OBJECT = IMAGE_MAP_PROJECTION
END
