PDS_VERSION_ID = PDS3
/* FILE DATA ELEMENTS */
RECORD_TYPE = UNDEFINED
/* POINTERS TO DATA OBJECTS */
^IMAGE = ("HO185_0000_GR4.TIF")
/* IDENTIFICATION DATA ELEMENTS */
DATA_SET_ID = "MEX-M-HRSC-4-REFDR-MAPPROJECT-EXT9-V4.0"
DATA_SET_NAME = "MARS EXPRESS HRSC MAP PROJECTED REFDR EXTENSION9 V4.0"
DETECTOR_ID = MEX_HRSC_GREEN
EVENT_TYPE = "MARS-LOCAL-CARTOGRAPHY-Im-Pf"
INSTRUMENT_HOST_ID = MEX
INSTRUMENT_HOST_NAME = "MARS EXPRESS"
INSTRUMENT_ID = HRSC
INSTRUMENT_NAME = "HIGH RESOLUTION STEREO CAMERA"
MISSION_NAME = "MARS EXPRESS"
MISSION_PHASE_NAME = ME_Phase_47
PROCESSING_LEVEL_ID = 4
PRODUCT_CREATION_TIME = 2023-11-14T18:14:04.000Z
PRODUCT_ID = "HO185_0000_GR4.TIF"
RELEASE_ID = 0002
REVISION_ID = 0000
/* QUALITY DATA ELEMENTS */
DATA_QUALITY_ID = 1
DATA_QUALITY_DESC = "Data calculated based on original SPICE kernels"
/* TIME DATA ELEMENTS */
SPACECRAFT_CLOCK_START_COUNT = "1/0625343991.25685"
SPACECRAFT_CLOCK_STOP_COUNT = "1/0625344373.47349"
START_TIME = 2023-02-24T18:41:05.046Z
STOP_TIME = 2023-02-24T18:46:05.182Z
/* ORBITAL DATA ELEMENTS */
ASCENDING_NODE_LONGITUDE = 124.22
MAXIMUM_RESOLUTION = 0.063
FOOTPRINT_POINT_LATITUDE = (59.0653,59.0476,59.0192,58.9892, 58.9881,58.9671,58.5614,58.1582,57.7608 ,57.3626,56.7673,56.3773,55.9865, 55.5952,55.1981,54.8154,54.4322,54.0484 ,53.4739,53.0988,52.5352,52.1592, 51.7827,51.4071,50.6717,49.9351,49.1972 ,48.4581,48.0881,47.7179,47.1541, 46.7832,46.4122,46.0409,45.6695,45.2978 ,44.926,44.554,44.182,43.8097,43.251, 42.8785,42.5059,42.1332,41.7604,41.3875 ,41.0148,40.6418,40.2689,40.0825, 40.0804,40.0896,40.0914,40.0914,40.0924 ,40.6528,41.0266,41.587,41.9606,42.3342 ,42.7077,43.0812,43.4545,43.8278,44.201 ,44.574,44.9469,45.3197,45.6923,46.0647 ,46.437,46.8091,47.181,47.7465,48.1179, 48.489,48.8599,49.2304,49.9708,50.7101, 51.4479,52.0141,52.392,52.7695,53.1466, 53.5233,54.1003,54.4858,54.8709,55.2554 ,55.6545,56.0479,56.4407,56.833,57.4316 ,57.8321,58.232,58.842,59.0461,59.0653)
FOOTPRINT_POINT_LONGITUDE = (355.276,354.29,353.204,352.322,352.294 ,352.258,352.327,352.394,352.457, 352.518,352.606,352.661,352.714,352.766 ,352.816,352.863,352.909,352.953, 353.016,353.056,353.113,353.15,353.185, 353.219,353.283,353.343,353.399,353.451 ,353.476,353.5,353.535,353.557,353.578, 353.598,353.618,353.637,353.655,353.673 ,353.69,353.706,353.729,353.744,353.758 ,353.772,353.784,353.797,353.809,353.82 ,353.83,353.836,353.836,354.736,355.617 ,355.634,355.64,355.639,355.637,355.635 ,355.634,355.632,355.631,355.629, 355.627,355.625,355.623,355.621,355.619 ,355.616,355.613,355.611,355.608, 355.605,355.602,355.596,355.593,355.589 ,355.585,355.581,355.572,355.563, 355.553,355.544,355.539,355.532,355.526 ,355.519,355.508,355.501,355.493, 355.485,355.476,355.467,355.457,355.447 ,355.432,355.421,355.41,355.391,355.385 ,355.276)
ORBIT_NUMBER = 24185
ORBITAL_ECCENTRICITY = 0.571
ORBITAL_INCLINATION = 87.06
ORBITAL_SEMIMAJOR_AXIS = 8803.21
PERIAPSIS_ALTITUDE = 390.23
PERIAPSIS_ARGUMENT_ANGLE = 137.35
PERIAPSIS_TIME = 2023-02-24T18:45:32.000Z
SPACECRAFT_ORIENTATION = (0.0,-1.0,0.0)
^MEX_ORIENTATION_DESC = "MEX_ORIENTATION_DESC.TXT"
SPACECRAFT_POINTING_MODE = ACROSSTRACK
^MEX_POINTING_DESC = "MEX_POINTING_DESC.TXT"
RIGHT_ASCENSION = -1e+32
DECLINATION = -1e+32
OFFSET_ANGLE = 0.4
SPACECRAFT_SOLAR_DISTANCE = 2.42727e+08
TARGET_NAME = MARS
/* CAMERA DATA ELEMENTS */
DETECTOR_TEMPERATURE = 18.3705
FOCAL_PLANE_TEMPERATURE = 8.5833
INST_CMPRS_NAME = "DISCRETE COSINE TRANSFORMATION (DCT)"
INST_CMPRS_RATIO = 10.4999
INST_CMPRS_QUALITY = 0
INST_CMPRS_QUANTZ_TBL_ID = 0
INSTRUMENT_TEMPERATURE = 11.0301
LENS_TEMPERATURE = 8.5833
MACROPIXEL_SIZE = 4
PIXEL_SUBSAMPLING_FLAG = N
SIGNAL_CHAIN_ID = 2
/* RADIOMETRIC DATA ELEMENTS */
BANDWIDTH = 88.0
CENTER_FILTER_WAVELENGTH = 538.0
RADIANCE_OFFSET = 1.16511
RADIANCE_SCALING_FACTOR = 0.00287791
REFLECTANCE_SCALING_FACTOR = 0.000145982
MEX:REFLECTANCE_OFFSET = 0.0591003
/* IMAGE OBJECT DEFINITIONS */
OBJECT = IMAGE
  INTERCHANGE_FORMAT = BINARY
  LINES = 22501
  LINE_SAMPLES = 2557
  SAMPLE_TYPE = UNSIGNED_INTEGER
  SAMPLE_BITS = 8
  BANDS = 1
  BAND_STORAGE_TYPE = BAND_SEQUENTIAL
  MAXIMUM = 255
  MEAN = 87.1845
  MINIMUM = 1
  STANDARD_DEVIATION = 31.655
END_OBJECT = IMAGE
/* MAP OBJECT DEFINITIONS */
OBJECT = IMAGE_MAP_PROJECTION
  ^DATA_SET_MAP_PROJECTION_CATALOG= "DSMAP.CAT"
  A_AXIS_RADIUS = 3396.0
  B_AXIS_RADIUS = 3396.0
  C_AXIS_RADIUS = 3396.0
  CENTER_LATITUDE = 0.0
  CENTER_LONGITUDE = 354.0
  COORDINATE_SYSTEM_NAME = PLANETOGRAPHIC
  COORDINATE_SYSTEM_TYPE = "BODY-FIXED ROTATING"
  EASTERNMOST_LONGITUDE = 355.64
  FIRST_STANDARD_PARALLEL = "N/A"
  LINE_FIRST_PIXEL = 1
  LINE_LAST_PIXEL = 22501
  LINE_PROJECTION_OFFSET = 70011.875
  MAP_PROJECTION_ROTATION = 0.0
  MAP_PROJECTION_TYPE = SINUSOIDAL
  MAP_RESOLUTION = 1185.42760773333
  MAP_SCALE = 0.05
  MAXIMUM_LATITUDE = 59.0653
  MINIMUM_LATITUDE = 40.0804
  POSITIVE_LONGITUDE_DIRECTION = EAST
  REFERENCE_LATITUDE = "N/A"
  REFERENCE_LONGITUDE = "N/A"
  SAMPLE_FIRST_PIXEL = 1
  SAMPLE_LAST_PIXEL = 2557
  SAMPLE_PROJECTION_OFFSET = 1068.375
  SECOND_STANDARD_PARALLEL = "N/A"
  WESTERNMOST_LONGITUDE = 352.258
END_OBJECT = IMAGE_MAP_PROJECTION
END
