PDS_VERSION_ID = PDS3
/* FILE DATA ELEMENTS */
RECORD_TYPE = UNDEFINED
/* POINTERS TO DATA OBJECTS */
^IMAGE = ("HO183_0000_S24.TIF")
/* IDENTIFICATION DATA ELEMENTS */
DATA_SET_ID = "MEX-M-HRSC-4-REFDR-MAPPROJECT-EXT9-V4.0"
DATA_SET_NAME = "MARS EXPRESS HRSC MAP PROJECTED REFDR EXTENSION9 V4.0"
DETECTOR_ID = MEX_HRSC_S2
EVENT_TYPE = "MARS-REGIONAL-VARIABLE-Pf-Eo"
INSTRUMENT_HOST_ID = MEX
INSTRUMENT_HOST_NAME = "MARS EXPRESS"
INSTRUMENT_ID = HRSC
INSTRUMENT_NAME = "HIGH RESOLUTION STEREO CAMERA"
MISSION_NAME = "MARS EXPRESS"
MISSION_PHASE_NAME = ME_Phase_47
PROCESSING_LEVEL_ID = 4
PRODUCT_CREATION_TIME = 2023-11-14T18:14:04.000Z
PRODUCT_ID = "HO183_0000_S24.TIF"
RELEASE_ID = 0002
REVISION_ID = 0000
/* QUALITY DATA ELEMENTS */
DATA_QUALITY_ID = 1
DATA_QUALITY_DESC = "Data calculated based on original SPICE kernels"
/* TIME DATA ELEMENTS */
SPACECRAFT_CLOCK_START_COUNT = "1/0625293987.25667"
SPACECRAFT_CLOCK_STOP_COUNT = "1/0625294286.15399"
START_TIME = 2023-02-24T04:48:14.542Z
STOP_TIME = 2023-02-24T04:52:00.021Z
/* ORBITAL DATA ELEMENTS */
ASCENDING_NODE_LONGITUDE = 124.25
MAXIMUM_RESOLUTION = 0.0337
FOOTPRINT_POINT_LATITUDE = (41.5366,41.5296,41.5234,41.514,41.5137 ,41.5946,41.176,40.8974,40.6189,40.3408 ,39.924,39.508,39.0924,38.8157,38.401, 38.1251,37.8495,37.5739,37.299,36.8871, 36.6129,36.2021,35.9287,35.3828,34.8385 ,34.4309,33.7543,33.2073,32.9305, 32.6543,32.3785,32.1032,31.8281,31.5536 ,31.2736,30.9926,30.7123,30.4324, 30.1529,29.874,29.5898,29.3047,29.0202, 28.7363,28.4527,28.1653,27.8759,27.7314 ,27.7262,27.7249,27.7234,27.722,27.7205 ,27.7205,27.7209,28.0106,28.4439,28.728 ,29.0126,29.2976,29.5833,29.8682, 30.1477,30.4277,30.7082,30.9891,31.2706 ,31.5514,31.8264,32.102,32.3778,32.6542 ,32.9309,33.2083,33.4859,34.0277, 34.5711,35.1158,35.6621,35.9357,36.2096 ,36.4838,36.7585,37.0335,37.3087, 37.5842,37.8603,38.1365,38.5515,38.8284 ,39.2443,39.6611,40.0785,40.3569, 40.6356,40.9149,41.1942,41.4737,41.6136 ,41.5366)
FOOTPRINT_POINT_LONGITUDE = (199.322,198.642,198.155,197.545, 197.527,197.486,197.502,197.513,197.523 ,197.532,197.546,197.559,197.572,197.58 ,197.591,197.598,197.605,197.612, 197.618,197.627,197.633,197.641,197.646 ,197.655,197.663,197.668,197.676, 197.681,197.684,197.686,197.687,197.689 ,197.691,197.692,197.693,197.693, 197.694,197.694,197.694,197.694,197.694 ,197.693,197.693,197.691,197.69,197.689 ,197.687,197.686,197.686,198.228, 198.734,199.135,199.467,199.485,199.491 ,199.489,199.486,199.484,199.482,199.48 ,199.478,199.476,199.474,199.472,199.47 ,199.468,199.466,199.464,199.461, 199.459,199.457,199.455,199.452,199.45, 199.448,199.443,199.438,199.433,199.427 ,199.425,199.422,199.419,199.416, 199.413,199.41,199.407,199.404,199.4, 199.395,199.392,199.387,199.381,199.376 ,199.372,199.368,199.364,199.36,199.356 ,199.354,199.322)
ORBIT_NUMBER = 24183
ORBITAL_ECCENTRICITY = 0.571
ORBITAL_INCLINATION = 87.06
ORBITAL_SEMIMAJOR_AXIS = 8802.12
PERIAPSIS_ALTITUDE = 389.78
PERIAPSIS_ARGUMENT_ANGLE = 137.71
PERIAPSIS_TIME = 2023-02-24T04:47:28.000Z
SPACECRAFT_ORIENTATION = (0.0,-1.0,0.0)
^MEX_ORIENTATION_DESC = "MEX_ORIENTATION_DESC.TXT"
SPACECRAFT_POINTING_MODE = NADIR
^MEX_POINTING_DESC = "MEX_POINTING_DESC.TXT"
RIGHT_ASCENSION = -1e+32
DECLINATION = -1e+32
OFFSET_ANGLE = -1e+32
SPACECRAFT_SOLAR_DISTANCE = 2.4265e+08
TARGET_NAME = MARS
/* CAMERA DATA ELEMENTS */
DETECTOR_TEMPERATURE = 18.1666
FOCAL_PLANE_TEMPERATURE = 8.5833
INST_CMPRS_NAME = "DISCRETE COSINE TRANSFORMATION (DCT)"
INST_CMPRS_RATIO = 12.2932
INST_CMPRS_QUALITY = 0
INST_CMPRS_QUANTZ_TBL_ID = 0
INSTRUMENT_TEMPERATURE = 11.6418
LENS_TEMPERATURE = 8.9911
MACROPIXEL_SIZE = 2
MISSING_FRAMES = 0
PIXEL_SUBSAMPLING_FLAG = N
SIGNAL_CHAIN_ID = 1
/* RADIOMETRIC DATA ELEMENTS */
BANDWIDTH = 178.0
CENTER_FILTER_WAVELENGTH = 679.0
RADIANCE_OFFSET = 4.83354
RADIANCE_SCALING_FACTOR = 0.0110062
REFLECTANCE_SCALING_FACTOR = 0.000343184
MEX:REFLECTANCE_OFFSET = 0.150715
/* IMAGE OBJECT DEFINITIONS */
OBJECT = IMAGE
  INTERCHANGE_FORMAT = BINARY
  LINES = 32932
  LINE_SAMPLES = 3606
  SAMPLE_TYPE = UNSIGNED_INTEGER
  SAMPLE_BITS = 8
  BANDS = 1
  BAND_STORAGE_TYPE = BAND_SEQUENTIAL
  MAXIMUM = 255
  MEAN = 132.521
  MINIMUM = 1
  STANDARD_DEVIATION = 34.7452
END_OBJECT = IMAGE
/* MAP OBJECT DEFINITIONS */
OBJECT = IMAGE_MAP_PROJECTION
  ^DATA_SET_MAP_PROJECTION_CATALOG= "DSMAP.CAT"
  A_AXIS_RADIUS = 3396.0
  B_AXIS_RADIUS = 3396.0
  C_AXIS_RADIUS = 3396.0
  CENTER_LATITUDE = 0.0
  CENTER_LONGITUDE = 199.0
  COORDINATE_SYSTEM_NAME = PLANETOGRAPHIC
  COORDINATE_SYSTEM_TYPE = "BODY-FIXED ROTATING"
  EASTERNMOST_LONGITUDE = 199.491
  FIRST_STANDARD_PARALLEL = "N/A"
  LINE_FIRST_PIXEL = 1
  LINE_LAST_PIXEL = 32932
  LINE_PROJECTION_OFFSET = 98617.25
  MAP_PROJECTION_ROTATION = 0.0
  MAP_PROJECTION_TYPE = SINUSOIDAL
  MAP_RESOLUTION = 2370.85521546667
  MAP_SCALE = 0.025
  MAXIMUM_LATITUDE = 41.6136
  MINIMUM_LATITUDE = 27.7205
  POSITIVE_LONGITUDE_DIRECTION = EAST
  REFERENCE_LATITUDE = "N/A"
  REFERENCE_LONGITUDE = "N/A"
  SAMPLE_FIRST_PIXEL = 1
  SAMPLE_LAST_PIXEL = 3606
  SAMPLE_PROJECTION_OFFSET = 2672.25
  SECOND_STANDARD_PARALLEL = "N/A"
  WESTERNMOST_LONGITUDE = 197.486
END_OBJECT = IMAGE_MAP_PROJECTION
END
