PDS_VERSION_ID = PDS3
/* FILE DATA ELEMENTS */
RECORD_TYPE = UNDEFINED
/* POINTERS TO DATA OBJECTS */
^IMAGE = ("HO183_0000_S14.TIF")
/* IDENTIFICATION DATA ELEMENTS */
DATA_SET_ID = "MEX-M-HRSC-4-REFDR-MAPPROJECT-EXT9-V4.0"
DATA_SET_NAME = "MARS EXPRESS HRSC MAP PROJECTED REFDR EXTENSION9 V4.0"
DETECTOR_ID = MEX_HRSC_S1
EVENT_TYPE = "MARS-REGIONAL-VARIABLE-Pf-Eo"
INSTRUMENT_HOST_ID = MEX
INSTRUMENT_HOST_NAME = "MARS EXPRESS"
INSTRUMENT_ID = HRSC
INSTRUMENT_NAME = "HIGH RESOLUTION STEREO CAMERA"
MISSION_NAME = "MARS EXPRESS"
MISSION_PHASE_NAME = ME_Phase_47
PROCESSING_LEVEL_ID = 4
PRODUCT_CREATION_TIME = 2023-11-14T18:14:04.000Z
PRODUCT_ID = "HO183_0000_S14.TIF"
RELEASE_ID = 0002
REVISION_ID = 0000
/* QUALITY DATA ELEMENTS */
DATA_QUALITY_ID = 1
DATA_QUALITY_DESC = "Data calculated based on original SPICE kernels"
/* TIME DATA ELEMENTS */
SPACECRAFT_CLOCK_START_COUNT = "1/0625293987.25667"
SPACECRAFT_CLOCK_STOP_COUNT = "1/0625294286.15399"
START_TIME = 2023-02-24T04:47:03.184Z
STOP_TIME = 2023-02-24T04:50:39.022Z
/* ORBITAL DATA ELEMENTS */
ASCENDING_NODE_LONGITUDE = 124.25
MAXIMUM_RESOLUTION = 0.0334
FOOTPRINT_POINT_LATITUDE = (41.641,41.6379,41.6344,41.6284,41.6228 ,41.6162,41.6102,41.6097,41.529,41.2567 ,40.8477,40.4382,40.1652,39.8917, 39.6181,39.3442,39.0704,38.6592,38.2476 ,37.9732,37.6985,37.4234,37.1482, 36.7353,36.3222,36.0466,35.6329,35.2189 ,34.8048,34.5287,34.1137,33.6988, 33.2838,32.8686,32.5917,32.1762,31.7606 ,31.4836,31.2064,30.925,30.5092,30.0932 ,29.8159,29.5385,29.1224,28.7062,28.424 ,28.139,27.8542,27.7116,27.6667,27.6702 ,27.6714,27.6726,27.6731,27.6727, 27.6709,27.6708,27.6713,27.9567,28.2421 ,28.6687,28.9467,29.2246,29.6415, 30.0582,30.336,30.7527,31.0305,31.3123, 31.7288,32.0064,32.4227,32.7001,33.1162 ,33.532,33.9477,34.3633,34.6401,35.0553 ,35.4702,35.8848,36.2993,36.7135, 36.9893,37.403,37.8162,38.2293,38.5043, 38.9168,39.3289,39.7404,40.0145,40.2886 ,40.5625,40.836,41.1093,41.3825,41.519, 41.641)
FOOTPRINT_POINT_LONGITUDE = (199.316,198.97,198.693,198.329,198.052 ,197.775,197.549,197.532,197.498,197.51 ,197.527,197.543,197.554,197.564, 197.574,197.583,197.592,197.606,197.619 ,197.627,197.635,197.642,197.649,197.66 ,197.67,197.676,197.685,197.693,197.701 ,197.706,197.713,197.719,197.725,197.73 ,197.733,197.738,197.741,197.744, 197.746,197.748,197.75,197.752,197.753, 197.754,197.755,197.756,197.756,197.756 ,197.756,197.755,197.755,198.094, 198.256,198.515,198.789,199.048,199.404 ,199.42,199.426,199.425,199.425,199.424 ,199.423,199.423,199.422,199.421,199.42 ,199.419,199.418,199.417,199.415, 199.414,199.413,199.412,199.41,199.408, 199.406,199.404,199.403,199.401,199.399 ,199.396,199.394,199.391,199.389, 199.386,199.384,199.38,199.378,199.375, 199.371,199.368,199.366,199.363,199.36, 199.358,199.355,199.352,199.351, 199.316)
ORBIT_NUMBER = 24183
ORBITAL_ECCENTRICITY = 0.571
ORBITAL_INCLINATION = 87.06
ORBITAL_SEMIMAJOR_AXIS = 8802.12
PERIAPSIS_ALTITUDE = 389.78
PERIAPSIS_ARGUMENT_ANGLE = 137.71
PERIAPSIS_TIME = 2023-02-24T04:47:28.000Z
SPACECRAFT_ORIENTATION = (0.0,-1.0,0.0)
^MEX_ORIENTATION_DESC = "MEX_ORIENTATION_DESC.TXT"
SPACECRAFT_POINTING_MODE = NADIR
^MEX_POINTING_DESC = "MEX_POINTING_DESC.TXT"
RIGHT_ASCENSION = -1e+32
DECLINATION = -1e+32
OFFSET_ANGLE = -1e+32
SPACECRAFT_SOLAR_DISTANCE = 2.4265e+08
TARGET_NAME = MARS
/* CAMERA DATA ELEMENTS */
DETECTOR_TEMPERATURE = 17.1471
FOCAL_PLANE_TEMPERATURE = 8.5833
INST_CMPRS_NAME = "DISCRETE COSINE TRANSFORMATION (DCT)"
INST_CMPRS_RATIO = 10.5432
INST_CMPRS_QUALITY = 0
INST_CMPRS_QUANTZ_TBL_ID = 0
INSTRUMENT_TEMPERATURE = 11.6418
LENS_TEMPERATURE = 8.9911
MACROPIXEL_SIZE = 2
MISSING_FRAMES = 1
PIXEL_SUBSAMPLING_FLAG = N
SIGNAL_CHAIN_ID = 1
/* RADIOMETRIC DATA ELEMENTS */
BANDWIDTH = 180.0
CENTER_FILTER_WAVELENGTH = 677.0
RADIANCE_OFFSET = 4.89817
RADIANCE_SCALING_FACTOR = 0.0117385
REFLECTANCE_SCALING_FACTOR = 0.000360593
MEX:REFLECTANCE_OFFSET = 0.150466
/* IMAGE OBJECT DEFINITIONS */
OBJECT = IMAGE
  INTERCHANGE_FORMAT = BINARY
  LINES = 32932
  LINE_SAMPLES = 3606
  SAMPLE_TYPE = UNSIGNED_INTEGER
  SAMPLE_BITS = 8
  BANDS = 1
  BAND_STORAGE_TYPE = BAND_SEQUENTIAL
  MAXIMUM = 255
  MEAN = 128.582
  MINIMUM = 1
  STANDARD_DEVIATION = 37.8663
END_OBJECT = IMAGE
/* MAP OBJECT DEFINITIONS */
OBJECT = IMAGE_MAP_PROJECTION
  ^DATA_SET_MAP_PROJECTION_CATALOG= "DSMAP.CAT"
  A_AXIS_RADIUS = 3396.0
  B_AXIS_RADIUS = 3396.0
  C_AXIS_RADIUS = 3396.0
  CENTER_LATITUDE = 0.0
  CENTER_LONGITUDE = 199.0
  COORDINATE_SYSTEM_NAME = PLANETOGRAPHIC
  COORDINATE_SYSTEM_TYPE = "BODY-FIXED ROTATING"
  EASTERNMOST_LONGITUDE = 199.426
  FIRST_STANDARD_PARALLEL = "N/A"
  LINE_FIRST_PIXEL = 1
  LINE_LAST_PIXEL = 32932
  LINE_PROJECTION_OFFSET = 98617.25
  MAP_PROJECTION_ROTATION = 0.0
  MAP_PROJECTION_TYPE = SINUSOIDAL
  MAP_RESOLUTION = 2370.85521546667
  MAP_SCALE = 0.025
  MAXIMUM_LATITUDE = 41.641
  MINIMUM_LATITUDE = 27.6667
  POSITIVE_LONGITUDE_DIRECTION = EAST
  REFERENCE_LATITUDE = "N/A"
  REFERENCE_LONGITUDE = "N/A"
  SAMPLE_FIRST_PIXEL = 1
  SAMPLE_LAST_PIXEL = 3606
  SAMPLE_PROJECTION_OFFSET = 2672.25
  SECOND_STANDARD_PARALLEL = "N/A"
  WESTERNMOST_LONGITUDE = 197.498
END_OBJECT = IMAGE_MAP_PROJECTION
END
