PDS_VERSION_ID = PDS3
/* FILE DATA ELEMENTS */
RECORD_TYPE = UNDEFINED
/* POINTERS TO DATA OBJECTS */
^IMAGE = ("HO182_0000_RE4.TIF")
/* IDENTIFICATION DATA ELEMENTS */
DATA_SET_ID = "MEX-M-HRSC-4-REFDR-MAPPROJECT-EXT9-V4.0"
DATA_SET_NAME = "MARS EXPRESS HRSC MAP PROJECTED REFDR EXTENSION9 V4.0"
DETECTOR_ID = MEX_HRSC_RED
EVENT_TYPE = "MARS-REGIONAL-STEREO-Te-Fl-Gl"
INSTRUMENT_HOST_ID = MEX
INSTRUMENT_HOST_NAME = "MARS EXPRESS"
INSTRUMENT_ID = HRSC
INSTRUMENT_NAME = "HIGH RESOLUTION STEREO CAMERA"
MISSION_NAME = "MARS EXPRESS"
MISSION_PHASE_NAME = ME_Phase_47
PROCESSING_LEVEL_ID = 4
PRODUCT_CREATION_TIME = 2023-11-14T18:14:04.000Z
PRODUCT_ID = "HO182_0000_RE4.TIF"
RELEASE_ID = 0002
REVISION_ID = 0000
/* QUALITY DATA ELEMENTS */
DATA_QUALITY_ID = 1
DATA_QUALITY_DESC = "Data calculated based on original SPICE kernels"
/* TIME DATA ELEMENTS */
SPACECRAFT_CLOCK_START_COUNT = "1/0625268585.24925"
SPACECRAFT_CLOCK_STOP_COUNT = "1/0625268918.58448"
START_TIME = 2023-02-23T21:45:00.702Z
STOP_TIME = 2023-02-23T21:49:06.447Z
/* ORBITAL DATA ELEMENTS */
ASCENDING_NODE_LONGITUDE = 124.27
MAXIMUM_RESOLUTION = 0.1315 <m/pixel>
FOOTPRINT_POINT_LATITUDE = (57.3797,57.3701,57.3559,57.3305, 57.3298,57.4157,56.92,56.5892,56.2614, 55.777,55.2926,54.9694,54.6462,54.3251, 54.0098,53.6945,53.2184,52.8982,52.5821 ,52.2665,51.9512,51.3369,51.0298, 50.7219,50.2603,49.7972,49.4898,48.884, 48.5759,48.1078,47.7974,47.4908,47.0305 ,46.7238,46.4167,46.1103,45.6504,45.191 ,44.7322,44.1214,43.6644,43.2058, 42.8999,42.5943,41.9844,41.8319,41.7076 ,41.7029,41.6889,41.6761,41.6757, 41.6775,41.9832,42.4427,42.7488,43.056, 43.362,43.6693,43.9759,44.283,44.5901, 44.8968,45.2041,45.5117,45.8191,46.1272 ,46.435,46.7429,47.0512,47.5147,47.8235 ,48.132,48.4395,48.7487,49.0577,49.3683 ,49.6819,49.9919,50.2987,50.6078, 50.9173,51.3814,51.8468,52.161,52.4776, 52.7956,53.2745,53.751,54.0687,54.3866, 54.7108,55.0368,55.3626,55.6883,56.0139 ,56.3395,56.6706,57.1709,57.3377, 57.3797)
FOOTPRINT_POINT_LONGITUDE = (298.7,297.883,297.046,295.942,295.915, 295.712,295.828,295.902,295.975,296.078 ,296.177,296.241,296.303,296.364, 296.422,296.479,296.567,296.63,296.683, 296.734,296.784,296.877,296.921,296.966 ,297.031,297.097,297.137,297.199, 297.238,297.305,297.346,297.379,297.429 ,297.461,297.494,297.524,297.569, 297.613,297.654,297.706,297.742,297.78, 297.805,297.829,297.875,297.886,297.895 ,298.319,299.147,299.773,299.79,299.802 ,299.788,299.768,299.754,299.74,299.726 ,299.711,299.696,299.681,299.666,299.65 ,299.634,299.618,299.601,299.584, 299.567,299.55,299.532,299.504,299.485, 299.466,299.447,299.426,299.406,299.384 ,299.361,299.339,299.318,299.295, 299.272,299.236,299.199,299.173,299.147 ,299.12,299.078,299.035,299.006,298.976 ,298.944,298.912,298.879,298.846, 298.812,298.776,298.74,298.683,298.663, 298.7)
ORBIT_NUMBER = 24182
ORBITAL_ECCENTRICITY = 0.571
ORBITAL_INCLINATION = 87.06
ORBITAL_SEMIMAJOR_AXIS = 8805.2
PERIAPSIS_ALTITUDE = 389.79
PERIAPSIS_ARGUMENT_ANGLE = 137.9
PERIAPSIS_TIME = 2023-02-23T21:48:31.000Z
SPACECRAFT_ORIENTATION = (0.0,-1.0,0.0)
^MEX_ORIENTATION_DESC = "MEX_ORIENTATION_DESC.TXT"
SPACECRAFT_POINTING_MODE = ACROSSTRACK
^MEX_POINTING_DESC = "MEX_POINTING_DESC.TXT"
RIGHT_ASCENSION = -1e+32
DECLINATION = -1e+32
OFFSET_ANGLE = -1.2
SPACECRAFT_SOLAR_DISTANCE = 2.42611e+08
TARGET_NAME = MARS
/* CAMERA DATA ELEMENTS */
DETECTOR_TEMPERATURE = 18.5744 <degC>
FOCAL_PLANE_TEMPERATURE = 9.195 <degC>
INST_CMPRS_NAME = "DISCRETE COSINE TRANSFORMATION (DCT)"
INST_CMPRS_RATIO = 19.0236
INST_CMPRS_QUALITY = 0
INST_CMPRS_QUANTZ_TBL_ID = 0
INSTRUMENT_TEMPERATURE = 11.6418 <degC>
LENS_TEMPERATURE = 9.3989 <degC>
MACROPIXEL_SIZE = 8
MISSING_FRAMES = 0
PIXEL_SUBSAMPLING_FLAG = N
SIGNAL_CHAIN_ID = 2
/* RADIOMETRIC DATA ELEMENTS */
BANDWIDTH = 48.0 <nm>
CENTER_FILTER_WAVELENGTH = 748.0 <nm>
RADIANCE_OFFSET = 0.768351 <W*m**-2*sr**-1>
RADIANCE_SCALING_FACTOR = 0.00519914 <W*m**-2*sr**-1>
REFLECTANCE_SCALING_FACTOR = 0.000698358
MEX:REFLECTANCE_OFFSET = 0.103206
/* IMAGE OBJECT DEFINITIONS */
OBJECT = IMAGE
  INTERCHANGE_FORMAT = BINARY
  LINES = 9399
  LINE_SAMPLES = 1540
  SAMPLE_TYPE = UNSIGNED_INTEGER
  SAMPLE_BITS = 8
  BANDS = 1
  BAND_STORAGE_TYPE = BAND_SEQUENTIAL
  MAXIMUM = 255
  MEAN = 101.248
  MINIMUM = 1
  STANDARD_DEVIATION = 40.898
END_OBJECT = IMAGE
/* MAP OBJECT DEFINITIONS */
OBJECT = IMAGE_MAP_PROJECTION
  ^DATA_SET_MAP_PROJECTION_CATALOG= "DSMAP.CAT"
  A_AXIS_RADIUS = 3396.0 <km>
  B_AXIS_RADIUS = 3396.0 <km>
  C_AXIS_RADIUS = 3396.0 <km>
  CENTER_LATITUDE = 0.0
  CENTER_LONGITUDE = 298.0
  COORDINATE_SYSTEM_NAME = PLANETOGRAPHIC
  COORDINATE_SYSTEM_TYPE = "BODY-FIXED ROTATING"
  EASTERNMOST_LONGITUDE = 299.802
  FIRST_STANDARD_PARALLEL = "N/A"
  LINE_FIRST_PIXEL = 1
  LINE_LAST_PIXEL = 9399
  LINE_PROJECTION_OFFSET = 34091.9375
  MAP_PROJECTION_ROTATION = 0.0
  MAP_PROJECTION_TYPE = SINUSOIDAL
  MAP_RESOLUTION = 592.713803866667 <pixel/degree>
  MAP_SCALE = 0.1 <km/pixel>
  MAXIMUM_LATITUDE = 57.4157
  MINIMUM_LATITUDE = 41.6757
  POSITIVE_LONGITUDE_DIRECTION = EAST
  REFERENCE_LATITUDE = "N/A"
  REFERENCE_LONGITUDE = "N/A"
  SAMPLE_FIRST_PIXEL = 1
  SAMPLE_LAST_PIXEL = 1540
  SAMPLE_PROJECTION_OFFSET = 742.9375
  SECOND_STANDARD_PARALLEL = "N/A"
  WESTERNMOST_LONGITUDE = 295.712
END_OBJECT = IMAGE_MAP_PROJECTION
END
