PDS_VERSION_ID = PDS3
/* FILE DATA ELEMENTS */
RECORD_TYPE = UNDEFINED
/* POINTERS TO DATA OBJECTS */
^IMAGE = ("HO179_0000_ND4.TIF")
/* IDENTIFICATION DATA ELEMENTS */
DATA_SET_ID = "MEX-M-HRSC-4-REFDR-MAPPROJECT-EXT9-V4.0"
DATA_SET_NAME = "MARS EXPRESS HRSC MAP PROJECTED REFDR EXTENSION9 V4.0"
DETECTOR_ID = MEX_HRSC_NADIR
EVENT_TYPE = "MARS-LOCAL-CARTOGRAPHY-Vo-Te"
INSTRUMENT_HOST_ID = MEX
INSTRUMENT_HOST_NAME = "MARS EXPRESS"
INSTRUMENT_ID = HRSC
INSTRUMENT_NAME = "HIGH RESOLUTION STEREO CAMERA"
MISSION_NAME = "MARS EXPRESS"
MISSION_PHASE_NAME = ME_Phase_47
PROCESSING_LEVEL_ID = 4
PRODUCT_CREATION_TIME = 2023-11-14T18:14:04.000Z
PRODUCT_ID = "HO179_0000_ND4.TIF"
RELEASE_ID = 0002
REVISION_ID = 0000
/* QUALITY DATA ELEMENTS */
DATA_QUALITY_ID = 1
DATA_QUALITY_DESC = "Data calculated based on original SPICE kernels"
/* TIME DATA ELEMENTS */
SPACECRAFT_CLOCK_START_COUNT = "1/0625193879.25660"
SPACECRAFT_CLOCK_STOP_COUNT = "1/0625194654.17600"
START_TIME = 2023-02-23T00:59:29.033Z
STOP_TIME = 2023-02-23T01:08:09.026Z
/* ORBITAL DATA ELEMENTS */
ASCENDING_NODE_LONGITUDE = 124.33
MAXIMUM_RESOLUTION = 0.023
FOOTPRINT_POINT_LATITUDE = (11.3633,11.3816,11.3971,11.3974, 11.3968,10.7334,10.061,9.38003,8.4563, 7.51786,6.55931,5.58281,4.83799,4.34056 ,3.84519,2.8604,2.05391,1.50116, 0.951133,0.404044,-0.146221,-0.703767, -1.26722,-1.83672,-2.41386,-2.99721, -3.58786,-4.18542,-4.78236,-5.37555, -5.96499,-6.55068,-7.13262,-7.71079, -8.28519,-8.85585,-9.42277,-9.98596, -10.5454,-11.1012,-11.6532,-12.2016, -12.7462,-13.2872,-13.8244,-14.3581, -14.8881,-15.1517,-15.1782,-15.2165, -15.2533,-15.2771,-15.292,-15.3105, -15.3114,-15.3115,-14.7808,-14.2465, -13.7086,-13.167,-12.6217,-12.0727, -11.5201,-10.9638,-10.4037,-9.84, -9.27255,-8.70136,-8.12646,-7.54782, -6.96545,-6.37934,-5.7895,-5.19593, -4.29857,-3.69846,-3.10494,-2.51909, -1.93935,-1.36732,-0.801642,-0.241885, 0.311047,0.859809,1.41135,1.96568, 2.77784,3.27058,3.76537,4.26223,4.7611, 6.0006,6.97144,7.92249,8.85669,9.77325, 10.4504,11.1188,11.3408,11.3633)
FOOTPRINT_POINT_LONGITUDE = (248.118,247.123,246.09,246.069,246.065 ,246.04,246.014,245.986,245.947,245.907 ,245.863,245.817,245.781,245.756, 245.731,245.684,245.644,245.615,245.586 ,245.555,245.52,245.485,245.45,245.414, 245.375,245.336,245.296,245.255,245.214 ,245.172,245.129,245.086,245.042, 244.998,244.952,244.907,244.861,244.814 ,244.767,244.72,244.672,244.623,244.574 ,244.524,244.474,244.423,244.372, 244.346,244.344,245.303,246.341,247.101 ,247.622,248.344,248.385,248.405,248.39 ,248.376,248.362,248.348,248.336, 248.324,248.313,248.301,248.29,248.28, 248.27,248.26,248.25,248.241,248.233, 248.225,248.217,248.209,248.198,248.191 ,248.184,248.178,248.173,248.166, 248.157,248.148,248.141,248.136,248.132 ,248.13,248.133,248.135,248.135,248.135 ,248.132,248.127,248.123,248.12,248.118 ,248.115,248.114,248.112,248.112, 248.118)
ORBIT_NUMBER = 24179
ORBITAL_ECCENTRICITY = 0.572
ORBITAL_INCLINATION = 87.05
ORBITAL_SEMIMAJOR_AXIS = 8813.83
PERIAPSIS_ALTITUDE = 388.82
PERIAPSIS_ARGUMENT_ANGLE = 138.37
PERIAPSIS_TIME = 2023-02-23T00:51:20.000Z
SPACECRAFT_ORIENTATION = (0.0,-1.0,0.0)
^MEX_ORIENTATION_DESC = "MEX_ORIENTATION_DESC.TXT"
SPACECRAFT_POINTING_MODE = ACROSSTRACK
^MEX_POINTING_DESC = "MEX_POINTING_DESC.TXT"
RIGHT_ASCENSION = -1e+32
DECLINATION = -1e+32
OFFSET_ANGLE = 0.1
SPACECRAFT_SOLAR_DISTANCE = 2.42495e+08
TARGET_NAME = MARS
/* CAMERA DATA ELEMENTS */
DETECTOR_TEMPERATURE = 18.5744
FOCAL_PLANE_TEMPERATURE = 8.7872
INST_CMPRS_NAME = "DISCRETE COSINE TRANSFORMATION (DCT)"
INST_CMPRS_RATIO = 6.18299
INST_CMPRS_QUALITY = 0
INST_CMPRS_QUANTZ_TBL_ID = 0
INSTRUMENT_TEMPERATURE = 11.0301
LENS_TEMPERATURE = 8.9911
MACROPIXEL_SIZE = 1
MISSING_FRAMES = 0
PIXEL_SUBSAMPLING_FLAG = N
SIGNAL_CHAIN_ID = 0
/* RADIOMETRIC DATA ELEMENTS */
BANDWIDTH = 177.0
CENTER_FILTER_WAVELENGTH = 677.5
RADIANCE_OFFSET = 1.9857
RADIANCE_SCALING_FACTOR = 0.0295089
REFLECTANCE_SCALING_FACTOR = 0.00092182
MEX:REFLECTANCE_OFFSET = 0.0620308
/* IMAGE OBJECT DEFINITIONS */
OBJECT = IMAGE
  INTERCHANGE_FORMAT = BINARY
  LINES = 63323
  LINE_SAMPLES = 9291
  SAMPLE_TYPE = UNSIGNED_INTEGER
  SAMPLE_BITS = 8
  BANDS = 1
  BAND_STORAGE_TYPE = BAND_SEQUENTIAL
  MAXIMUM = 255
  MEAN = 130.477
  MINIMUM = 1
  STANDARD_DEVIATION = 30.0368
END_OBJECT = IMAGE
/* MAP OBJECT DEFINITIONS */
OBJECT = IMAGE_MAP_PROJECTION
  ^DATA_SET_MAP_PROJECTION_CATALOG= "DSMAP.CAT"
  A_AXIS_RADIUS = 3396.0
  B_AXIS_RADIUS = 3396.0
  C_AXIS_RADIUS = 3396.0
  CENTER_LATITUDE = 0.0
  CENTER_LONGITUDE = 247.0
  COORDINATE_SYSTEM_NAME = PLANETOGRAPHIC
  COORDINATE_SYSTEM_TYPE = "BODY-FIXED ROTATING"
  EASTERNMOST_LONGITUDE = 248.405
  FIRST_STANDARD_PARALLEL = "N/A"
  LINE_FIRST_PIXEL = 1
  LINE_LAST_PIXEL = 63323
  LINE_PROJECTION_OFFSET = 27020.0
  MAP_PROJECTION_ROTATION = 0.0
  MAP_PROJECTION_TYPE = SINUSOIDAL
  MAP_RESOLUTION = 2370.85521546667
  MAP_SCALE = 0.025
  MAXIMUM_LATITUDE = 11.3974
  MINIMUM_LATITUDE = -15.3115
  POSITIVE_LONGITUDE_DIRECTION = EAST
  REFERENCE_LATITUDE = "N/A"
  REFERENCE_LONGITUDE = "N/A"
  SAMPLE_FIRST_PIXEL = 1
  SAMPLE_LAST_PIXEL = 9291
  SAMPLE_PROJECTION_OFFSET = 6078.0
  SECOND_STANDARD_PARALLEL = "N/A"
  WESTERNMOST_LONGITUDE = 244.344
END_OBJECT = IMAGE_MAP_PROJECTION
END
