PDS_VERSION_ID = PDS3
/* FILE DATA ELEMENTS */
RECORD_TYPE = UNDEFINED
/* POINTERS TO DATA OBJECTS */
^IMAGE = ("HO175_0001_P24.TIF")
/* IDENTIFICATION DATA ELEMENTS */
DATA_SET_ID = "MEX-M-HRSC-4-REFDR-MAPPROJECT-EXT9-V4.0"
DATA_SET_NAME = "MARS EXPRESS HRSC MAP PROJECTED REFDR EXTENSION9 V4.0"
DETECTOR_ID = MEX_HRSC_P2
EVENT_TYPE = "MARS-REGIONAL-STEREO-Te-Fl-Gl"
INSTRUMENT_HOST_ID = MEX
INSTRUMENT_HOST_NAME = "MARS EXPRESS"
INSTRUMENT_ID = HRSC
INSTRUMENT_NAME = "HIGH RESOLUTION STEREO CAMERA"
MISSION_NAME = "MARS EXPRESS"
MISSION_PHASE_NAME = ME_Phase_47
PROCESSING_LEVEL_ID = 4
PRODUCT_CREATION_TIME = 2023-11-14T18:14:04.000Z
PRODUCT_ID = "HO175_0001_P24.TIF"
RELEASE_ID = 0002
REVISION_ID = 0000
/* QUALITY DATA ELEMENTS */
DATA_QUALITY_ID = 1
DATA_QUALITY_DESC = "Data calculated based on original SPICE kernels"
/* TIME DATA ELEMENTS */
SPACECRAFT_CLOCK_START_COUNT = "1/0625092577.24875"
SPACECRAFT_CLOCK_STOP_COUNT = "1/0625092904.63856"
START_TIME = 2023-02-21T20:51:25.403Z
STOP_TIME = 2023-02-21T20:55:26.624Z
/* ORBITAL DATA ELEMENTS */
ASCENDING_NODE_LONGITUDE = 124.4
MAXIMUM_RESOLUTION = 0.0321
FOOTPRINT_POINT_LATITUDE = (57.2716,57.247,57.2224,57.1884,57.1873 ,57.2583,56.9325,56.6064,56.2801, 55.7958,55.4776,55.1588,54.8398,54.5207 ,54.2027,53.8911,53.5786,53.2649, 52.9505,52.6431,52.3298,52.0192,51.7151 ,51.4118,51.1071,50.6523,50.3486, 50.0442,49.7415,49.285,48.9805,48.6763, 48.3712,48.0672,47.6113,47.3065,46.7054 ,46.3986,46.0893,45.6337,45.3283,44.723 ,44.4187,44.1149,43.811,43.3554,43.0516 ,42.4474,41.9943,41.8435,41.7999, 41.8079,41.8219,41.8298,41.8299,41.8305 ,42.4328,42.7372,43.041,43.3451,43.6488 ,44.1045,44.4098,44.7134,45.0177, 45.3229,45.7795,46.0841,46.5403,46.9981 ,47.458,47.9248,48.3811,48.8325,49.1372 ,49.4427,49.9005,50.359,50.6647,50.9701 ,51.2751,51.5797,51.8843,52.3473, 52.6576,52.9717,53.2909,53.6047,53.9174 ,54.2303,54.7093,55.0299,55.3504, 55.8312,56.1529,56.4813,56.8096,57.1376 ,57.3016,57.2716)
FOOTPRINT_POINT_LONGITUDE = (295.912,294.922,294.12,293.186,293.159 ,293.079,293.133,293.187,293.239, 293.314,293.361,293.407,293.452,293.496 ,293.539,293.58,293.621,293.661,293.701 ,293.734,293.771,293.808,293.842, 293.873,293.905,293.95,293.979,294.008, 294.035,294.076,294.103,294.129,294.154 ,294.178,294.213,294.237,294.275, 294.298,294.322,294.352,294.372,294.406 ,294.424,294.441,294.458,294.482, 294.498,294.526,294.546,294.552,294.554 ,295.034,295.639,296.37,296.387,296.394 ,296.383,296.379,296.374,296.37,296.365 ,296.357,296.353,296.347,296.342, 296.336,296.328,296.322,296.312,296.303 ,296.295,296.29,296.279,296.264,296.256 ,296.249,296.237,296.225,296.216, 296.208,296.199,296.189,296.18,296.167, 296.155,296.145,296.138,296.128,296.116 ,296.105,296.086,296.073,296.06,296.04, 296.026,296.011,295.996,295.98,295.972, 295.912)
ORBIT_NUMBER = 24175
ORBITAL_ECCENTRICITY = 0.571
ORBITAL_INCLINATION = 87.05
ORBITAL_SEMIMAJOR_AXIS = 8808.33
PERIAPSIS_ALTITUDE = 388.94
PERIAPSIS_ARGUMENT_ANGLE = 139.1
PERIAPSIS_TIME = 2023-02-21T20:55:18.000Z
SPACECRAFT_ORIENTATION = (0.0,-1.0,0.0)
^MEX_ORIENTATION_DESC = "MEX_ORIENTATION_DESC.TXT"
SPACECRAFT_POINTING_MODE = NADIR
^MEX_POINTING_DESC = "MEX_POINTING_DESC.TXT"
RIGHT_ASCENSION = -1e+32
DECLINATION = -1e+32
OFFSET_ANGLE = -1e+32
SPACECRAFT_SOLAR_DISTANCE = 2.42339e+08
TARGET_NAME = MARS
/* CAMERA DATA ELEMENTS */
DETECTOR_TEMPERATURE = 19.39
FOCAL_PLANE_TEMPERATURE = 9.6028
INST_CMPRS_NAME = "DISCRETE COSINE TRANSFORMATION (DCT)"
INST_CMPRS_RATIO = 8.85054
INST_CMPRS_QUALITY = 0
INST_CMPRS_QUANTZ_TBL_ID = 0
INSTRUMENT_TEMPERATURE = 12.2535
LENS_TEMPERATURE = 9.8067
MACROPIXEL_SIZE = 2
MISSING_FRAMES = 0
PIXEL_SUBSAMPLING_FLAG = N
SIGNAL_CHAIN_ID = 3
/* RADIOMETRIC DATA ELEMENTS */
BANDWIDTH = 177.0
CENTER_FILTER_WAVELENGTH = 676.5
RADIANCE_OFFSET = 1.98063
RADIANCE_SCALING_FACTOR = 0.0227838
REFLECTANCE_SCALING_FACTOR = 0.000709461
MEX:REFLECTANCE_OFFSET = 0.0616748
/* IMAGE OBJECT DEFINITIONS */
OBJECT = IMAGE
  INTERCHANGE_FORMAT = BINARY
  LINES = 36827
  LINE_SAMPLES = 4960
  SAMPLE_TYPE = UNSIGNED_INTEGER
  SAMPLE_BITS = 8
  BANDS = 1
  BAND_STORAGE_TYPE = BAND_SEQUENTIAL
  MAXIMUM = 255
  MEAN = 110.857
  MINIMUM = 1
  STANDARD_DEVIATION = 34.5733
END_OBJECT = IMAGE
/* MAP OBJECT DEFINITIONS */
OBJECT = IMAGE_MAP_PROJECTION
  ^DATA_SET_MAP_PROJECTION_CATALOG= "DSMAP.CAT"
  A_AXIS_RADIUS = 3396.0
  B_AXIS_RADIUS = 3396.0
  C_AXIS_RADIUS = 3396.0
  CENTER_LATITUDE = 0.0
  CENTER_LONGITUDE = 295.0
  COORDINATE_SYSTEM_NAME = PLANETOGRAPHIC
  COORDINATE_SYSTEM_TYPE = "BODY-FIXED ROTATING"
  EASTERNMOST_LONGITUDE = 296.394
  FIRST_STANDARD_PARALLEL = "N/A"
  LINE_FIRST_PIXEL = 1
  LINE_LAST_PIXEL = 36827
  LINE_PROJECTION_OFFSET = 135937.25
  MAP_PROJECTION_ROTATION = 0.0
  MAP_PROJECTION_TYPE = SINUSOIDAL
  MAP_RESOLUTION = 2370.85521546667
  MAP_SCALE = 0.025
  MAXIMUM_LATITUDE = 57.3016
  MINIMUM_LATITUDE = 41.7999
  POSITIVE_LONGITUDE_DIRECTION = EAST
  REFERENCE_LATITUDE = "N/A"
  REFERENCE_LONGITUDE = "N/A"
  SAMPLE_FIRST_PIXEL = 1
  SAMPLE_LAST_PIXEL = 4960
  SAMPLE_PROJECTION_OFFSET = 2504.25
  SECOND_STANDARD_PARALLEL = "N/A"
  WESTERNMOST_LONGITUDE = 293.079
END_OBJECT = IMAGE_MAP_PROJECTION
END
