PDS_VERSION_ID = PDS3
/* FILE DATA ELEMENTS */
RECORD_TYPE = UNDEFINED
/* POINTERS TO DATA OBJECTS */
^IMAGE = ("HO170_0000_BL4.TIF")
/* IDENTIFICATION DATA ELEMENTS */
DATA_SET_ID = "MEX-M-HRSC-4-REFDR-MAPPROJECT-EXT9-V4.0"
DATA_SET_NAME = "MARS EXPRESS HRSC MAP PROJECTED REFDR EXTENSION9 V4.0"
DETECTOR_ID = MEX_HRSC_BLUE
EVENT_TYPE = "MARS-REGIONAL-MAPPING-Vo-Im-Mw"
INSTRUMENT_HOST_ID = MEX
INSTRUMENT_HOST_NAME = "MARS EXPRESS"
INSTRUMENT_ID = HRSC
INSTRUMENT_NAME = "HIGH RESOLUTION STEREO CAMERA"
MISSION_NAME = "MARS EXPRESS"
MISSION_PHASE_NAME = ME_Phase_47
PROCESSING_LEVEL_ID = 4
PRODUCT_CREATION_TIME = 2023-11-14T18:14:04.000Z
PRODUCT_ID = "HO170_0000_BL4.TIF"
RELEASE_ID = 0002
REVISION_ID = 0000
/* QUALITY DATA ELEMENTS */
DATA_QUALITY_ID = 1
DATA_QUALITY_DESC = "Data calculated based on original SPICE kernels"
/* TIME DATA ELEMENTS */
SPACECRAFT_CLOCK_START_COUNT = "1/0624967054.23982"
SPACECRAFT_CLOCK_STOP_COUNT = "1/0624967381.57709"
START_TIME = 2023-02-20T09:58:54.673Z
STOP_TIME = 2023-02-20T10:03:01.853Z
/* ORBITAL DATA ELEMENTS */
ASCENDING_NODE_LONGITUDE = 124.48
MAXIMUM_RESOLUTION = 0.0632
FOOTPRINT_POINT_LATITUDE = (44.9683,44.9566,44.9415,44.916,44.9153 ,44.9242,44.4552,44.1423,43.8295, 43.3601,42.8904,42.5773,42.1075,41.7942 ,41.481,41.1677,40.6978,40.2279,39.7582 ,39.445,39.1318,38.8187,38.5056,38.1925 ,37.8796,37.5667,37.0976,36.7849, 36.4724,36.1599,35.8475,35.5353,35.2232 ,34.9112,34.5994,34.2877,33.9762, 33.3536,32.7318,32.1107,31.4905,31.0144 ,30.6966,30.3789,30.0615,29.586,29.4276 ,29.2713,29.2747,29.2749,29.2738, 29.2737,29.2747,29.5922,29.91,30.228, 30.5463,30.8648,31.1836,31.5016,32.1236 ,32.4349,32.7464,33.0582,33.3701, 33.6822,33.9945,34.3069,34.6195,34.9323 ,35.2453,35.5583,35.8715,36.1849, 36.4984,36.812,37.1257,37.4395,37.7534, 38.0674,38.5386,39.0099,39.3241,39.6384 ,39.9529,40.2673,40.5818,40.8963, 41.2108,41.6826,42.1544,42.4689,42.7834 ,43.0979,43.5696,43.884,44.3555,44.6698 ,44.8269,44.9683)
FOOTPRINT_POINT_LONGITUDE = (84.7755,84.1973,83.5987,82.7792, 82.7592,82.6346,82.6827,82.7143,82.7447 ,82.7888,82.8323,82.8605,82.9017, 82.9282,82.9536,82.9791,83.0159,83.0513 ,83.0844,83.1065,83.1281,83.1487, 83.1692,83.1893,83.2087,83.2271,83.2544 ,83.2717,83.2887,83.3056,83.3216, 83.3374,83.3526,83.3672,83.3814,83.3953 ,83.4091,83.4347,83.4584,83.481,83.5017 ,83.5169,83.5263,83.5364,83.5461, 83.5587,83.5631,83.5674,84.2768,84.8769 ,85.3001,85.3156,85.3208,85.3133, 85.3056,85.298,85.2902,85.2823,85.2743, 85.2659,85.2494,85.2408,85.2321,85.2231 ,85.2142,85.2049,85.1955,85.186,85.1764 ,85.1664,85.1562,85.146,85.1355,85.1247 ,85.1137,85.1027,85.0916,85.0799, 85.0683,85.0561,85.0378,85.019,85.0063, 84.9933,84.9796,84.966,84.9521,84.938, 84.9236,84.9014,84.8787,84.8631,84.8475 ,84.8313,84.8065,84.7896,84.7637, 84.7458,84.737,84.7755)
ORBIT_NUMBER = 24170
ORBITAL_ECCENTRICITY = 0.572
ORBITAL_INCLINATION = 87.07
ORBITAL_SEMIMAJOR_AXIS = 8814.48
PERIAPSIS_ALTITUDE = 387.56
PERIAPSIS_ARGUMENT_ANGLE = 139.93
PERIAPSIS_TIME = 2023-02-20T10:00:06.000Z
SPACECRAFT_ORIENTATION = (0.0,-1.0,0.0)
^MEX_ORIENTATION_DESC = "MEX_ORIENTATION_DESC.TXT"
SPACECRAFT_POINTING_MODE = ACROSSTRACK
^MEX_POINTING_DESC = "MEX_POINTING_DESC.TXT"
RIGHT_ASCENSION = -1e+32
DECLINATION = -1e+32
OFFSET_ANGLE = -1.603
SPACECRAFT_SOLAR_DISTANCE = 2.42142e+08
TARGET_NAME = MARS
/* CAMERA DATA ELEMENTS */
DETECTOR_TEMPERATURE = 18.7783
FOCAL_PLANE_TEMPERATURE = 9.3989
INST_CMPRS_NAME = "DISCRETE COSINE TRANSFORMATION (DCT)"
INST_CMPRS_RATIO = 8.53997
INST_CMPRS_QUALITY = 0
INST_CMPRS_QUANTZ_TBL_ID = 0
INSTRUMENT_TEMPERATURE = 11.8457
LENS_TEMPERATURE = 9.6028
MACROPIXEL_SIZE = 4
MISSING_FRAMES = 0
PIXEL_SUBSAMPLING_FLAG = N
SIGNAL_CHAIN_ID = 2
/* RADIOMETRIC DATA ELEMENTS */
BANDWIDTH = 76.0
CENTER_FILTER_WAVELENGTH = 444.0
RADIANCE_OFFSET = 0.384079
RADIANCE_SCALING_FACTOR = 0.0018978
REFLECTANCE_SCALING_FACTOR = 0.000114326
MEX:REFLECTANCE_OFFSET = 0.0231374
/* IMAGE OBJECT DEFINITIONS */
OBJECT = IMAGE
  INTERCHANGE_FORMAT = BINARY
  LINES = 18661
  LINE_SAMPLES = 2520
  SAMPLE_TYPE = UNSIGNED_INTEGER
  SAMPLE_BITS = 8
  BANDS = 1
  BAND_STORAGE_TYPE = BAND_SEQUENTIAL
  MAXIMUM = 255
  MEAN = 126.605
  MINIMUM = 1
  STANDARD_DEVIATION = 12.8604
END_OBJECT = IMAGE
/* MAP OBJECT DEFINITIONS */
OBJECT = IMAGE_MAP_PROJECTION
  ^DATA_SET_MAP_PROJECTION_CATALOG= "DSMAP.CAT"
  A_AXIS_RADIUS = 3396.0
  B_AXIS_RADIUS = 3396.0
  C_AXIS_RADIUS = 3396.0
  CENTER_LATITUDE = 0.0
  CENTER_LONGITUDE = 84.0
  COORDINATE_SYSTEM_NAME = PLANETOGRAPHIC
  COORDINATE_SYSTEM_TYPE = "BODY-FIXED ROTATING"
  EASTERNMOST_LONGITUDE = 85.32080000000001
  FIRST_STANDARD_PARALLEL = "N/A"
  LINE_FIRST_PIXEL = 1
  LINE_LAST_PIXEL = 18661
  LINE_PROJECTION_OFFSET = 53341.375
  MAP_PROJECTION_ROTATION = 0.0
  MAP_PROJECTION_TYPE = SINUSOIDAL
  MAP_RESOLUTION = 1185.42760773333
  MAP_SCALE = 0.05
  MAXIMUM_LATITUDE = 44.9683
  MINIMUM_LATITUDE = 29.2713
  POSITIVE_LONGITUDE_DIRECTION = EAST
  REFERENCE_LATITUDE = "N/A"
  REFERENCE_LONGITUDE = "N/A"
  SAMPLE_FIRST_PIXEL = 1
  SAMPLE_LAST_PIXEL = 2520
  SAMPLE_PROJECTION_OFFSET = 1157.375
  SECOND_STANDARD_PARALLEL = "N/A"
  WESTERNMOST_LONGITUDE = 82.63460000000001
END_OBJECT = IMAGE_MAP_PROJECTION
END
