PDS_VERSION_ID = PDS3
/* FILE DATA ELEMENTS */
RECORD_TYPE = UNDEFINED
/* POINTERS TO DATA OBJECTS */
^IMAGE = ("HO152_0001_S24.TIF")
/* IDENTIFICATION DATA ELEMENTS */
DATA_SET_ID = "MEX-M-HRSC-4-REFDR-MAPPROJECT-EXT9-V4.0"
DATA_SET_NAME = "MARS EXPRESS HRSC MAP PROJECTED REFDR EXTENSION9 V4.0"
DETECTOR_ID = MEX_HRSC_S2
EVENT_TYPE = "MARS-REGIONAL-MAPPING-Vo-Te-Pf"
INSTRUMENT_HOST_ID = MEX
INSTRUMENT_HOST_NAME = "MARS EXPRESS"
INSTRUMENT_ID = HRSC
INSTRUMENT_NAME = "HIGH RESOLUTION STEREO CAMERA"
MISSION_NAME = "MARS EXPRESS"
MISSION_PHASE_NAME = ME_Phase_47
PROCESSING_LEVEL_ID = 4
PRODUCT_CREATION_TIME = 2023-11-14T18:14:04.000Z
PRODUCT_ID = "HO152_0001_S24.TIF"
RELEASE_ID = 0002
REVISION_ID = 0000
/* QUALITY DATA ELEMENTS */
DATA_QUALITY_ID = 1
DATA_QUALITY_DESC = "Data calculated based on original SPICE kernels"
/* TIME DATA ELEMENTS */
SPACECRAFT_CLOCK_START_COUNT = "1/0624514202.23959"
SPACECRAFT_CLOCK_STOP_COUNT = "1/0624514668.32559"
START_TIME = 2023-02-15T04:12:18.715Z
STOP_TIME = 2023-02-15T04:18:22.251Z
/* ORBITAL DATA ELEMENTS */
ASCENDING_NODE_LONGITUDE = 124.81
MAXIMUM_RESOLUTION = 0.0334
FOOTPRINT_POINT_LATITUDE = (60.2685,60.2356,60.2065,60.1635, 60.1622,60.2787,59.4803,58.9499,58.4302 ,57.652,57.143,56.3803,55.8822,55.3837, 54.888,54.4015,53.9147,53.4287,52.9534, 52.4777,52.002,51.5314,51.0675,50.6034, 50.1397,49.4507,48.9987,48.3215,47.8697 ,47.4177,46.966,46.5144,45.8375,45.3859 ,44.9349,44.4839,44.0333,43.5826, 43.1321,42.6827,42.2334,41.7845,41.1101 ,40.438,39.7671,39.3198,38.8735,37.9817 ,37.0923,36.8702,36.8632,36.8692,36.877 ,36.8771,36.8776,37.5454,37.9913,38.438 ,38.8848,39.3321,39.7805,40.2297, 40.9031,41.3529,41.8028,42.253,42.7032, 43.3799,44.0572,44.5092,45.1871,45.6398 ,46.0925,46.7721,47.2254,47.6792, 48.1325,48.8122,49.2653,49.7193,50.417, 50.8831,51.3489,51.8146,52.2928,53.0095 ,53.4872,54.2213,54.7106,55.4536,55.955 ,56.4561,56.9675,57.4801,58.2588, 58.7817,59.5782,60.113,60.3833,60.2685)
FOOTPRINT_POINT_LONGITUDE = (124.918,123.66,122.759,121.633,121.601 ,121.497,121.671,121.781,121.884,122.03 ,122.12,122.248,122.328,122.404,122.477 ,122.546,122.612,122.675,122.734, 122.792,122.847,122.899,122.949,122.997 ,123.043,123.109,123.149,123.208, 123.245,123.281,123.315,123.348,123.395 ,123.425,123.454,123.482,123.508, 123.534,123.558,123.581,123.604,123.625 ,123.656,123.684,123.71,123.726,123.742 ,123.771,123.796,123.802,123.803, 124.471,125.509,125.525,125.531,125.527 ,125.524,125.52,125.517,125.513,125.509 ,125.506,125.499,125.495,125.49,125.485 ,125.48,125.472,125.464,125.458,125.448 ,125.442,125.435,125.424,125.416, 125.408,125.4,125.387,125.377,125.368, 125.352,125.341,125.33,125.318,125.305, 125.285,125.271,125.248,125.232,125.206 ,125.187,125.168,125.148,125.126, 125.092,125.066,125.026,124.997,124.982 ,124.918)
ORBIT_NUMBER = 24152
ORBITAL_ECCENTRICITY = 0.572
ORBITAL_INCLINATION = 87.05
ORBITAL_SEMIMAJOR_AXIS = 8818.57
PERIAPSIS_ALTITUDE = 386.51
PERIAPSIS_ARGUMENT_ANGLE = 143.05
PERIAPSIS_TIME = 2023-02-15T04:17:45.000Z
SPACECRAFT_ORIENTATION = (0.0,-1.0,0.0)
^MEX_ORIENTATION_DESC = "MEX_ORIENTATION_DESC.TXT"
SPACECRAFT_POINTING_MODE = NADIR
^MEX_POINTING_DESC = "MEX_POINTING_DESC.TXT"
RIGHT_ASCENSION = -1e+32
DECLINATION = -1e+32
OFFSET_ANGLE = -1e+32
SPACECRAFT_SOLAR_DISTANCE = 2.41411e+08
TARGET_NAME = MARS
/* CAMERA DATA ELEMENTS */
DETECTOR_TEMPERATURE = 19.1861
FOCAL_PLANE_TEMPERATURE = 9.3989
INST_CMPRS_NAME = "DISCRETE COSINE TRANSFORMATION (DCT)"
INST_CMPRS_RATIO = 8.69807
INST_CMPRS_QUALITY = 0
INST_CMPRS_QUANTZ_TBL_ID = 0
INSTRUMENT_TEMPERATURE = 12.0496
LENS_TEMPERATURE = 9.6028
MACROPIXEL_SIZE = 2
MISSING_FRAMES = 0
PIXEL_SUBSAMPLING_FLAG = N
SIGNAL_CHAIN_ID = 1
/* RADIOMETRIC DATA ELEMENTS */
BANDWIDTH = 178.0
CENTER_FILTER_WAVELENGTH = 679.0
RADIANCE_OFFSET = 3.12759
RADIANCE_SCALING_FACTOR = 0.0160315
REFLECTANCE_SCALING_FACTOR = 0.000494784
MEX:REFLECTANCE_OFFSET = 0.0965276
/* IMAGE OBJECT DEFINITIONS */
OBJECT = IMAGE
  INTERCHANGE_FORMAT = BINARY
  LINES = 55804
  LINE_SAMPLES = 5929
  SAMPLE_TYPE = UNSIGNED_INTEGER
  SAMPLE_BITS = 8
  BANDS = 1
  BAND_STORAGE_TYPE = BAND_SEQUENTIAL
  MAXIMUM = 255
  MEAN = 76.4479
  MINIMUM = 1
  STANDARD_DEVIATION = 58.0785
END_OBJECT = IMAGE
/* MAP OBJECT DEFINITIONS */
OBJECT = IMAGE_MAP_PROJECTION
  ^DATA_SET_MAP_PROJECTION_CATALOG= "DSMAP.CAT"
  A_AXIS_RADIUS = 3396.0
  B_AXIS_RADIUS = 3396.0
  C_AXIS_RADIUS = 3396.0
  CENTER_LATITUDE = 0.0
  CENTER_LONGITUDE = 124.0
  COORDINATE_SYSTEM_NAME = PLANETOGRAPHIC
  COORDINATE_SYSTEM_TYPE = "BODY-FIXED ROTATING"
  EASTERNMOST_LONGITUDE = 125.531
  FIRST_STANDARD_PARALLEL = "N/A"
  LINE_FIRST_PIXEL = 1
  LINE_LAST_PIXEL = 55804
  LINE_PROJECTION_OFFSET = 143142.25
  MAP_PROJECTION_ROTATION = 0.0
  MAP_PROJECTION_TYPE = SINUSOIDAL
  MAP_RESOLUTION = 2370.85521546667
  MAP_SCALE = 0.025
  MAXIMUM_LATITUDE = 60.3833
  MINIMUM_LATITUDE = 36.8632
  POSITIVE_LONGITUDE_DIRECTION = EAST
  REFERENCE_LATITUDE = "N/A"
  REFERENCE_LONGITUDE = "N/A"
  SAMPLE_FIRST_PIXEL = 1
  SAMPLE_LAST_PIXEL = 5929
  SAMPLE_PROJECTION_OFFSET = 3046.25
  SECOND_STANDARD_PARALLEL = "N/A"
  WESTERNMOST_LONGITUDE = 121.497
END_OBJECT = IMAGE_MAP_PROJECTION
END
