PDS_VERSION_ID = PDS3
/* FILE DATA ELEMENTS */
RECORD_TYPE = UNDEFINED
/* POINTERS TO DATA OBJECTS */
^IMAGE = ("HO147_0000_BL4.TIF")
/* IDENTIFICATION DATA ELEMENTS */
DATA_SET_ID = "MEX-M-HRSC-4-REFDR-MAPPROJECT-EXT9-V4.0"
DATA_SET_NAME = "MARS EXPRESS HRSC MAP PROJECTED REFDR EXTENSION9 V4.0"
DETECTOR_ID = MEX_HRSC_BLUE
EVENT_TYPE = "MARS-LOCAL-CARTOGRAPHY-Te-Gl-Pf"
INSTRUMENT_HOST_ID = MEX
INSTRUMENT_HOST_NAME = "MARS EXPRESS"
INSTRUMENT_ID = HRSC
INSTRUMENT_NAME = "HIGH RESOLUTION STEREO CAMERA"
MISSION_NAME = "MARS EXPRESS"
MISSION_PHASE_NAME = ME_Phase_47
PROCESSING_LEVEL_ID = 4
PRODUCT_CREATION_TIME = 2023-11-14T18:14:04.000Z
PRODUCT_ID = "HO147_0000_BL4.TIF"
RELEASE_ID = 0002
REVISION_ID = 0000
/* QUALITY DATA ELEMENTS */
DATA_QUALITY_ID = 1
DATA_QUALITY_DESC = "Data calculated based on original SPICE kernels"
/* TIME DATA ELEMENTS */
SPACECRAFT_CLOCK_START_COUNT = "1/0624388359.25715"
SPACECRAFT_CLOCK_STOP_COUNT = "1/0624388831.24868"
START_TIME = 2023-02-13T17:14:34.372Z
STOP_TIME = 2023-02-13T17:20:34.554Z
/* ORBITAL DATA ELEMENTS */
ASCENDING_NODE_LONGITUDE = 124.9
MAXIMUM_RESOLUTION = 0.0646
FOOTPRINT_POINT_LATITUDE = (66.8012,66.7366,66.6568,66.5278, 66.5244,66.5314,66.0832,65.6331,65.1813 ,64.7278,64.2726,63.8157,63.3572, 62.8971,62.4354,61.9722,61.5076,61.0415 ,60.5739,60.105,59.6347,59.163,58.69, 58.2197,57.7543,57.2901,56.8326,56.1489 ,55.6991,55.0267,54.5849,53.9222, 53.4886,53.0542,52.6206,52.195,51.7688, 51.3419,50.9225,50.2958,49.8774,49.2588 ,48.8495,48.2348,47.8255,47.0247, 46.2223,45.6226,44.8389,44.6427,44.6287 ,44.6565,44.6768,44.6771,44.6782, 45.6628,46.2649,47.0711,47.8759,48.2869 ,48.6995,49.1116,49.7292,50.1506, 50.5715,51.2022,51.8435,52.2729,52.7018 ,53.1384,53.5763,54.0135,54.6815, 55.1275,55.5784,56.0331,56.4872,56.9505 ,57.4131,57.8821,58.3528,59.068,59.5463 ,60.0236,60.4996,60.9746,61.4484, 61.9211,62.3926,62.8629,63.3319,63.7997 ,64.2662,64.7315,65.1954,65.658,66.1194 ,66.5792,66.8087,66.8012)
FOOTPRINT_POINT_LONGITUDE = (272.433,270.934,269.418,267.404, 267.356,267.131,267.37,267.6,267.822, 268.035,268.239,268.436,268.626,268.809 ,268.984,269.154,269.317,269.475, 269.626,269.772,269.913,270.05,270.182, 270.308,270.428,270.543,270.653,270.809 ,270.907,271.049,271.137,271.264, 271.344,271.421,271.496,271.568,271.637 ,271.705,271.771,271.863,271.921, 272.005,272.058,272.134,272.183,272.273 ,272.36,272.421,272.498,272.517,272.519 ,273.503,274.526,274.545,274.551,274.51 ,274.485,274.449,274.412,274.392, 274.371,274.349,274.315,274.292,274.268 ,274.23,274.19,274.163,274.134,274.104, 274.074,274.042,273.992,273.956,273.92, 273.882,273.842,273.801,273.758,273.712 ,273.665,273.591,273.539,273.484, 273.428,273.37,273.31,273.247,273.182, 273.115,273.045,272.972,272.896,272.818 ,272.736,272.651,272.562,272.47,272.423 ,272.433)
ORBIT_NUMBER = 24147
ORBITAL_ECCENTRICITY = 0.572
ORBITAL_INCLINATION = 87.04
ORBITAL_SEMIMAJOR_AXIS = 8821.85
PERIAPSIS_ALTITUDE = 385.85
PERIAPSIS_ARGUMENT_ANGLE = 143.91
PERIAPSIS_TIME = 2023-02-13T17:22:43.000Z
SPACECRAFT_ORIENTATION = (0.0,-1.0,0.0)
^MEX_ORIENTATION_DESC = "MEX_ORIENTATION_DESC.TXT"
SPACECRAFT_POINTING_MODE = ACROSSTRACK
^MEX_POINTING_DESC = "MEX_POINTING_DESC.TXT"
RIGHT_ASCENSION = -1e+32
DECLINATION = -1e+32
OFFSET_ANGLE = -1.078
SPACECRAFT_SOLAR_DISTANCE = 2.41203e+08
TARGET_NAME = MARS
/* CAMERA DATA ELEMENTS */
DETECTOR_TEMPERATURE = 18.3705
FOCAL_PLANE_TEMPERATURE = 8.7872
INST_CMPRS_NAME = "DISCRETE COSINE TRANSFORMATION (DCT)"
INST_CMPRS_RATIO = 7.49681
INST_CMPRS_QUALITY = 0
INST_CMPRS_QUANTZ_TBL_ID = 0
INSTRUMENT_TEMPERATURE = 11.0301
LENS_TEMPERATURE = 9.195
MACROPIXEL_SIZE = 4
MISSING_FRAMES = 0
PIXEL_SUBSAMPLING_FLAG = N
SIGNAL_CHAIN_ID = 2
/* RADIOMETRIC DATA ELEMENTS */
BANDWIDTH = 76.0
CENTER_FILTER_WAVELENGTH = 444.0
RADIANCE_OFFSET = 0.327061
RADIANCE_SCALING_FACTOR = 0.00405464
REFLECTANCE_SCALING_FACTOR = 0.000242365
MEX:REFLECTANCE_OFFSET = 0.01955
/* IMAGE OBJECT DEFINITIONS */
OBJECT = IMAGE
  INTERCHANGE_FORMAT = BINARY
  LINES = 26323
  LINE_SAMPLES = 4111
  SAMPLE_TYPE = UNSIGNED_INTEGER
  SAMPLE_BITS = 8
  BANDS = 1
  BAND_STORAGE_TYPE = BAND_SEQUENTIAL
  MAXIMUM = 255
  MEAN = 90.5167
  MINIMUM = 1
  STANDARD_DEVIATION = 55.3771
END_OBJECT = IMAGE
/* MAP OBJECT DEFINITIONS */
OBJECT = IMAGE_MAP_PROJECTION
  ^DATA_SET_MAP_PROJECTION_CATALOG= "DSMAP.CAT"
  A_AXIS_RADIUS = 3396.0
  B_AXIS_RADIUS = 3396.0
  C_AXIS_RADIUS = 3396.0
  CENTER_LATITUDE = 0.0
  CENTER_LONGITUDE = 273.0
  COORDINATE_SYSTEM_NAME = PLANETOGRAPHIC
  COORDINATE_SYSTEM_TYPE = "BODY-FIXED ROTATING"
  EASTERNMOST_LONGITUDE = 274.551
  FIRST_STANDARD_PARALLEL = "N/A"
  LINE_FIRST_PIXEL = 1
  LINE_LAST_PIXEL = 26323
  LINE_PROJECTION_OFFSET = 79230.625
  MAP_PROJECTION_ROTATION = 0.0
  MAP_PROJECTION_TYPE = SINUSOIDAL
  MAP_RESOLUTION = 1185.42760773333
  MAP_SCALE = 0.05
  MAXIMUM_LATITUDE = 66.8087
  MINIMUM_LATITUDE = 44.6287
  POSITIVE_LONGITUDE_DIRECTION = EAST
  REFERENCE_LATITUDE = "N/A"
  REFERENCE_LONGITUDE = "N/A"
  SAMPLE_FIRST_PIXEL = 1
  SAMPLE_LAST_PIXEL = 4111
  SAMPLE_PROJECTION_OFFSET = 2801.625
  SECOND_STANDARD_PARALLEL = "N/A"
  WESTERNMOST_LONGITUDE = 267.131
END_OBJECT = IMAGE_MAP_PROJECTION
END
