PDS_VERSION_ID = PDS3
/* FILE DATA ELEMENTS */
RECORD_TYPE = UNDEFINED
/* POINTERS TO DATA OBJECTS */
^IMAGE = ("HO144_0000_S24.TIF")
/* IDENTIFICATION DATA ELEMENTS */
DATA_SET_ID = "MEX-M-HRSC-4-REFDR-MAPPROJECT-EXT9-V4.0"
DATA_SET_NAME = "MARS EXPRESS HRSC MAP PROJECTED REFDR EXTENSION9 V4.0"
DETECTOR_ID = MEX_HRSC_S2
EVENT_TYPE = "MARS-LOCAL-CARTOGRAPHY-Vo-Mw"
INSTRUMENT_HOST_ID = MEX
INSTRUMENT_HOST_NAME = "MARS EXPRESS"
INSTRUMENT_ID = HRSC
INSTRUMENT_NAME = "HIGH RESOLUTION STEREO CAMERA"
MISSION_NAME = "MARS EXPRESS"
MISSION_PHASE_NAME = ME_Phase_47
PROCESSING_LEVEL_ID = 4
PRODUCT_CREATION_TIME = 2023-11-14T18:14:04.000Z
PRODUCT_ID = "HO144_0000_S24.TIF"
RELEASE_ID = 0002
REVISION_ID = 0000
/* QUALITY DATA ELEMENTS */
DATA_QUALITY_ID = 1
DATA_QUALITY_DESC = "Data calculated based on original SPICE kernels"
/* TIME DATA ELEMENTS */
SPACECRAFT_CLOCK_START_COUNT = "1/0624313445.24941"
SPACECRAFT_CLOCK_STOP_COUNT = "1/0624313944.17348"
START_TIME = 2023-02-12T20:25:53.225Z
STOP_TIME = 2023-02-12T20:32:57.945Z
/* ORBITAL DATA ELEMENTS */
ASCENDING_NODE_LONGITUDE = 124.95
MAXIMUM_RESOLUTION = 0.0333
FOOTPRINT_POINT_LATITUDE = (36.3209,36.2828,36.2184,36.2174, 36.2719,35.7822,35.047,34.3193,33.8294, 33.3442,32.6163,32.1318,31.6491,30.9264 ,30.4439,29.7247,29.2446,28.0517, 27.3277,26.8463,26.3639,25.877,25.1508, 24.6596,24.1686,23.679,22.928,22.4269, 21.9058,21.3662,20.8597,20.3439,19.8283 ,19.3137,18.7894,18.2695,17.7428, 17.2148,16.6835,16.1554,15.6248,14.8259 ,14.0061,13.1712,12.6098,12.0382,11.172 ,10.8801,10.8425,10.8646,10.8872, 10.9175,10.9183,10.9193,11.792,12.3658, 12.9329,13.492,14.037,14.5796,15.3682, 15.9007,16.6938,17.2277,17.7549,18.2845 ,19.071,19.5993,20.1195,20.6427,21.1555 ,21.6666,22.1792,22.6805,23.2289, 23.7357,24.2269,24.9683,25.46,25.9417, 26.4266,26.9095,27.3945,28.1098,28.5929 ,29.3079,30.0291,30.5107,30.996,31.7185 ,32.2024,32.6883,33.1727,33.6588, 34.1466,34.634,35.3643,36.0991,36.3431, 36.3209)
FOOTPRINT_POINT_LONGITUDE = (224.375,223.71,222.648,222.632,222.648 ,222.648,222.647,222.648,222.645, 222.643,222.639,222.636,222.633,222.626 ,222.621,222.613,222.607,222.591,222.58 ,222.573,222.566,222.556,222.544, 222.535,222.525,222.515,222.498,222.486 ,222.469,222.448,222.436,222.422, 222.408,222.394,222.38,222.365,222.351, 222.335,222.32,222.305,222.29,222.267, 222.24,222.211,222.191,222.17,222.137, 222.125,222.124,222.755,223.361,224.125 ,224.145,224.153,224.153,224.153, 224.152,224.148,224.139,224.13,224.103, 224.096,224.087,224.088,224.089,224.092 ,224.101,224.112,224.122,224.133, 224.143,224.152,224.162,224.17,224.221, 224.233,224.24,224.252,224.257,224.261, 224.269,224.274,224.28,224.286,224.297, 224.306,224.32,224.33,224.342,224.353, 224.362,224.372,224.379,224.388,224.398 ,224.406,224.417,224.432,224.435, 224.375)
ORBIT_NUMBER = 24144
ORBITAL_ECCENTRICITY = 0.572
ORBITAL_INCLINATION = 87.06
ORBITAL_SEMIMAJOR_AXIS = 8818.59
PERIAPSIS_ALTITUDE = 385.31
PERIAPSIS_ARGUMENT_ANGLE = 144.39
PERIAPSIS_TIME = 2023-02-12T20:25:28.000Z
SPACECRAFT_ORIENTATION = (0.0,-1.0,0.0)
^MEX_ORIENTATION_DESC = "MEX_ORIENTATION_DESC.TXT"
SPACECRAFT_POINTING_MODE = ACROSSTRACK
^MEX_POINTING_DESC = "MEX_POINTING_DESC.TXT"
RIGHT_ASCENSION = -1e+32
DECLINATION = -1e+32
OFFSET_ANGLE = 1.346
SPACECRAFT_SOLAR_DISTANCE = 2.41077e+08
TARGET_NAME = MARS
/* CAMERA DATA ELEMENTS */
DETECTOR_TEMPERATURE = 18.5744
FOCAL_PLANE_TEMPERATURE = 9.8067
INST_CMPRS_NAME = "DISCRETE COSINE TRANSFORMATION (DCT)"
INST_CMPRS_RATIO = 6.90754
INST_CMPRS_QUALITY = 0
INST_CMPRS_QUANTZ_TBL_ID = 0
INSTRUMENT_TEMPERATURE = 11.234
LENS_TEMPERATURE = 8.5833
MACROPIXEL_SIZE = 2
MISSING_FRAMES = 1
PIXEL_SUBSAMPLING_FLAG = N
SIGNAL_CHAIN_ID = 1
/* RADIOMETRIC DATA ELEMENTS */
BANDWIDTH = 178.0
CENTER_FILTER_WAVELENGTH = 679.0
RADIANCE_OFFSET = 2.76053
RADIANCE_SCALING_FACTOR = 0.0305776
REFLECTANCE_SCALING_FACTOR = 0.000941118
MEX:REFLECTANCE_OFFSET = 0.0849636
/* IMAGE OBJECT DEFINITIONS */
OBJECT = IMAGE
  INTERCHANGE_FORMAT = BINARY
  LINES = 60352
  LINE_SAMPLES = 4592
  SAMPLE_TYPE = UNSIGNED_INTEGER
  SAMPLE_BITS = 8
  BANDS = 1
  BAND_STORAGE_TYPE = BAND_SEQUENTIAL
  MAXIMUM = 255
  MEAN = 118.42
  MINIMUM = 1
  STANDARD_DEVIATION = 20.2468
END_OBJECT = IMAGE
/* MAP OBJECT DEFINITIONS */
OBJECT = IMAGE_MAP_PROJECTION
  ^DATA_SET_MAP_PROJECTION_CATALOG= "DSMAP.CAT"
  A_AXIS_RADIUS = 3396.0
  B_AXIS_RADIUS = 3396.0
  C_AXIS_RADIUS = 3396.0
  CENTER_LATITUDE = 0.0
  CENTER_LONGITUDE = 223.0
  COORDINATE_SYSTEM_NAME = PLANETOGRAPHIC
  COORDINATE_SYSTEM_TYPE = "BODY-FIXED ROTATING"
  EASTERNMOST_LONGITUDE = 224.435
  FIRST_STANDARD_PARALLEL = "N/A"
  LINE_FIRST_PIXEL = 1
  LINE_LAST_PIXEL = 60352
  LINE_PROJECTION_OFFSET = 86095.75
  MAP_PROJECTION_ROTATION = 0.0
  MAP_PROJECTION_TYPE = SINUSOIDAL
  MAP_RESOLUTION = 2370.85521546667
  MAP_SCALE = 0.025
  MAXIMUM_LATITUDE = 36.3431
  MINIMUM_LATITUDE = 10.8425
  POSITIVE_LONGITUDE_DIRECTION = EAST
  REFERENCE_LATITUDE = "N/A"
  REFERENCE_LONGITUDE = "N/A"
  SAMPLE_FIRST_PIXEL = 1
  SAMPLE_LAST_PIXEL = 4592
  SAMPLE_PROJECTION_OFFSET = 1897.75
  SECOND_STANDARD_PARALLEL = "N/A"
  WESTERNMOST_LONGITUDE = 222.124
END_OBJECT = IMAGE_MAP_PROJECTION
END
