PDS_VERSION_ID = PDS3
/* FILE DATA ELEMENTS */
RECORD_TYPE = UNDEFINED
/* POINTERS TO DATA OBJECTS */
^IMAGE = ("HO141_0001_S14.TIF")
/* IDENTIFICATION DATA ELEMENTS */
DATA_SET_ID = "MEX-M-HRSC-4-REFDR-MAPPROJECT-EXT9-V4.0"
DATA_SET_NAME = "MARS EXPRESS HRSC MAP PROJECTED REFDR EXTENSION9 V4.0"
DETECTOR_ID = MEX_HRSC_S1
EVENT_TYPE = "MARS-REGIONAL-MAPPING-Vo-Te"
INSTRUMENT_HOST_ID = MEX
INSTRUMENT_HOST_NAME = "MARS EXPRESS"
INSTRUMENT_ID = HRSC
INSTRUMENT_NAME = "HIGH RESOLUTION STEREO CAMERA"
MISSION_NAME = "MARS EXPRESS"
MISSION_PHASE_NAME = ME_Phase_47
PROCESSING_LEVEL_ID = 4
PRODUCT_CREATION_TIME = 2023-11-14T18:14:04.000Z
PRODUCT_ID = "HO141_0001_S14.TIF"
RELEASE_ID = 0002
REVISION_ID = 0000
/* QUALITY DATA ELEMENTS */
DATA_QUALITY_ID = 1
DATA_QUALITY_DESC = "Data calculated based on original SPICE kernels"
/* TIME DATA ELEMENTS */
SPACECRAFT_CLOCK_START_COUNT = "1/0624238191.25659"
SPACECRAFT_CLOCK_STOP_COUNT = "1/0624238597.21335"
START_TIME = 2023-02-11T23:30:27.094Z
STOP_TIME = 2023-02-11T23:35:19.466Z
/* ORBITAL DATA ELEMENTS */
ASCENDING_NODE_LONGITUDE = 125.0
MAXIMUM_RESOLUTION = 0.0338
FOOTPRINT_POINT_LATITUDE = (25.6248,25.6196,25.6119,25.5992, 25.5988,25.554,25.038,24.3484,23.832, 23.315,22.6252,22.1091,21.5913,21.073, 20.7275,20.3743,20.02,19.6653,19.134, 18.7798,18.4183,18.0549,17.6916,17.3284 ,16.9648,16.5922,16.2201,15.8479, 15.4759,15.0963,14.7149,14.3343,13.9518 ,13.5622,13.1734,12.784,12.3868,11.7856 ,11.1823,10.7766,10.1628,9.74817, 9.33418,8.91202,8.48988,7.84781,7.41753 ,6.98165,6.76232,6.75324,6.75477, 6.75329,6.74882,6.74867,6.74925,7.40589 ,7.83662,8.47978,8.90287,9.32581,9.7405 ,10.156,10.7724,11.1783,11.5837,11.9846 ,12.3844,12.7821,13.1717,13.5616, 14.1443,14.7161,15.0977,15.4826,15.8542 ,16.225,16.5968,17.1522,17.516,18.0618, 18.4258,18.7883,19.1427,19.4978,20.0298 ,20.3847,20.7388,21.257,21.6026,21.9478 ,22.2931,22.6387,22.9838,23.3297, 23.6748,24.1924,24.8826,25.4008,25.5732 ,25.6248)
FOOTPRINT_POINT_LONGITUDE = (168.657,168.189,167.718,167.155,167.14 ,167.115,167.117,167.117,167.117, 167.116,167.114,167.112,167.109,167.105 ,167.102,167.099,167.096,167.092, 167.087,167.083,167.078,167.073,167.068 ,167.063,167.058,167.052,167.046, 167.039,167.032,167.025,167.018,167.01, 167.002,166.994,166.985,166.976,166.967 ,166.952,166.937,166.927,166.91,166.898 ,166.886,166.874,166.861,166.841, 166.827,166.813,166.806,166.805,167.434 ,167.969,168.627,168.645,168.651, 168.651,168.652,168.652,168.653,168.653 ,168.653,168.654,168.654,168.654, 168.655,168.656,168.656,168.656,168.657 ,168.657,168.658,168.659,168.659, 168.659,168.659,168.66,168.661,168.661, 168.662,168.662,168.663,168.663,168.663 ,168.664,168.664,168.664,168.665, 168.665,168.665,168.666,168.666,168.666 ,168.666,168.666,168.666,168.667, 168.667,168.666,168.666,168.657)
ORBIT_NUMBER = 24141
ORBITAL_ECCENTRICITY = 0.572
ORBITAL_INCLINATION = 87.06
ORBITAL_SEMIMAJOR_AXIS = 8813.2
PERIAPSIS_ALTITUDE = 385.97
PERIAPSIS_ARGUMENT_ANGLE = 144.94
PERIAPSIS_TIME = 2023-02-11T23:28:35.000Z
SPACECRAFT_ORIENTATION = (0.0,-1.0,0.0)
^MEX_ORIENTATION_DESC = "MEX_ORIENTATION_DESC.TXT"
SPACECRAFT_POINTING_MODE = ACROSSTRACK
^MEX_POINTING_DESC = "MEX_POINTING_DESC.TXT"
RIGHT_ASCENSION = -1e+32
DECLINATION = -1e+32
OFFSET_ANGLE = -0.269
SPACECRAFT_SOLAR_DISTANCE = 2.4095e+08
TARGET_NAME = MARS
/* CAMERA DATA ELEMENTS */
DETECTOR_TEMPERATURE = 18.1666
FOCAL_PLANE_TEMPERATURE = 9.195
INST_CMPRS_NAME = "DISCRETE COSINE TRANSFORMATION (DCT)"
INST_CMPRS_RATIO = 8.38537
INST_CMPRS_QUALITY = 0
INST_CMPRS_QUANTZ_TBL_ID = 0
INSTRUMENT_TEMPERATURE = 12.6613
LENS_TEMPERATURE = 9.8067
MACROPIXEL_SIZE = 2
MISSING_FRAMES = 1
PIXEL_SUBSAMPLING_FLAG = N
SIGNAL_CHAIN_ID = 1
/* RADIOMETRIC DATA ELEMENTS */
BANDWIDTH = 180.0
CENTER_FILTER_WAVELENGTH = 677.0
RADIANCE_OFFSET = 3.18739
RADIANCE_SCALING_FACTOR = 0.0217441
REFLECTANCE_SCALING_FACTOR = 0.000658622
MEX:REFLECTANCE_OFFSET = 0.0965453
/* IMAGE OBJECT DEFINITIONS */
OBJECT = IMAGE
  INTERCHANGE_FORMAT = BINARY
  LINES = 44620
  LINE_SAMPLES = 4610
  SAMPLE_TYPE = UNSIGNED_INTEGER
  SAMPLE_BITS = 8
  BANDS = 1
  BAND_STORAGE_TYPE = BAND_SEQUENTIAL
  MAXIMUM = 255
  MEAN = 122.342
  MINIMUM = 1
  STANDARD_DEVIATION = 20.4984
END_OBJECT = IMAGE
/* MAP OBJECT DEFINITIONS */
OBJECT = IMAGE_MAP_PROJECTION
  ^DATA_SET_MAP_PROJECTION_CATALOG= "DSMAP.CAT"
  A_AXIS_RADIUS = 3396.0
  B_AXIS_RADIUS = 3396.0
  C_AXIS_RADIUS = 3396.0
  CENTER_LATITUDE = 0.0
  CENTER_LONGITUDE = 168.0
  COORDINATE_SYSTEM_NAME = PLANETOGRAPHIC
  COORDINATE_SYSTEM_TYPE = "BODY-FIXED ROTATING"
  EASTERNMOST_LONGITUDE = 168.667
  FIRST_STANDARD_PARALLEL = "N/A"
  LINE_FIRST_PIXEL = 1
  LINE_LAST_PIXEL = 44620
  LINE_PROJECTION_OFFSET = 60668.25
  MAP_PROJECTION_ROTATION = 0.0
  MAP_PROJECTION_TYPE = SINUSOIDAL
  MAP_RESOLUTION = 2370.85521546667
  MAP_SCALE = 0.025
  MAXIMUM_LATITUDE = 25.6248
  MINIMUM_LATITUDE = 6.74867
  POSITIVE_LONGITUDE_DIRECTION = EAST
  REFERENCE_LATITUDE = "N/A"
  REFERENCE_LONGITUDE = "N/A"
  SAMPLE_FIRST_PIXEL = 1
  SAMPLE_LAST_PIXEL = 4610
  SAMPLE_PROJECTION_OFFSET = 2947.25
  SECOND_STANDARD_PARALLEL = "N/A"
  WESTERNMOST_LONGITUDE = 166.805
END_OBJECT = IMAGE_MAP_PROJECTION
END
