PDS_VERSION_ID = PDS3
/* FILE DATA ELEMENTS */
RECORD_TYPE = UNDEFINED
/* POINTERS TO DATA OBJECTS */
^IMAGE = ("HO126_0000_BL4.TIF")
/* IDENTIFICATION DATA ELEMENTS */
DATA_SET_ID = "MEX-M-HRSC-4-REFDR-MAPPROJECT-EXT9-V4.0"
DATA_SET_NAME = "MARS EXPRESS HRSC MAP PROJECTED REFDR EXTENSION9 V4.0"
DETECTOR_ID = MEX_HRSC_BLUE
EVENT_TYPE = "MARS-LOCAL-CARTOGRAPHY-Vo-Te"
INSTRUMENT_HOST_ID = MEX
INSTRUMENT_HOST_NAME = "MARS EXPRESS"
INSTRUMENT_ID = HRSC
INSTRUMENT_NAME = "HIGH RESOLUTION STEREO CAMERA"
MISSION_NAME = "MARS EXPRESS"
MISSION_PHASE_NAME = ME_Phase_47
PROCESSING_LEVEL_ID = 4
PRODUCT_CREATION_TIME = 2023-11-14T18:14:04.000Z
PRODUCT_ID = "HO126_0000_BL4.TIF"
RELEASE_ID = 0002
REVISION_ID = 0000
/* QUALITY DATA ELEMENTS */
DATA_QUALITY_ID = 1
DATA_QUALITY_DESC = "Data calculated based on original SPICE kernels"
/* TIME DATA ELEMENTS */
SPACECRAFT_CLOCK_START_COUNT = "1/0623861207.25672"
SPACECRAFT_CLOCK_STOP_COUNT = "1/0623861594.65139"
START_TIME = 2023-02-07T14:48:13.847Z
STOP_TIME = 2023-02-07T14:52:44.560Z
/* ORBITAL DATA ELEMENTS */
ASCENDING_NODE_LONGITUDE = 125.27
MAXIMUM_RESOLUTION = 0.0736
FOOTPRINT_POINT_LATITUDE = (14.4016,14.4027,14.4023,14.401,14.4009 ,14.3961,13.5012,12.5902,11.824,11.2081 ,10.8949,10.4251,10.1125,9.79385, 9.47577,9.15827,8.83569,8.51287,8.19064 ,7.86307,7.37209,7.04562,6.71978, 6.39463,6.07017,5.74645,5.4234,5.10113, 4.77951,4.45864,4.13848,3.81905,3.50029 ,3.18228,2.86506,2.54857,2.23277, 1.91781,1.6036,1.29016,0.977514, 0.665591,0.354458,0.0441066,-0.574535, -1.19056,-1.34408,-1.41717,-1.4182, -1.41915,-1.4198,-1.42044,-1.42093, -1.42114,-1.42109,-1.41991,-0.805201, -0.187803,0.122069,0.432684,0.744107, 1.05631,1.36929,1.68303,1.99752,2.31281 ,2.62881,2.94559,3.26311,3.58134, 3.90034,4.2201,4.54053,4.86173,5.18372, 5.50638,5.8297,6.15368,6.47845,6.80391, 7.13003,7.45687,7.7844,8.27451,8.59708, 8.92023,9.24139,9.55916,9.87753,10.1947 ,10.5076,10.821,11.2896,11.9062,12.3682 ,12.9748,13.5816,14.1782,14.3276, 14.4016)
FOOTPRINT_POINT_LONGITUDE = (263.691,262.934,262.39,261.872,261.856 ,261.838,261.809,261.779,261.753, 261.732,261.721,261.705,261.694,261.683 ,261.671,261.66,261.648,261.636,261.624 ,261.612,261.594,261.581,261.569, 261.556,261.544,261.531,261.518,261.506 ,261.493,261.48,261.467,261.454,261.441 ,261.428,261.415,261.402,261.388, 261.375,261.362,261.349,261.335,261.322 ,261.308,261.295,261.267,261.237,261.23 ,261.227,261.579,261.918,262.263, 262.637,263.226,263.55,263.574,263.582, 263.58,263.577,263.575,263.574,263.573, 263.572,263.571,263.57,263.569,263.569, 263.569,263.568,263.569,263.568,263.569 ,263.57,263.57,263.571,263.573,263.574, 263.576,263.577,263.579,263.581,263.583 ,263.585,263.588,263.592,263.595, 263.598,263.601,263.604,263.607,263.61, 263.614,263.617,263.623,263.631,263.637 ,263.646,263.656,263.666,263.668, 263.691)
ORBIT_NUMBER = 24126
ORBITAL_ECCENTRICITY = 0.573
ORBITAL_INCLINATION = 87.04
ORBITAL_SEMIMAJOR_AXIS = 8830.85
PERIAPSIS_ALTITUDE = 383.62
PERIAPSIS_ARGUMENT_ANGLE = 147.51
PERIAPSIS_TIME = 2023-02-07T14:43:21.000Z
SPACECRAFT_ORIENTATION = (0.0,-1.0,0.0)
^MEX_ORIENTATION_DESC = "MEX_ORIENTATION_DESC.TXT"
SPACECRAFT_POINTING_MODE = ACROSSTRACK
^MEX_POINTING_DESC = "MEX_POINTING_DESC.TXT"
RIGHT_ASCENSION = -1e+32
DECLINATION = -1e+32
OFFSET_ANGLE = 2.519
SPACECRAFT_SOLAR_DISTANCE = 2.40304e+08
TARGET_NAME = MARS
/* CAMERA DATA ELEMENTS */
DETECTOR_TEMPERATURE = 18.3705
FOCAL_PLANE_TEMPERATURE = 8.7872
INST_CMPRS_NAME = "DISCRETE COSINE TRANSFORMATION (DCT)"
INST_CMPRS_RATIO = 7.86089
INST_CMPRS_QUALITY = 0
INST_CMPRS_QUANTZ_TBL_ID = 0
INSTRUMENT_TEMPERATURE = 11.234
LENS_TEMPERATURE = 10.8262
MACROPIXEL_SIZE = 4
MISSING_FRAMES = 0
PIXEL_SUBSAMPLING_FLAG = N
SIGNAL_CHAIN_ID = 2
/* RADIOMETRIC DATA ELEMENTS */
BANDWIDTH = 76.0
CENTER_FILTER_WAVELENGTH = 444.0
RADIANCE_OFFSET = 0.467051
RADIANCE_SCALING_FACTOR = 0.00190026
REFLECTANCE_SCALING_FACTOR = 0.000112743
MEX:REFLECTANCE_OFFSET = 0.0277104
/* IMAGE OBJECT DEFINITIONS */
OBJECT = IMAGE
  INTERCHANGE_FORMAT = BINARY
  LINES = 18804
  LINE_SAMPLES = 2860
  SAMPLE_TYPE = UNSIGNED_INTEGER
  SAMPLE_BITS = 8
  BANDS = 1
  BAND_STORAGE_TYPE = BAND_SEQUENTIAL
  MAXIMUM = 255
  MEAN = 127.406
  MINIMUM = 1
  STANDARD_DEVIATION = 18.8058
END_OBJECT = IMAGE
/* MAP OBJECT DEFINITIONS */
OBJECT = IMAGE_MAP_PROJECTION
  ^DATA_SET_MAP_PROJECTION_CATALOG= "DSMAP.CAT"
  A_AXIS_RADIUS = 3396.0
  B_AXIS_RADIUS = 3396.0
  C_AXIS_RADIUS = 3396.0
  CENTER_LATITUDE = 0.0
  CENTER_LONGITUDE = 263.0
  COORDINATE_SYSTEM_NAME = PLANETOGRAPHIC
  COORDINATE_SYSTEM_TYPE = "BODY-FIXED ROTATING"
  EASTERNMOST_LONGITUDE = 263.691
  FIRST_STANDARD_PARALLEL = "N/A"
  LINE_FIRST_PIXEL = 1
  LINE_LAST_PIXEL = 18804
  LINE_PROJECTION_OFFSET = 17099.375
  MAP_PROJECTION_ROTATION = 0.0
  MAP_PROJECTION_TYPE = SINUSOIDAL
  MAP_RESOLUTION = 1185.42760773333
  MAP_SCALE = 0.05
  MAXIMUM_LATITUDE = 14.4027
  MINIMUM_LATITUDE = -1.42114
  POSITIVE_LONGITUDE_DIRECTION = EAST
  REFERENCE_LATITUDE = "N/A"
  REFERENCE_LONGITUDE = "N/A"
  SAMPLE_FIRST_PIXEL = 1
  SAMPLE_LAST_PIXEL = 2860
  SAMPLE_PROJECTION_OFFSET = 2099.375
  SECOND_STANDARD_PARALLEL = "N/A"
  WESTERNMOST_LONGITUDE = 261.227
END_OBJECT = IMAGE_MAP_PROJECTION
END
