PDS_VERSION_ID = PDS3
/* FILE DATA ELEMENTS */
RECORD_TYPE = UNDEFINED
/* POINTERS TO DATA OBJECTS */
^IMAGE = ("HO116_0000_RE4.TIF")
/* IDENTIFICATION DATA ELEMENTS */
DATA_SET_ID = "MEX-M-HRSC-4-REFDR-MAPPROJECT-EXT9-V4.0"
DATA_SET_NAME = "MARS EXPRESS HRSC MAP PROJECTED REFDR EXTENSION9 V4.0"
DETECTOR_ID = MEX_HRSC_RED
EVENT_TYPE = "MARS-LOCAL-CARTOGRAPHY-Im"
INSTRUMENT_HOST_ID = MEX
INSTRUMENT_HOST_NAME = "MARS EXPRESS"
INSTRUMENT_ID = HRSC
INSTRUMENT_NAME = "HIGH RESOLUTION STEREO CAMERA"
MISSION_NAME = "MARS EXPRESS"
MISSION_PHASE_NAME = ME_Phase_47
PROCESSING_LEVEL_ID = 4
PRODUCT_CREATION_TIME = 2023-11-14T18:14:04.000Z
PRODUCT_ID = "HO116_0000_RE4.TIF"
RELEASE_ID = 0002
REVISION_ID = 0000
/* QUALITY DATA ELEMENTS */
DATA_QUALITY_ID = 1
DATA_QUALITY_DESC = "Data calculated based on original SPICE kernels"
/* TIME DATA ELEMENTS */
SPACECRAFT_CLOCK_START_COUNT = "1/0623609974.23978"
SPACECRAFT_CLOCK_STOP_COUNT = "1/0623610552.53293"
START_TIME = 2023-02-04T17:01:55.135Z
STOP_TIME = 2023-02-04T17:09:16.402Z
/* ORBITAL DATA ELEMENTS */
ASCENDING_NODE_LONGITUDE = 125.44
MAXIMUM_RESOLUTION = 0.2068
FOOTPRINT_POINT_LATITUDE = (0.727225,0.73047,0.733595,0.740323, 0.750022,0.750359,0.758581,0.256164, -0.756837,-1.44209,-1.79035,-2.48901, -2.84519,-3.37759,-3.73087,-4.25241, -4.78227,-5.36319,-5.94787,-6.34013, -6.92751,-7.50684,-7.89182,-8.28331, -8.68523,-9.28499,-9.89415,-10.3032, -10.7164,-11.3439,-11.7625,-12.1875, -12.6151,-13.0463,-13.482,-14.1442, -14.5887,-15.0376,-15.4874,-16.1707, -16.8602,-17.3248,-17.7948,-18.5067, -18.9851,-19.2282,-19.3719,-19.3918, -19.4221,-19.4214,-19.4279,-19.4305, -19.4426,-19.4341,-19.4333,-19.4293, -18.7125,-17.9897,-17.5222,-17.0562, -16.5862,-16.1288,-15.6779,-15.2232, -14.7743,-14.3219,-13.8799,-13.2249, -12.5788,-12.1506,-11.7251,-11.3052, -10.6776,-10.0599,-9.64895,-9.24596, -8.84408,-8.24743,-7.65853,-7.26566, -6.88358,-6.49648,-6.1066,-5.71498, -5.32078,-4.92517,-4.57542,-4.22419, -3.69447,-3.34052,-2.98441,-2.62754, -2.27726,-1.92798,-1.57521,-0.890155, -0.376343,0.467671,0.635254,0.727225)
FOOTPRINT_POINT_LONGITUDE = (202.648,202.122,201.759,201.176, 200.534,200.514,200.501,200.478,200.429 ,200.394,200.377,200.34,200.321,200.292 ,200.272,200.241,200.212,200.179, 200.143,200.12,200.086,200.049,200.022, 199.997,199.972,199.931,199.889,199.861 ,199.832,199.787,199.756,199.724, 199.691,199.658,199.624,199.572,199.535 ,199.498,199.459,199.399,199.338, 199.296,199.252,199.185,199.139,199.115 ,199.101,199.742,200.618,201.151,201.8, 202.26,202.715,203.102,203.141,203.166, 203.128,203.099,203.076,203.056,203.04, 203.021,203.0,202.984,202.967,202.954, 202.939,202.917,202.895,202.883,202.871 ,202.859,202.843,202.828,202.818, 202.809,202.799,202.786,202.774,202.767 ,202.758,202.75,202.743,202.736,202.729 ,202.723,202.717,202.712,202.704, 202.698,202.693,202.687,202.683,202.678 ,202.674,202.666,202.66,202.654,202.652 ,202.648)
ORBIT_NUMBER = 24116
ORBITAL_ECCENTRICITY = 0.572
ORBITAL_INCLINATION = 87.06
ORBITAL_SEMIMAJOR_AXIS = 8820.87
PERIAPSIS_ALTITUDE = 382.85
PERIAPSIS_ARGUMENT_ANGLE = 149.23
PERIAPSIS_TIME = 2023-02-04T16:52:58.000Z
SPACECRAFT_ORIENTATION = (0.0,-1.0,0.0)
^MEX_ORIENTATION_DESC = "MEX_ORIENTATION_DESC.TXT"
SPACECRAFT_POINTING_MODE = ACROSSTRACK
^MEX_POINTING_DESC = "MEX_POINTING_DESC.TXT"
RIGHT_ASCENSION = -1e+32
DECLINATION = -1e+32
OFFSET_ANGLE = 0.269
SPACECRAFT_SOLAR_DISTANCE = 2.39862e+08
TARGET_NAME = MARS
/* CAMERA DATA ELEMENTS */
DETECTOR_TEMPERATURE = 18.5744
FOCAL_PLANE_TEMPERATURE = 8.5833
INST_CMPRS_NAME = "DISCRETE COSINE TRANSFORMATION (DCT)"
INST_CMPRS_RATIO = 9.42809
INST_CMPRS_QUALITY = 0
INST_CMPRS_QUANTZ_TBL_ID = 0
INSTRUMENT_TEMPERATURE = 11.234
LENS_TEMPERATURE = 8.5833
MACROPIXEL_SIZE = 8
MISSING_FRAMES = 0
PIXEL_SUBSAMPLING_FLAG = N
SIGNAL_CHAIN_ID = 2
/* RADIOMETRIC DATA ELEMENTS */
BANDWIDTH = 48.0
CENTER_FILTER_WAVELENGTH = 748.0
RADIANCE_OFFSET = 0.497654
RADIANCE_SCALING_FACTOR = 0.00589458
REFLECTANCE_SCALING_FACTOR = 0.000773936
MEX:REFLECTANCE_OFFSET = 0.06534
/* IMAGE OBJECT DEFINITIONS */
OBJECT = IMAGE
  INTERCHANGE_FORMAT = BINARY
  LINES = 5987
  LINE_SAMPLES = 986
  SAMPLE_TYPE = UNSIGNED_INTEGER
  SAMPLE_BITS = 8
  BANDS = 1
  BAND_STORAGE_TYPE = BAND_SEQUENTIAL
  MAXIMUM = 255
  MEAN = 129.227
  MINIMUM = 1
  STANDARD_DEVIATION = 25.3048
END_OBJECT = IMAGE
/* MAP OBJECT DEFINITIONS */
OBJECT = IMAGE_MAP_PROJECTION
  ^DATA_SET_MAP_PROJECTION_CATALOG= "DSMAP.CAT"
  A_AXIS_RADIUS = 3396.0
  B_AXIS_RADIUS = 3396.0
  C_AXIS_RADIUS = 3396.0
  CENTER_LATITUDE = 0.0
  CENTER_LONGITUDE = 201.0
  COORDINATE_SYSTEM_NAME = PLANETOGRAPHIC
  COORDINATE_SYSTEM_TYPE = "BODY-FIXED ROTATING"
  EASTERNMOST_LONGITUDE = 203.166
  FIRST_STANDARD_PARALLEL = "N/A"
  LINE_FIRST_PIXEL = 1
  LINE_LAST_PIXEL = 5987
  LINE_PROJECTION_OFFSET = 220.1875
  MAP_PROJECTION_ROTATION = 0.0
  MAP_PROJECTION_TYPE = SINUSOIDAL
  MAP_RESOLUTION = 296.356901933333
  MAP_SCALE = 0.2
  MAXIMUM_LATITUDE = 0.758581
  MINIMUM_LATITUDE = -19.4426
  POSITIVE_LONGITUDE_DIRECTION = EAST
  REFERENCE_LATITUDE = "N/A"
  REFERENCE_LONGITUDE = "N/A"
  SAMPLE_FIRST_PIXEL = 1
  SAMPLE_LAST_PIXEL = 986
  SAMPLE_PROJECTION_OFFSET = 459.0625
  SECOND_STANDARD_PARALLEL = "N/A"
  WESTERNMOST_LONGITUDE = 199.101
END_OBJECT = IMAGE_MAP_PROJECTION
END
