PDS_VERSION_ID = PDS3
/* FILE DATA ELEMENTS */
RECORD_TYPE = UNDEFINED
/* POINTERS TO DATA OBJECTS */
^IMAGE = ("HO113_0000_BL4.TIF")
/* IDENTIFICATION DATA ELEMENTS */
DATA_SET_ID = "MEX-M-HRSC-4-REFDR-MAPPROJECT-EXT9-V4.0"
DATA_SET_NAME = "MARS EXPRESS HRSC MAP PROJECTED REFDR EXTENSION9 V4.0"
DETECTOR_ID = MEX_HRSC_BLUE
EVENT_TYPE = "MARS-REGIONAL-MAPPING-Vo-Te"
INSTRUMENT_HOST_ID = MEX
INSTRUMENT_HOST_NAME = "MARS EXPRESS"
INSTRUMENT_ID = HRSC
INSTRUMENT_NAME = "HIGH RESOLUTION STEREO CAMERA"
MISSION_NAME = "MARS EXPRESS"
MISSION_PHASE_NAME = ME_Phase_47
PROCESSING_LEVEL_ID = 4
PRODUCT_CREATION_TIME = 2023-11-14T18:14:04.000Z
PRODUCT_ID = "HO113_0000_BL4.TIF"
RELEASE_ID = 0002
REVISION_ID = 0000
/* QUALITY DATA ELEMENTS */
DATA_QUALITY_ID = 1
DATA_QUALITY_DESC = "Data calculated based on original SPICE kernels"
/* TIME DATA ELEMENTS */
SPACECRAFT_CLOCK_START_COUNT = "1/0623534163.25676"
SPACECRAFT_CLOCK_STOP_COUNT = "1/0623534655.15942"
START_TIME = 2023-02-03T19:57:20.536Z
STOP_TIME = 2023-02-03T20:03:56.304Z
/* ORBITAL DATA ELEMENTS */
ASCENDING_NODE_LONGITUDE = 125.49
MAXIMUM_RESOLUTION = 0.0608
FOOTPRINT_POINT_LATITUDE = (25.2011,25.2061,25.2068,25.2068, 25.2004,24.7543,24.3118,23.4333,22.553, 21.8927,20.7923,19.9148,19.0397,18.5911 ,18.1431,17.6957,17.249,16.7963,16.3395 ,15.8834,15.4281,14.9634,14.4982,14.034 ,13.5625,13.0884,12.6153,11.8926, 11.4106,10.6757,10.1851,9.68564,9.18605 ,8.67986,8.1718,7.65712,7.14084,6.6167, 5.82409,5.02058,4.47932,3.93031,3.37768 ,2.82024,2.2542,1.39696,1.10661,1.10398 ,1.08315,1.06676,1.05134,1.05086, 1.05203,1.63006,2.20255,2.76992,3.32858 ,3.88262,4.4329,4.97539,5.78073,6.57507 ,7.10027,7.6179,8.13365,8.64288,9.15002 ,9.65053,10.1509,10.6425,11.379,11.8619 ,12.5862,13.0601,13.5351,14.0076, 14.4728,14.9389,15.4045,15.8605,16.3173 ,16.775,17.2283,17.6759,18.1242,18.5731 ,19.0225,19.8993,20.7781,21.2182, 21.6587,22.0996,22.5409,22.9823,23.6436 ,24.0841,24.5269,24.971,25.1942, 25.2011)
FOOTPRINT_POINT_LONGITUDE = (147.598,146.707,146.101,146.086, 146.107,146.125,146.127,146.104,146.096 ,146.094,146.098,146.096,146.092,146.09 ,146.088,146.084,146.081,146.077, 146.071,146.066,146.06,146.053,146.045, 146.037,146.029,146.02,146.011,145.997, 145.987,145.97,145.959,145.947,145.935, 145.922,145.909,145.895,145.88,145.865, 145.841,145.815,145.797,145.779,145.759 ,145.739,145.718,145.684,145.673, 145.673,146.454,147.073,147.663,147.681 ,147.687,147.685,147.682,147.68,147.677 ,147.675,147.673,147.671,147.668, 147.665,147.664,147.662,147.661,147.659 ,147.657,147.656,147.655,147.653, 147.651,147.65,147.648,147.646,147.645, 147.644,147.642,147.641,147.64,147.638, 147.637,147.636,147.634,147.633,147.631 ,147.629,147.628,147.624,147.621, 147.619,147.617,147.615,147.613,147.611 ,147.61,147.61,147.608,147.605,147.603, 147.598)
ORBIT_NUMBER = 24113
ORBITAL_ECCENTRICITY = 0.572
ORBITAL_INCLINATION = 87.04
ORBITAL_SEMIMAJOR_AXIS = 8824.74
PERIAPSIS_ALTITUDE = 383.04
PERIAPSIS_ARGUMENT_ANGLE = 149.77
PERIAPSIS_TIME = 2023-02-03T19:55:56.000Z
SPACECRAFT_ORIENTATION = (0.0,-1.0,0.0)
^MEX_ORIENTATION_DESC = "MEX_ORIENTATION_DESC.TXT"
SPACECRAFT_POINTING_MODE = ACROSSTRACK
^MEX_POINTING_DESC = "MEX_POINTING_DESC.TXT"
RIGHT_ASCENSION = -1e+32
DECLINATION = -1e+32
OFFSET_ANGLE = -0.99
SPACECRAFT_SOLAR_DISTANCE = 2.39728e+08
TARGET_NAME = MARS
/* CAMERA DATA ELEMENTS */
DETECTOR_TEMPERATURE = 17.7588
FOCAL_PLANE_TEMPERATURE = 8.3794
INST_CMPRS_NAME = "DISCRETE COSINE TRANSFORMATION (DCT)"
INST_CMPRS_RATIO = 5.84936
INST_CMPRS_QUALITY = 0
INST_CMPRS_QUANTZ_TBL_ID = 0
INSTRUMENT_TEMPERATURE = 11.234
LENS_TEMPERATURE = 8.5833
MACROPIXEL_SIZE = 4
MISSING_FRAMES = 0
PIXEL_SUBSAMPLING_FLAG = N
SIGNAL_CHAIN_ID = 2
/* RADIOMETRIC DATA ELEMENTS */
BANDWIDTH = 76.0
CENTER_FILTER_WAVELENGTH = 444.0
RADIANCE_OFFSET = 0.425495
RADIANCE_SCALING_FACTOR = 0.00269544
REFLECTANCE_SCALING_FACTOR = 0.000159156
MEX:REFLECTANCE_OFFSET = 0.0251239
/* IMAGE OBJECT DEFINITIONS */
OBJECT = IMAGE
  INTERCHANGE_FORMAT = BINARY
  LINES = 28629
  LINE_SAMPLES = 2372
  SAMPLE_TYPE = UNSIGNED_INTEGER
  SAMPLE_BITS = 8
  BANDS = 1
  BAND_STORAGE_TYPE = BAND_SEQUENTIAL
  MAXIMUM = 255
  MEAN = 91.6477
  MINIMUM = 1
  STANDARD_DEVIATION = 30.493
END_OBJECT = IMAGE
/* MAP OBJECT DEFINITIONS */
OBJECT = IMAGE_MAP_PROJECTION
  ^DATA_SET_MAP_PROJECTION_CATALOG= "DSMAP.CAT"
  A_AXIS_RADIUS = 3396.0
  B_AXIS_RADIUS = 3396.0
  C_AXIS_RADIUS = 3396.0
  CENTER_LATITUDE = 0.0
  CENTER_LONGITUDE = 147.0
  COORDINATE_SYSTEM_NAME = PLANETOGRAPHIC
  COORDINATE_SYSTEM_TYPE = "BODY-FIXED ROTATING"
  EASTERNMOST_LONGITUDE = 147.687
  FIRST_STANDARD_PARALLEL = "N/A"
  LINE_FIRST_PIXEL = 1
  LINE_LAST_PIXEL = 28629
  LINE_PROJECTION_OFFSET = 29886.875
  MAP_PROJECTION_ROTATION = 0.0
  MAP_PROJECTION_TYPE = SINUSOIDAL
  MAP_RESOLUTION = 1185.42760773333
  MAP_SCALE = 0.05
  MAXIMUM_LATITUDE = 25.2068
  MINIMUM_LATITUDE = 1.05086
  POSITIVE_LONGITUDE_DIRECTION = EAST
  REFERENCE_LATITUDE = "N/A"
  REFERENCE_LONGITUDE = "N/A"
  SAMPLE_FIRST_PIXEL = 1
  SAMPLE_LAST_PIXEL = 2372
  SAMPLE_PROJECTION_OFFSET = 1571.875
  SECOND_STANDARD_PARALLEL = "N/A"
  WESTERNMOST_LONGITUDE = 145.673
END_OBJECT = IMAGE_MAP_PROJECTION
END
