PDS_VERSION_ID = PDS3
/* FILE DATA ELEMENTS */
RECORD_TYPE = UNDEFINED
/* POINTERS TO DATA OBJECTS */
^IMAGE = ("HO111_0000_RE4.TIF")
/* IDENTIFICATION DATA ELEMENTS */
DATA_SET_ID = "MEX-M-HRSC-4-REFDR-MAPPROJECT-EXT9-V4.0"
DATA_SET_NAME = "MARS EXPRESS HRSC MAP PROJECTED REFDR EXTENSION9 V4.0"
DETECTOR_ID = MEX_HRSC_RED
EVENT_TYPE = "MARS-LOCAL-CARTOGRAPHY-Im-Pf"
INSTRUMENT_HOST_ID = MEX
INSTRUMENT_HOST_NAME = "MARS EXPRESS"
INSTRUMENT_ID = HRSC
INSTRUMENT_NAME = "HIGH RESOLUTION STEREO CAMERA"
MISSION_NAME = "MARS EXPRESS"
MISSION_PHASE_NAME = ME_Phase_47
PROCESSING_LEVEL_ID = 4
PRODUCT_CREATION_TIME = 2023-11-14T18:14:04.000Z
PRODUCT_ID = "HO111_0000_RE4.TIF"
RELEASE_ID = 0002
REVISION_ID = 0000
/* QUALITY DATA ELEMENTS */
DATA_QUALITY_ID = 1
DATA_QUALITY_DESC = "Data calculated based on original SPICE kernels"
/* TIME DATA ELEMENTS */
SPACECRAFT_CLOCK_START_COUNT = "1/0623482874.23942"
SPACECRAFT_CLOCK_STOP_COUNT = "1/0623483708.14456"
START_TIME = 2023-02-03T05:45:25.482Z
STOP_TIME = 2023-02-03T05:55:35.773Z
/* ORBITAL DATA ELEMENTS */
ASCENDING_NODE_LONGITUDE = 125.54
MAXIMUM_RESOLUTION = 0.0678
FOOTPRINT_POINT_LATITUDE = (78.0289,77.8832,77.7207,77.5523, 77.5452,77.6694,76.6191,75.5853,74.5683 ,73.569,72.5819,71.097,70.212,69.3211, 68.4245,67.0903,66.2191,65.362,64.5333, 63.6925,62.8817,61.6861,60.8986,60.1322 ,59.2473,58.1421,57.4148,56.7074, 55.9956,55.3015,54.613,53.934,53.266, 52.6015,51.9476,50.9787,50.3382,49.7141 ,49.083,48.4695,47.855,47.2508,46.6503, 46.0513,45.465,44.8781,43.7211,42.8628, 41.7166,40.5711,40.2848,40.2072,40.2683 ,40.2689,40.2701,41.7057,43.1405, 44.2874,44.8713,45.4596,46.0472,46.6457 ,47.2477,47.8517,48.4681,49.0835, 49.7113,50.341,50.9807,51.6243,52.2799, 53.2735,54.2846,54.967,55.6626,56.3658, 57.0774,57.7985,58.5327,59.2767,60.1646 ,60.936,61.7265,62.5224,63.3402,64.5847 ,65.8631,66.7304,67.6211,68.5264, 69.4384,70.3466,71.25,72.7542,73.7689, 74.7963,75.8473,77.4682,78.0193, 78.0289)
FOOTPRINT_POINT_LONGITUDE = (354.441,348.264,344.307,341.193, 341.075,340.788,342.216,343.398,344.389 ,345.23,345.955,346.885,347.364,347.799 ,348.194,348.715,349.018,349.29,349.531 ,349.759,349.961,350.232,350.394, 350.542,350.7,350.881,350.991,351.091, 351.186,351.273,351.355,351.43,351.501, 351.566,351.628,351.712,351.765,351.813 ,351.859,351.901,351.941,351.979, 352.014,352.047,352.077,352.106,352.159 ,352.194,352.236,352.273,352.282, 352.284,354.155,354.173,354.179,354.204 ,354.228,354.248,354.259,354.269, 354.279,354.29,354.301,354.312,354.323, 354.334,354.346,354.358,354.369,354.382 ,354.394,354.413,354.433,354.445, 354.458,354.472,354.486,354.5,354.514, 354.529,354.546,354.561,354.576,354.591 ,354.607,354.63,354.654,354.67,354.686, 354.702,354.717,354.732,354.746,354.767 ,354.779,354.788,354.796,354.801, 354.799,354.441)
ORBIT_NUMBER = 24111
ORBITAL_ECCENTRICITY = 0.572
ORBITAL_INCLINATION = 87.05
ORBITAL_SEMIMAJOR_AXIS = 8822.86
PERIAPSIS_ALTITUDE = 382.53
PERIAPSIS_ARGUMENT_ANGLE = 150.07
PERIAPSIS_TIME = 2023-02-03T05:57:46.000Z
SPACECRAFT_ORIENTATION = (0.0,-1.0,0.0)
^MEX_ORIENTATION_DESC = "MEX_ORIENTATION_DESC.TXT"
SPACECRAFT_POINTING_MODE = ACROSSTRACK
^MEX_POINTING_DESC = "MEX_POINTING_DESC.TXT"
RIGHT_ASCENSION = -1e+32
DECLINATION = -1e+32
OFFSET_ANGLE = 0.808
SPACECRAFT_SOLAR_DISTANCE = 2.39638e+08
TARGET_NAME = MARS
/* CAMERA DATA ELEMENTS */
DETECTOR_TEMPERATURE = 18.9822
FOCAL_PLANE_TEMPERATURE = 8.7872
INST_CMPRS_NAME = "DISCRETE COSINE TRANSFORMATION (DCT)"
INST_CMPRS_RATIO = 14.932
INST_CMPRS_QUALITY = 0
INST_CMPRS_QUANTZ_TBL_ID = 0
INSTRUMENT_TEMPERATURE = 10.8262
LENS_TEMPERATURE = 9.195
MACROPIXEL_SIZE = 4
PIXEL_SUBSAMPLING_FLAG = N
SIGNAL_CHAIN_ID = 2
/* RADIOMETRIC DATA ELEMENTS */
BANDWIDTH = 48.0
CENTER_FILTER_WAVELENGTH = 748.0
RADIANCE_OFFSET = 0.634167
RADIANCE_SCALING_FACTOR = 0.00340742
REFLECTANCE_SCALING_FACTOR = 0.000446536
MEX:REFLECTANCE_OFFSET = 0.0831066
/* IMAGE OBJECT DEFINITIONS */
OBJECT = IMAGE
  INTERCHANGE_FORMAT = BINARY
  LINES = 44957
  LINE_SAMPLES = 4380
  SAMPLE_TYPE = UNSIGNED_INTEGER
  SAMPLE_BITS = 8
  BANDS = 1
  BAND_STORAGE_TYPE = BAND_SEQUENTIAL
  MAXIMUM = 255
  MEAN = 146.806
  MINIMUM = 1
  STANDARD_DEVIATION = 84.3825
END_OBJECT = IMAGE
/* MAP OBJECT DEFINITIONS */
OBJECT = IMAGE_MAP_PROJECTION
  ^DATA_SET_MAP_PROJECTION_CATALOG= "DSMAP.CAT"
  A_AXIS_RADIUS = 3396.0
  B_AXIS_RADIUS = 3396.0
  C_AXIS_RADIUS = 3396.0
  CENTER_LATITUDE = 0.0
  CENTER_LONGITUDE = 353.0
  COORDINATE_SYSTEM_NAME = PLANETOGRAPHIC
  COORDINATE_SYSTEM_TYPE = "BODY-FIXED ROTATING"
  EASTERNMOST_LONGITUDE = 354.801
  FIRST_STANDARD_PARALLEL = "N/A"
  LINE_FIRST_PIXEL = 1
  LINE_LAST_PIXEL = 44957
  LINE_PROJECTION_OFFSET = 92633.375
  MAP_PROJECTION_ROTATION = 0.0
  MAP_PROJECTION_TYPE = SINUSOIDAL
  MAP_RESOLUTION = 1185.42760773333
  MAP_SCALE = 0.05
  MAXIMUM_LATITUDE = 78.02889999999999
  MINIMUM_LATITUDE = 40.2072
  POSITIVE_LONGITUDE_DIRECTION = EAST
  REFERENCE_LATITUDE = "N/A"
  REFERENCE_LONGITUDE = "N/A"
  SAMPLE_FIRST_PIXEL = 1
  SAMPLE_LAST_PIXEL = 4380
  SAMPLE_PROJECTION_OFFSET = 3306.875
  SECOND_STANDARD_PARALLEL = "N/A"
  WESTERNMOST_LONGITUDE = 340.788
END_OBJECT = IMAGE_MAP_PROJECTION
END
