PDS_VERSION_ID = PDS3
/* FILE DATA ELEMENTS */
RECORD_TYPE = UNDEFINED
/* POINTERS TO DATA OBJECTS */
^IMAGE = ("HO111_0000_P14.TIF")
/* IDENTIFICATION DATA ELEMENTS */
DATA_SET_ID = "MEX-M-HRSC-4-REFDR-MAPPROJECT-EXT9-V4.0"
DATA_SET_NAME = "MARS EXPRESS HRSC MAP PROJECTED REFDR EXTENSION9 V4.0"
DETECTOR_ID = MEX_HRSC_P1
EVENT_TYPE = "MARS-LOCAL-CARTOGRAPHY-Im-Pf"
INSTRUMENT_HOST_ID = MEX
INSTRUMENT_HOST_NAME = "MARS EXPRESS"
INSTRUMENT_ID = HRSC
INSTRUMENT_NAME = "HIGH RESOLUTION STEREO CAMERA"
MISSION_NAME = "MARS EXPRESS"
MISSION_PHASE_NAME = ME_Phase_47
PROCESSING_LEVEL_ID = 4
PRODUCT_CREATION_TIME = 2023-11-14T18:14:04.000Z
PRODUCT_ID = "HO111_0000_P14.TIF"
RELEASE_ID = 0002
REVISION_ID = 0000
/* QUALITY DATA ELEMENTS */
DATA_QUALITY_ID = 1
DATA_QUALITY_DESC = "Data calculated based on original SPICE kernels"
/* TIME DATA ELEMENTS */
SPACECRAFT_CLOCK_START_COUNT = "1/0623482874.23942"
SPACECRAFT_CLOCK_STOP_COUNT = "1/0623483708.14456"
START_TIME = 2023-02-03T05:42:43.546Z
STOP_TIME = 2023-02-03T05:54:39.296Z
/* ORBITAL DATA ELEMENTS */
ASCENDING_NODE_LONGITUDE = 125.54
MAXIMUM_RESOLUTION = 0.0345
FOOTPRINT_POINT_LATITUDE = (78.2295,78.1509,77.9729,77.6992, 77.6892,77.5735,76.1283,75.1802,74.243, 71.646,70.7584,69.8827,69.0188,68.1684, 67.3295,66.5046,65.6755,64.8521,64.1106 ,63.3554,62.5948,61.8341,61.0785, 60.3444,59.2555,58.5382,57.8364,56.7894 ,56.1074,55.4362,54.5859,53.9328,53.289 ,52.6517,52.0204,51.3945,50.7781,49.861 ,48.9598,48.3635,47.7739,46.8989, 46.3186,45.7482,45.1759,43.7738,42.6696 ,41.8517,40.4988,40.2327,40.2257, 40.2181,40.1943,40.1937,40.1941,41.2711 ,42.6349,43.7412,45.1472,45.721,46.2931 ,46.8749,47.7526,48.3442,48.9424,49.848 ,50.7676,51.3868,52.0153,52.6495, 53.2897,53.9367,54.5923,55.4485,56.4692 ,57.1613,57.8639,58.5718,59.2948, 60.3928,61.1347,61.8983,62.6672,63.4367 ,64.2001,64.9571,65.7861,66.6319, 67.4718,68.3272,69.1959,70.0801,70.979, 71.8927,74.5859,75.5672,76.5665,77.5908 ,78.1078,78.2295)
FOOTPRINT_POINT_LONGITUDE = (355.984,349.613,344.432,339.48,339.329 ,339.318,341.482,342.644,343.637, 345.792,346.376,346.894,347.355,347.766 ,348.136,348.469,348.777,349.055,349.29 ,349.51,349.717,349.909,350.087,350.248 ,350.469,350.603,350.726,350.895, 350.998,351.093,351.206,351.287,351.363 ,351.434,351.501,351.563,351.622, 351.703,351.776,351.822,351.865,351.924 ,351.961,351.996,352.028,352.102, 352.153,352.187,352.237,352.246,352.247 ,353.011,354.182,354.202,354.209, 354.232,354.262,354.287,354.319,354.333 ,354.346,354.361,354.383,354.398, 354.413,354.437,354.462,354.48,354.498, 354.517,354.536,354.556,354.577,354.604 ,354.639,354.663,354.688,354.714, 354.742,354.787,354.817,354.851,354.885 ,354.922,354.96,354.999,355.046,355.095 ,355.147,355.204,355.266,355.334, 355.408,355.491,355.786,355.919,356.074 ,356.257,356.361,355.984)
ORBIT_NUMBER = 24111
ORBITAL_ECCENTRICITY = 0.572
ORBITAL_INCLINATION = 87.05
ORBITAL_SEMIMAJOR_AXIS = 8822.86
PERIAPSIS_ALTITUDE = 382.53
PERIAPSIS_ARGUMENT_ANGLE = 150.07
PERIAPSIS_TIME = 2023-02-03T05:57:46.000Z
SPACECRAFT_ORIENTATION = (0.0,-1.0,0.0)
^MEX_ORIENTATION_DESC = "MEX_ORIENTATION_DESC.TXT"
SPACECRAFT_POINTING_MODE = ACROSSTRACK
^MEX_POINTING_DESC = "MEX_POINTING_DESC.TXT"
RIGHT_ASCENSION = -1e+32
DECLINATION = -1e+32
OFFSET_ANGLE = 0.808
SPACECRAFT_SOLAR_DISTANCE = 2.39638e+08
TARGET_NAME = MARS
/* CAMERA DATA ELEMENTS */
DETECTOR_TEMPERATURE = 17.351
FOCAL_PLANE_TEMPERATURE = 8.7872
INST_CMPRS_NAME = "DISCRETE COSINE TRANSFORMATION (DCT)"
INST_CMPRS_RATIO = 11.6229
INST_CMPRS_QUALITY = 0
INST_CMPRS_QUANTZ_TBL_ID = 0
INSTRUMENT_TEMPERATURE = 10.8262
LENS_TEMPERATURE = 9.195
MACROPIXEL_SIZE = 2
PIXEL_SUBSAMPLING_FLAG = N
SIGNAL_CHAIN_ID = 3
/* RADIOMETRIC DATA ELEMENTS */
BANDWIDTH = 174.0
CENTER_FILTER_WAVELENGTH = 675.0
RADIANCE_OFFSET = 2.30256
RADIANCE_SCALING_FACTOR = 0.00973195
REFLECTANCE_SCALING_FACTOR = 0.0003006
MEX:REFLECTANCE_OFFSET = 0.0711212
/* IMAGE OBJECT DEFINITIONS */
OBJECT = IMAGE
  INTERCHANGE_FORMAT = BINARY
  LINES = 89914
  LINE_SAMPLES = 8760
  SAMPLE_TYPE = UNSIGNED_INTEGER
  SAMPLE_BITS = 8
  BANDS = 1
  BAND_STORAGE_TYPE = BAND_SEQUENTIAL
  MAXIMUM = 255
  MEAN = 178.156
  MINIMUM = 1
  STANDARD_DEVIATION = 79.0358
END_OBJECT = IMAGE
/* MAP OBJECT DEFINITIONS */
OBJECT = IMAGE_MAP_PROJECTION
  ^DATA_SET_MAP_PROJECTION_CATALOG= "DSMAP.CAT"
  A_AXIS_RADIUS = 3396.0
  B_AXIS_RADIUS = 3396.0
  C_AXIS_RADIUS = 3396.0
  CENTER_LATITUDE = 0.0
  CENTER_LONGITUDE = 353.0
  COORDINATE_SYSTEM_NAME = PLANETOGRAPHIC
  COORDINATE_SYSTEM_TYPE = "BODY-FIXED ROTATING"
  EASTERNMOST_LONGITUDE = 356.361
  FIRST_STANDARD_PARALLEL = "N/A"
  LINE_FIRST_PIXEL = 1
  LINE_LAST_PIXEL = 89914
  LINE_PROJECTION_OFFSET = 185267.25
  MAP_PROJECTION_ROTATION = 0.0
  MAP_PROJECTION_TYPE = SINUSOIDAL
  MAP_RESOLUTION = 2370.85521546667
  MAP_SCALE = 0.025
  MAXIMUM_LATITUDE = 78.2295
  MINIMUM_LATITUDE = 40.1937
  POSITIVE_LONGITUDE_DIRECTION = EAST
  REFERENCE_LATITUDE = "N/A"
  REFERENCE_LONGITUDE = "N/A"
  SAMPLE_FIRST_PIXEL = 1
  SAMPLE_LAST_PIXEL = 8760
  SAMPLE_PROJECTION_OFFSET = 6614.25
  SECOND_STANDARD_PARALLEL = "N/A"
  WESTERNMOST_LONGITUDE = 339.318
END_OBJECT = IMAGE_MAP_PROJECTION
END
