PDS_VERSION_ID = PDS3
/* FILE DATA ELEMENTS */
RECORD_TYPE = UNDEFINED
/* POINTERS TO DATA OBJECTS */
^IMAGE = ("HO107_0000_ND4.TIF")
/* IDENTIFICATION DATA ELEMENTS */
DATA_SET_ID = "MEX-M-HRSC-4-REFDR-MAPPROJECT-EXT9-V4.0"
DATA_SET_NAME = "MARS EXPRESS HRSC MAP PROJECTED REFDR EXTENSION9 V4.0"
DETECTOR_ID = MEX_HRSC_NADIR
EVENT_TYPE = "MARS-REGIONAL-MAPPING-Im-Fl"
INSTRUMENT_HOST_ID = MEX
INSTRUMENT_HOST_NAME = "MARS EXPRESS"
INSTRUMENT_ID = HRSC
INSTRUMENT_NAME = "HIGH RESOLUTION STEREO CAMERA"
MISSION_NAME = "MARS EXPRESS"
MISSION_PHASE_NAME = ME_Phase_47
PROCESSING_LEVEL_ID = 4
PRODUCT_CREATION_TIME = 2023-11-14T18:14:04.000Z
PRODUCT_ID = "HO107_0000_ND4.TIF"
RELEASE_ID = 0002
REVISION_ID = 0000
/* QUALITY DATA ELEMENTS */
DATA_QUALITY_ID = 1
DATA_QUALITY_DESC = "Data calculated based on original SPICE kernels"
/* TIME DATA ELEMENTS */
SPACECRAFT_CLOCK_START_COUNT = "1/0623383342.23980"
SPACECRAFT_CLOCK_STOP_COUNT = "1/0623383804.26943"
START_TIME = 2023-02-02T02:03:34.057Z
STOP_TIME = 2023-02-02T02:09:35.036Z
/* ORBITAL DATA ELEMENTS */
ASCENDING_NODE_LONGITUDE = 125.6
MAXIMUM_RESOLUTION = 0.0157
FOOTPRINT_POINT_LATITUDE = (21.8925,21.8923,21.8907,21.8871,21.887 ,21.8868,21.4869,21.0872,20.2887, 19.4913,18.6954,17.9009,17.4936,17.0867 ,16.6801,16.2741,15.8685,15.453,15.0378 ,14.6231,14.209,13.5752,13.152,12.7295, 12.0846,11.653,11.2224,10.7825,10.1235, 9.6793,9.23136,8.78435,8.32879,7.64601, 7.1821,6.71885,6.24931,5.77784,5.30124, 4.82214,4.33736,3.85071,3.35734,2.61094 ,1.85423,1.0861,0.569248,0.0446643, -0.217599,-0.219603,-0.228383,-0.24117, -0.258087,-0.258464,-0.258311,0.530587, 1.04875,1.81847,2.57699,3.32518,3.81996 ,4.30767,4.79343,5.27356,5.75116, 6.22365,6.69422,7.15842,7.62322,8.30751 ,8.76399,9.21193,9.66075,10.1059, 10.7662,11.207,11.6385,12.0708,12.7168, 13.1401,13.5641,14.1993,14.6141,15.0295 ,15.4456,15.8618,16.2681,16.6749, 17.0822,17.4899,17.8979,18.6939,19.4913 ,19.8905,20.2901,20.6899,21.0901, 21.6908,21.8912,21.8925)
FOOTPRINT_POINT_LONGITUDE = (40.1662,39.6998,39.2196,38.6613, 38.6455,38.6206,38.6228,38.6239,38.6269 ,38.6314,38.6311,38.6305,38.6294, 38.6285,38.6269,38.6241,38.622,38.6189, 38.6164,38.6124,38.6062,38.5942,38.5864 ,38.5806,38.5749,38.5756,38.5666, 38.5585,38.5449,38.5347,38.5253,38.5148 ,38.5041,38.4837,38.4703,38.4583, 38.4452,38.4376,38.4241,38.4098,38.3989 ,38.383,38.3593,38.332,38.3053,38.2832, 38.2617,38.2412,38.2294,38.2293,38.6784 ,39.3367,40.2125,40.2317,40.2411, 40.2381,40.2363,40.2337,40.2312,40.229, 40.2276,40.2264,40.2249,40.2236,40.2227 ,40.2197,40.2184,40.2174,40.2174, 40.2155,40.2146,40.2133,40.212,40.2099, 40.2089,40.2075,40.2061,40.2043,40.2024 ,40.201,40.1999,40.1976,40.1966,40.1952 ,40.1934,40.192,40.1903,40.1886,40.1867 ,40.1852,40.1833,40.179,40.1754,40.1736 ,40.1712,40.1693,40.1669,40.1633,40.162 ,40.1662)
ORBIT_NUMBER = 24107
ORBITAL_ECCENTRICITY = 0.573
ORBITAL_INCLINATION = 87.04
ORBITAL_SEMIMAJOR_AXIS = 8830.35
PERIAPSIS_ALTITUDE = 381.84
PERIAPSIS_ARGUMENT_ANGLE = 150.8
PERIAPSIS_TIME = 2023-02-02T02:01:40.000Z
SPACECRAFT_ORIENTATION = (0.0,-1.0,0.0)
^MEX_ORIENTATION_DESC = "MEX_ORIENTATION_DESC.TXT"
SPACECRAFT_POINTING_MODE = ACROSSTRACK
^MEX_POINTING_DESC = "MEX_POINTING_DESC.TXT"
RIGHT_ASCENSION = -1e+32
DECLINATION = -1e+32
OFFSET_ANGLE = -1.259
SPACECRAFT_SOLAR_DISTANCE = 2.39457e+08
TARGET_NAME = MARS
/* CAMERA DATA ELEMENTS */
DETECTOR_TEMPERATURE = 18.3705
FOCAL_PLANE_TEMPERATURE = 8.3794
INST_CMPRS_NAME = "DISCRETE COSINE TRANSFORMATION (DCT)"
INST_CMPRS_RATIO = 6.41475
INST_CMPRS_QUALITY = 0
INST_CMPRS_QUANTZ_TBL_ID = 0
INSTRUMENT_TEMPERATURE = 11.234
LENS_TEMPERATURE = 8.5833
MACROPIXEL_SIZE = 1
MISSING_FRAMES = 0
PIXEL_SUBSAMPLING_FLAG = N
SIGNAL_CHAIN_ID = 0
/* RADIOMETRIC DATA ELEMENTS */
BANDWIDTH = 177.0
CENTER_FILTER_WAVELENGTH = 677.5
RADIANCE_OFFSET = 2.62315
RADIANCE_SCALING_FACTOR = 0.0196386
REFLECTANCE_SCALING_FACTOR = 0.000598204
MEX:REFLECTANCE_OFFSET = 0.0799029
/* IMAGE OBJECT DEFINITIONS */
OBJECT = IMAGE
  INTERCHANGE_FORMAT = BINARY
  LINES = 105035
  LINE_SAMPLES = 9541
  SAMPLE_TYPE = UNSIGNED_INTEGER
  SAMPLE_BITS = 8
  BANDS = 1
  BAND_STORAGE_TYPE = BAND_SEQUENTIAL
  MAXIMUM = 255
  MEAN = 110.448
  MINIMUM = 1
  STANDARD_DEVIATION = 23.2213
END_OBJECT = IMAGE
/* MAP OBJECT DEFINITIONS */
OBJECT = IMAGE_MAP_PROJECTION
  ^DATA_SET_MAP_PROJECTION_CATALOG= "DSMAP.CAT"
  A_AXIS_RADIUS = 3396.0
  B_AXIS_RADIUS = 3396.0
  C_AXIS_RADIUS = 3396.0
  CENTER_LATITUDE = 0.0
  CENTER_LONGITUDE = 39.0
  COORDINATE_SYSTEM_NAME = PLANETOGRAPHIC
  COORDINATE_SYSTEM_TYPE = "BODY-FIXED ROTATING"
  EASTERNMOST_LONGITUDE = 40.2411
  FIRST_STANDARD_PARALLEL = "N/A"
  LINE_FIRST_PIXEL = 1
  LINE_LAST_PIXEL = 105035
  LINE_PROJECTION_OFFSET = 103809.0
  MAP_PROJECTION_ROTATION = 0.0
  MAP_PROJECTION_TYPE = SINUSOIDAL
  MAP_RESOLUTION = 4741.71043093333
  MAP_SCALE = 0.0125
  MAXIMUM_LATITUDE = 21.8925
  MINIMUM_LATITUDE = -0.258464
  POSITIVE_LONGITUDE_DIRECTION = EAST
  REFERENCE_LATITUDE = "N/A"
  REFERENCE_LONGITUDE = "N/A"
  SAMPLE_FIRST_PIXEL = 1
  SAMPLE_LAST_PIXEL = 9541
  SAMPLE_PROJECTION_OFFSET = 3654.0
  SECOND_STANDARD_PARALLEL = "N/A"
  WESTERNMOST_LONGITUDE = 38.2293
END_OBJECT = IMAGE_MAP_PROJECTION
END
