PDS_VERSION_ID = PDS3
/* FILE DATA ELEMENTS */
RECORD_TYPE = UNDEFINED
/* POINTERS TO DATA OBJECTS */
^IMAGE = ("HO104_0000_GR4.TIF")
/* IDENTIFICATION DATA ELEMENTS */
DATA_SET_ID = "MEX-M-HRSC-4-REFDR-MAPPROJECT-EXT9-V4.0"
DATA_SET_NAME = "MARS EXPRESS HRSC MAP PROJECTED REFDR EXTENSION9 V4.0"
DETECTOR_ID = MEX_HRSC_GREEN
EVENT_TYPE = "MARS-REGIONAL-COLOR-Im-Pf-La"
INSTRUMENT_HOST_ID = MEX
INSTRUMENT_HOST_NAME = "MARS EXPRESS"
INSTRUMENT_ID = HRSC
INSTRUMENT_NAME = "HIGH RESOLUTION STEREO CAMERA"
MISSION_NAME = "MARS EXPRESS"
MISSION_PHASE_NAME = ME_Phase_47
PROCESSING_LEVEL_ID = 4
PRODUCT_CREATION_TIME = 2023-11-14T18:14:04.000Z
PRODUCT_ID = "HO104_0000_GR4.TIF"
RELEASE_ID = 0002
REVISION_ID = 0000
/* QUALITY DATA ELEMENTS */
DATA_QUALITY_ID = 1
DATA_QUALITY_DESC = "Data calculated based on original SPICE kernels"
/* TIME DATA ELEMENTS */
SPACECRAFT_CLOCK_START_COUNT = "1/0623307379.25723"
SPACECRAFT_CLOCK_STOP_COUNT = "1/0623307830.34633"
START_TIME = 2023-02-01T04:59:49.955Z
STOP_TIME = 2023-02-01T05:03:41.821Z
/* ORBITAL DATA ELEMENTS */
ASCENDING_NODE_LONGITUDE = 125.66
MAXIMUM_RESOLUTION = 0.0628
FOOTPRINT_POINT_LATITUDE = (45.9513,45.925,45.8938,45.8443,45.843, 45.8202,45.5119,45.2081,44.9038,44.5991 ,44.2943,43.9961,43.6973,43.3983, 43.0987,42.8005,42.5077,42.2144,41.9208 ,41.6268,41.1875,40.9001,40.6125, 40.3245,40.0362,39.7477,39.4589,38.8951 ,38.3306,37.7651,37.1986,36.6313, 36.3473,36.0631,35.7789,35.4943,35.2095 ,34.9246,34.4968,34.2115,33.9261, 33.6403,33.3545,33.0686,32.6397,32.3531 ,32.0668,31.7801,31.4935,31.3505, 31.3319,31.3572,31.3816,31.3819,31.3831 ,31.8158,32.2466,32.534,32.8208,33.1077 ,33.5377,33.8244,34.1109,34.3972, 34.6834,34.9695,35.2554,35.5412,35.8269 ,36.1121,36.3973,36.6824,36.9673, 37.2519,37.8205,38.3885,38.9555,39.5215 ,39.8112,40.101,40.3905,40.6799,40.969, 41.2578,41.6989,41.9943,42.2894,42.5843 ,42.8788,43.1782,43.4793,43.7801, 44.0806,44.3807,44.6869,44.9935,45.2997 ,45.7592,45.9155,45.9513)
FOOTPRINT_POINT_LONGITUDE = (345.874,345.205,344.517,343.582, 343.559,343.433,343.47,343.507,343.542, 343.577,343.611,343.644,343.675,343.707 ,343.737,343.767,343.796,343.824, 343.852,343.879,343.918,343.943,343.967 ,343.991,344.015,344.038,344.061, 344.104,344.146,344.186,344.223,344.26, 344.277,344.294,344.312,344.328,344.344 ,344.36,344.382,344.398,344.413,344.427 ,344.44,344.454,344.475,344.486,344.499 ,344.511,344.522,344.53,344.531,345.263 ,346.197,346.212,346.217,346.214, 346.206,346.202,346.196,346.191,346.183 ,346.178,346.172,346.167,346.161, 346.156,346.15,346.144,346.139,346.132, 346.126,346.12,346.113,346.107,346.093, 346.08,346.065,346.05,346.042,346.034, 346.026,346.018,346.009,346.001,345.988 ,345.979,345.969,345.96,345.95,345.94, 345.93,345.919,345.908,345.897,345.886, 345.875,345.863,345.844,345.838, 345.874)
ORBIT_NUMBER = 24104
ORBITAL_ECCENTRICITY = 0.572
ORBITAL_INCLINATION = 87.05
ORBITAL_SEMIMAJOR_AXIS = 8823.83
PERIAPSIS_ALTITUDE = 381.71
PERIAPSIS_ARGUMENT_ANGLE = 151.28
PERIAPSIS_TIME = 2023-02-01T05:04:30.000Z
SPACECRAFT_ORIENTATION = (0.0,-1.0,0.0)
^MEX_ORIENTATION_DESC = "MEX_ORIENTATION_DESC.TXT"
SPACECRAFT_POINTING_MODE = ACROSSTRACK
^MEX_POINTING_DESC = "MEX_POINTING_DESC.TXT"
RIGHT_ASCENSION = -1e+32
DECLINATION = -1e+32
OFFSET_ANGLE = -1.5
SPACECRAFT_SOLAR_DISTANCE = 2.39321e+08
TARGET_NAME = MARS
/* CAMERA DATA ELEMENTS */
DETECTOR_TEMPERATURE = 18.1666
FOCAL_PLANE_TEMPERATURE = 7.9716
INST_CMPRS_NAME = "DISCRETE COSINE TRANSFORMATION (DCT)"
INST_CMPRS_RATIO = 6.34782
INST_CMPRS_QUALITY = 0
INST_CMPRS_QUANTZ_TBL_ID = 0
INSTRUMENT_TEMPERATURE = 11.4379
LENS_TEMPERATURE = 8.5833
MACROPIXEL_SIZE = 4
MISSING_FRAMES = 0
PIXEL_SUBSAMPLING_FLAG = N
SIGNAL_CHAIN_ID = 2
/* RADIOMETRIC DATA ELEMENTS */
BANDWIDTH = 88.0
CENTER_FILTER_WAVELENGTH = 538.0
RADIANCE_OFFSET = 0.799331
RADIANCE_SCALING_FACTOR = 0.00260541
REFLECTANCE_SCALING_FACTOR = 0.000128476
MEX:REFLECTANCE_OFFSET = 0.039416
/* IMAGE OBJECT DEFINITIONS */
OBJECT = IMAGE
  INTERCHANGE_FORMAT = BINARY
  LINES = 17829
  LINE_SAMPLES = 2566
  SAMPLE_TYPE = UNSIGNED_INTEGER
  SAMPLE_BITS = 8
  BANDS = 1
  BAND_STORAGE_TYPE = BAND_SEQUENTIAL
  MAXIMUM = 255
  MEAN = 169.462
  MINIMUM = 1
  STANDARD_DEVIATION = 28.2156
END_OBJECT = IMAGE
/* MAP OBJECT DEFINITIONS */
OBJECT = IMAGE_MAP_PROJECTION
  ^DATA_SET_MAP_PROJECTION_CATALOG= "DSMAP.CAT"
  A_AXIS_RADIUS = 3396.0
  B_AXIS_RADIUS = 3396.0
  C_AXIS_RADIUS = 3396.0
  CENTER_LATITUDE = 0.0
  CENTER_LONGITUDE = 345.0
  COORDINATE_SYSTEM_NAME = PLANETOGRAPHIC
  COORDINATE_SYSTEM_TYPE = "BODY-FIXED ROTATING"
  EASTERNMOST_LONGITUDE = 346.217
  FIRST_STANDARD_PARALLEL = "N/A"
  LINE_FIRST_PIXEL = 1
  LINE_LAST_PIXEL = 17829
  LINE_PROJECTION_OFFSET = 54979.125
  MAP_PROJECTION_ROTATION = 0.0
  MAP_PROJECTION_TYPE = SINUSOIDAL
  MAP_RESOLUTION = 1185.42760773333
  MAP_SCALE = 0.05
  MAXIMUM_LATITUDE = 45.9513
  MINIMUM_LATITUDE = 31.3319
  POSITIVE_LONGITUDE_DIRECTION = EAST
  REFERENCE_LATITUDE = "N/A"
  REFERENCE_LONGITUDE = "N/A"
  SAMPLE_FIRST_PIXEL = 1
  SAMPLE_LAST_PIXEL = 2566
  SAMPLE_PROJECTION_OFFSET = 1334.625
  SECOND_STANDARD_PARALLEL = "N/A"
  WESTERNMOST_LONGITUDE = 343.433
END_OBJECT = IMAGE_MAP_PROJECTION
END
