PDS_VERSION_ID = PDS3
/* FILE DATA ELEMENTS */
RECORD_TYPE = UNDEFINED
/* POINTERS TO DATA OBJECTS */
^IMAGE = ("HO070_0000_ND4.TIF")
/* IDENTIFICATION DATA ELEMENTS */
DATA_SET_ID = "MEX-M-HRSC-4-REFDR-MAPPROJECT-EXT9-V4.0"
DATA_SET_NAME = "MARS EXPRESS HRSC MAP PROJECTED REFDR EXTENSION9 V4.0"
DETECTOR_ID = MEX_HRSC_NADIR
EVENT_TYPE = "MARS-LOCAL-CARTOGRAPHY-Te-Gl-Mw"
INSTRUMENT_HOST_ID = MEX
INSTRUMENT_HOST_NAME = "MARS EXPRESS"
INSTRUMENT_ID = HRSC
INSTRUMENT_NAME = "HIGH RESOLUTION STEREO CAMERA"
MISSION_NAME = "MARS EXPRESS"
MISSION_PHASE_NAME = ME_Phase_47
PROCESSING_LEVEL_ID = 4
PRODUCT_CREATION_TIME = 2023-11-14T12:58:33.000Z
PRODUCT_ID = "HO070_0000_ND4.TIF"
RELEASE_ID = 0001
REVISION_ID = 0000
/* QUALITY DATA ELEMENTS */
DATA_QUALITY_ID = 1
DATA_QUALITY_DESC = "Data calculated based on original SPICE kernels"
/* TIME DATA ELEMENTS */
SPACECRAFT_CLOCK_START_COUNT = "1/0622452638.23982"
SPACECRAFT_CLOCK_STOP_COUNT = "1/0622453199.56081"
START_TIME = 2023-01-22T07:32:03.793Z
STOP_TIME = 2023-01-22T07:39:22.487Z
/* ORBITAL DATA ELEMENTS */
ASCENDING_NODE_LONGITUDE = 126.27
MAXIMUM_RESOLUTION = 0.0152
FOOTPRINT_POINT_LATITUDE = (44.4046,44.3661,44.3655,44.365,43.4383 ,42.5257,41.9223,41.3293,40.737,40.1551 ,39.5719,38.7155,38.1441,37.5851, 37.0251,36.469,35.9214,35.3728,34.8267, 33.7545,32.6793,31.6015,30.5213,29.9804 ,29.439,28.8972,28.3549,27.8123,27.2693 ,26.7261,26.1826,25.6388,25.0948, 24.5507,24.0064,23.4621,22.9178,22.3733 ,21.8289,21.2846,20.7404,20.1964, 19.6524,19.1087,18.5652,18.0221,17.4792 ,16.9367,16.6656,16.65,16.6401,16.64, 16.6402,17.183,17.7262,18.2697,18.8136, 19.3577,19.9021,20.4467,20.9914,21.8087 ,22.3537,22.8987,23.4436,23.9886, 24.5335,25.0782,25.6228,26.1673,26.7115 ,27.2555,27.7992,28.3425,28.8855, 29.4281,29.9704,30.5121,31.0534,31.594, 32.6737,33.7508,34.8252,35.372,35.9218, 36.4706,37.0276,37.5888,38.1491,38.7216 ,39.5801,40.165,40.7486,41.3423,41.9373 ,42.5423,43.4577,44.0753,44.3877, 44.4046)
FOOTPRINT_POINT_LONGITUDE = (220.687,218.407,218.384,218.339, 218.409,218.471,218.511,218.547,218.582 ,218.615,218.646,218.689,218.717, 218.745,218.769,218.792,218.814,218.836 ,218.855,218.887,218.916,218.942, 218.968,218.978,218.989,218.998,219.006 ,219.015,219.022,219.028,219.033, 219.038,219.043,219.047,219.049,219.051 ,219.052,219.054,219.055,219.055, 219.054,219.053,219.052,219.05,219.048, 219.044,219.04,219.036,219.034,219.034, 220.421,220.435,220.441,220.445,220.448 ,220.452,220.457,220.462,220.467, 220.471,220.476,220.484,220.489,220.494 ,220.499,220.504,220.508,220.514, 220.517,220.522,220.528,220.533,220.539 ,220.544,220.549,220.555,220.562, 220.567,220.574,220.579,220.59,220.601, 220.612,220.618,220.624,220.63,220.638, 220.641,220.646,220.653,220.667,220.674 ,220.68,220.686,220.693,220.699,220.709 ,220.715,220.719,220.687)
ORBIT_NUMBER = 24070
ORBITAL_ECCENTRICITY = 0.573
ORBITAL_INCLINATION = 87.05
ORBITAL_SEMIMAJOR_AXIS = 8839.4
PERIAPSIS_ALTITUDE = 377.64
PERIAPSIS_ARGUMENT_ANGLE = 157.13
PERIAPSIS_TIME = 2023-01-22T07:37:45.000Z
SPACECRAFT_ORIENTATION = (0.0,-1.0,0.0)
^MEX_ORIENTATION_DESC = "MEX_ORIENTATION_DESC.TXT"
SPACECRAFT_POINTING_MODE = NADIR
^MEX_POINTING_DESC = "MEX_POINTING_DESC.TXT"
RIGHT_ASCENSION = -1e+32
DECLINATION = -1e+32
OFFSET_ANGLE = -1e+32
SPACECRAFT_SOLAR_DISTANCE = 2.37724e+08
TARGET_NAME = MARS
/* CAMERA DATA ELEMENTS */
DETECTOR_TEMPERATURE = 19.1861
FOCAL_PLANE_TEMPERATURE = 10.2145
INST_CMPRS_NAME = "DISCRETE COSINE TRANSFORMATION (DCT)"
INST_CMPRS_RATIO = 5.02384
INST_CMPRS_QUALITY = 0
INST_CMPRS_QUANTZ_TBL_ID = 0
INSTRUMENT_TEMPERATURE = 12.2535
LENS_TEMPERATURE = 10.2145
MACROPIXEL_SIZE = 1
MISSING_FRAMES = 0
PIXEL_SUBSAMPLING_FLAG = N
SIGNAL_CHAIN_ID = 0
/* RADIOMETRIC DATA ELEMENTS */
BANDWIDTH = 177.0
CENTER_FILTER_WAVELENGTH = 677.5
RADIANCE_OFFSET = 1.57388
RADIANCE_SCALING_FACTOR = 0.022484
REFLECTANCE_SCALING_FACTOR = 0.000674994
MEX:REFLECTANCE_OFFSET = 0.0472496
/* IMAGE OBJECT DEFINITIONS */
OBJECT = IMAGE
  INTERCHANGE_FORMAT = BINARY
  LINES = 131658
  LINE_SAMPLES = 8072
  SAMPLE_TYPE = UNSIGNED_INTEGER
  SAMPLE_BITS = 8
  BANDS = 1
  BAND_STORAGE_TYPE = BAND_SEQUENTIAL
  MAXIMUM = 255
  MEAN = 99.7505
  MINIMUM = 1
  STANDARD_DEVIATION = 20.2703
END_OBJECT = IMAGE
/* MAP OBJECT DEFINITIONS */
OBJECT = IMAGE_MAP_PROJECTION
  ^DATA_SET_MAP_PROJECTION_CATALOG= "DSMAP.CAT"
  A_AXIS_RADIUS = 3396.0
  B_AXIS_RADIUS = 3396.0
  C_AXIS_RADIUS = 3396.0
  CENTER_LATITUDE = 0.0
  CENTER_LONGITUDE = 220.0
  COORDINATE_SYSTEM_NAME = PLANETOGRAPHIC
  COORDINATE_SYSTEM_TYPE = "BODY-FIXED ROTATING"
  EASTERNMOST_LONGITUDE = 220.719
  FIRST_STANDARD_PARALLEL = "N/A"
  LINE_FIRST_PIXEL = 1
  LINE_LAST_PIXEL = 131658
  LINE_PROJECTION_OFFSET = 210559.0
  MAP_PROJECTION_ROTATION = 0.0
  MAP_PROJECTION_TYPE = SINUSOIDAL
  MAP_RESOLUTION = 4741.71043093333
  MAP_SCALE = 0.0125
  MAXIMUM_LATITUDE = 44.4046
  MINIMUM_LATITUDE = 16.64
  POSITIVE_LONGITUDE_DIRECTION = EAST
  REFERENCE_LATITUDE = "N/A"
  REFERENCE_LONGITUDE = "N/A"
  SAMPLE_FIRST_PIXEL = 1
  SAMPLE_LAST_PIXEL = 8072
  SAMPLE_PROJECTION_OFFSET = 5627.0
  SECOND_STANDARD_PARALLEL = "N/A"
  WESTERNMOST_LONGITUDE = 218.339
END_OBJECT = IMAGE_MAP_PROJECTION
END
